BEGIN:VCALENDAR
VERSION:2.0
PRODID:-//Neighborhood Friends Church - ECPv6.15.20//NONSGML v1.0//EN
CALSCALE:GREGORIAN
METHOD:PUBLISH
X-ORIGINAL-URL:https://neighborhoodfriends.org
X-WR-CALDESC:Events for Neighborhood Friends Church
REFRESH-INTERVAL;VALUE=DURATION:PT1H
X-Robots-Tag:noindex
X-PUBLISHED-TTL:PT1H
BEGIN:VTIMEZONE
TZID:America/Denver
BEGIN:DAYLIGHT
TZOFFSETFROM:-0700
TZOFFSETTO:-0600
TZNAME:MDT
DTSTART:20230312T090000
END:DAYLIGHT
BEGIN:STANDARD
TZOFFSETFROM:-0600
TZOFFSETTO:-0700
TZNAME:MST
DTSTART:20231105T080000
END:STANDARD
BEGIN:DAYLIGHT
TZOFFSETFROM:-0700
TZOFFSETTO:-0600
TZNAME:MDT
DTSTART:20240310T090000
END:DAYLIGHT
BEGIN:STANDARD
TZOFFSETFROM:-0600
TZOFFSETTO:-0700
TZNAME:MST
DTSTART:20241103T080000
END:STANDARD
BEGIN:DAYLIGHT
TZOFFSETFROM:-0700
TZOFFSETTO:-0600
TZNAME:MDT
DTSTART:20250309T090000
END:DAYLIGHT
BEGIN:STANDARD
TZOFFSETFROM:-0600
TZOFFSETTO:-0700
TZNAME:MST
DTSTART:20251102T080000
END:STANDARD
END:VTIMEZONE
BEGIN:VEVENT
DTSTART;TZID=America/Denver:20241207T070000
DTEND;TZID=America/Denver:20241207T083000
DTSTAMP:20260424T063159
CREATED:20241130T170445Z
LAST-MODIFIED:20241130T170446Z
UID:4144-1733554800-1733560200@neighborhoodfriends.org
SUMMARY:MEN'S COFFEE LIFEGROUP
DESCRIPTION:Men’s CoffeeWhen: Every Saturday morning\, 7:00 AMWhere: Red Silo Coffee\, Arvada \nStart your weekend with a cup of coffee and great conversation about life and Jesus. This is a casual\, welcoming space for men to connect\, share\, and grow together. \nContact: dstooke@neighborhoodfriends.org for more details.
URL:https://neighborhoodfriends.org/event/mens-coffee-lifegroup-70/
LOCATION:Red Silo Coffee Roasters\, 6590 Holman St\, Arvada\, CO\, United States
END:VEVENT
BEGIN:VEVENT
DTSTART;TZID=America/Denver:20241207T100000
DTEND;TZID=America/Denver:20241207T120000
DTSTAMP:20260424T063159
CREATED:20241130T173026Z
LAST-MODIFIED:20241130T173045Z
UID:4579-1733565600-1733572800@neighborhoodfriends.org
SUMMARY:LADIES CHRISTMAS BRUNCH
DESCRIPTION:Join us for our Annual Ladies’ Christmas Brunch on Saturday\, December 7th\, from 10 AM to 12 PM! Bring your favorite brunch dish to share—drinks will be provided. \nThis year\, we’re spreading extra holiday cheer by blessing the residents of The Oberon House. Please consider donating a plate of cookies and a few blank Christmas cards to help make their season bright. \nWe can’t wait to celebrate this special time of year with you!
URL:https://neighborhoodfriends.org/event/ladies-christmas-brunch/
END:VEVENT
END:VCALENDAR