BEGIN:VCALENDAR
VERSION:2.0
PRODID:-//Neighborhood Friends Church - ECPv6.15.20//NONSGML v1.0//EN
CALSCALE:GREGORIAN
METHOD:PUBLISH
X-ORIGINAL-URL:https://neighborhoodfriends.org
X-WR-CALDESC:Events for Neighborhood Friends Church
REFRESH-INTERVAL;VALUE=DURATION:PT1H
X-Robots-Tag:noindex
X-PUBLISHED-TTL:PT1H
BEGIN:VTIMEZONE
TZID:America/Denver
BEGIN:DAYLIGHT
TZOFFSETFROM:-0700
TZOFFSETTO:-0600
TZNAME:MDT
DTSTART:20240310T090000
END:DAYLIGHT
BEGIN:STANDARD
TZOFFSETFROM:-0600
TZOFFSETTO:-0700
TZNAME:MST
DTSTART:20241103T080000
END:STANDARD
BEGIN:DAYLIGHT
TZOFFSETFROM:-0700
TZOFFSETTO:-0600
TZNAME:MDT
DTSTART:20250309T090000
END:DAYLIGHT
BEGIN:STANDARD
TZOFFSETFROM:-0600
TZOFFSETTO:-0700
TZNAME:MST
DTSTART:20251102T080000
END:STANDARD
BEGIN:DAYLIGHT
TZOFFSETFROM:-0700
TZOFFSETTO:-0600
TZNAME:MDT
DTSTART:20260308T090000
END:DAYLIGHT
BEGIN:STANDARD
TZOFFSETFROM:-0600
TZOFFSETTO:-0700
TZNAME:MST
DTSTART:20261101T080000
END:STANDARD
END:VTIMEZONE
BEGIN:VEVENT
DTSTART;TZID=America/Denver:20250415T180000
DTEND;TZID=America/Denver:20250415T193000
DTSTAMP:20260424T012901
CREATED:20241130T170528Z
LAST-MODIFIED:20250413T161616Z
UID:4300-1744740000-1744745400@neighborhoodfriends.org
SUMMARY:WOMEN'S LIFEGROUP
DESCRIPTION:Women’s LifeGroupWhen: Every Tuesday night\, 6:00 PM – 7:30 PMWhere: Rhonda Hinshaw’s Home \nLadies\, join us for an uplifting time of fellowship and spiritual growth as we dive into God’s Word together. Whether you’re new to the group or a long-time participant\, we’d love to have you! \nContact: Rhonda Hinshaw at rhinshaw@neighborhoodfriends.org for more information and address
URL:https://neighborhoodfriends.org/event/womens-lifegroup-20/
END:VEVENT
BEGIN:VEVENT
DTSTART;TZID=America/Denver:20250415T180000
DTEND;TZID=America/Denver:20250415T200000
DTSTAMP:20260424T012901
CREATED:20250413T161616Z
LAST-MODIFIED:20250413T161616Z
UID:4804-1744740000-1744747200@neighborhoodfriends.org
SUMMARY:
DESCRIPTION:Journey Through the Passover Dinner\nTuesday\, April 15th | 6:00 PMNeighborhood Friends Church$22/person or $80/table of 4\nJoin us for a unique and interactive Passover Dinner experience! Hosted by Alex Kraft\, this evening will take you on a hands-on journey through the Passover\, exploring over 24 connections to Jesus within this sacred meal.\nWhat to Expect:A full meal including lamb\, matzo ball soup\, chicken\, potatoes\, and saladA new journey experience through the Passover storyInteractive learning and activities for all ages (kids included!)\nThis year’s dinner is more affordable\, and if cost is a concern\, don’t let that stop you—we’ll cover your seat.\nReserve your spot today! You won’t want to miss this powerful and memorable night of food\, fellowship\, and faith.\nFor more info or to RSVP\, contact Alex Kraft: akraft@neighborhoodfriends.org\nSAVE YOUR SEATS:https://www.eventbrite.com/e/2025-nfc-passover-seder-dinner-registration-1281240778659?aff=oddtdtcreator
URL:https://neighborhoodfriends.org/event/4804/
END:VEVENT
BEGIN:VEVENT
DTSTART;TZID=America/Denver:20250415T180000
DTEND;TZID=America/Denver:20250415T200000
DTSTAMP:20260424T012901
CREATED:20250413T161618Z
LAST-MODIFIED:20250413T161618Z
UID:4805-1744740000-1744747200@neighborhoodfriends.org
SUMMARY:
DESCRIPTION:Journey Through the Passover Dinner\nTuesday\, April 15th | 6:00 PMNeighborhood Friends Church$22/person or $80/table of 4\nJoin us for a unique and interactive Passover Dinner experience! Hosted by Alex Kraft\, this evening will take you on a hands-on journey through the Passover\, exploring over 24 connections to Jesus within this sacred meal.\nWhat to Expect:A full meal including lamb\, matzo ball soup\, chicken\, potatoes\, and saladA new journey experience through the Passover storyInteractive learning and activities for all ages (kids included!)\nThis year’s dinner is more affordable\, and if cost is a concern\, don’t let that stop you—we’ll cover your seat.\nReserve your spot today! You won’t want to miss this powerful and memorable night of food\, fellowship\, and faith.\nFor more info or to RSVP\, contact Alex Kraft: akraft@neighborhoodfriends.org\nSAVE YOUR SEATS:https://www.eventbrite.com/e/2025-nfc-passover-seder-dinner-registration-1281240778659?aff=oddtdtcreator
URL:https://neighborhoodfriends.org/event/4805/
END:VEVENT
BEGIN:VEVENT
DTSTART;TZID=America/Denver:20250415T181500
DTEND;TZID=America/Denver:20250415T193000
DTSTAMP:20260424T012901
CREATED:20241130T170529Z
LAST-MODIFIED:20250413T161614Z
UID:4302-1744740900-1744745400@neighborhoodfriends.org
SUMMARY:MEN'S LIFEGROUP
DESCRIPTION:Men’s LifeGroupWhen: Every Tuesday night\, 6:15 PM – 7:30 PMWhere: Pastor Donnie’s Office\, Neighborhood Friends Church \nJoin us for an engaging time of fellowship\, study\, and discussion as we grow together in our faith. Whether you’re a regular or a first-time visitor\, you’re welcome to dive into God’s Word with us. We look forward to seeing you there! \nContact: dhinshaw@neighborhoodfriends.org
URL:https://neighborhoodfriends.org/event/mens-lifegroup-20/
LOCATION:Neighborhood Friends Church\, 9889 W 66th Ave\, Arvada\, CO\, United States
END:VEVENT
BEGIN:VEVENT
DTSTART;TZID=America/Denver:20250415T183000
DTEND;TZID=America/Denver:20250415T200000
DTSTAMP:20260424T012901
CREATED:20241130T170528Z
LAST-MODIFIED:20250413T161617Z
UID:4301-1744741800-1744747200@neighborhoodfriends.org
SUMMARY:YOUNG ADULTS LIFEGROUP
DESCRIPTION:Neighborhood Young AdultsWhen: Every Tuesday night\, 6:30 PM – 8:00 PM  Where: Various homes and locations   \nYoung adults\, this is your space to connect\, grow\, and build meaningful community! Each week\, we gather to share life\, dive into God’s Word\, and encourage one another in our faith journeys.   \nContact: Jordan Nockels at jnockels@neighborhoodfriends.org for this week’s location and more details.
URL:https://neighborhoodfriends.org/event/neighborhood-young-adults-20/
END:VEVENT
END:VCALENDAR