BEGIN:VCALENDAR
VERSION:2.0
PRODID:-//Neighborhood Friends Church - ECPv6.15.20//NONSGML v1.0//EN
CALSCALE:GREGORIAN
METHOD:PUBLISH
X-WR-CALNAME:Neighborhood Friends Church
X-ORIGINAL-URL:https://neighborhoodfriends.org
X-WR-CALDESC:Events for Neighborhood Friends Church
REFRESH-INTERVAL;VALUE=DURATION:PT1H
X-Robots-Tag:noindex
X-PUBLISHED-TTL:PT1H
BEGIN:VTIMEZONE
TZID:America/Denver
BEGIN:DAYLIGHT
TZOFFSETFROM:-0700
TZOFFSETTO:-0600
TZNAME:MDT
DTSTART:20240310T090000
END:DAYLIGHT
BEGIN:STANDARD
TZOFFSETFROM:-0600
TZOFFSETTO:-0700
TZNAME:MST
DTSTART:20241103T080000
END:STANDARD
BEGIN:DAYLIGHT
TZOFFSETFROM:-0700
TZOFFSETTO:-0600
TZNAME:MDT
DTSTART:20250309T090000
END:DAYLIGHT
BEGIN:STANDARD
TZOFFSETFROM:-0600
TZOFFSETTO:-0700
TZNAME:MST
DTSTART:20251102T080000
END:STANDARD
BEGIN:DAYLIGHT
TZOFFSETFROM:-0700
TZOFFSETTO:-0600
TZNAME:MDT
DTSTART:20260308T090000
END:DAYLIGHT
BEGIN:STANDARD
TZOFFSETFROM:-0600
TZOFFSETTO:-0700
TZNAME:MST
DTSTART:20261101T080000
END:STANDARD
END:VTIMEZONE
BEGIN:VEVENT
DTSTART;VALUE=DATE:20250523
DTEND;VALUE=DATE:20250526
DTSTAMP:20260424T000132
CREATED:20250503T215613Z
LAST-MODIFIED:20250525T143900Z
UID:5216-1747958400-1748217599@neighborhoodfriends.org
SUMMARY:Ministry Conference & Family Getaway
DESCRIPTION:Ministry Conference & Family Getaway\nMemorial Weekend | May 23–25\, 2025Quaker Ridge Camp & Conference Center\, Woodland Park\, CO \nJoin us for a powerful weekend of worship\, teaching\, and fun for the whole family at the Rocky Mountain Yearly Meeting’s Ministry Conference! \nTheme: Go! Equip\, Energize\, Establish.Speaker: Jim LeShana (NWYM)Events for all ages \nFree lodging providedRegister your family hereMore info \nDon’t miss this chance to grow deeper together with Friends from all over the region!
URL:https://neighborhoodfriends.org/event/ministry-conference-family-getaway/
LOCATION:Quaker Ridge Camp & Conference Center\, 30150 State Hwy 67\, Woodland Park\, CO\, United States
END:VEVENT
BEGIN:VEVENT
DTSTART;TZID=America/Denver:20250525T100000
DTEND;TZID=America/Denver:20250525T113000
DTSTAMP:20260424T000132
CREATED:20250413T161713Z
LAST-MODIFIED:20250525T143906Z
UID:4826-1748167200-1748172600@neighborhoodfriends.org
SUMMARY:SUNDAY WORSHIP GATHERING
DESCRIPTION:Sunday Worship Gathering🗓 Every Sunday☕ 10:00 AM – Coffee & Fellowship⏰ 10:30 AM – Worship Gathering📍 Neighborhood Friends Church\, Arvada\, CO \nCome early at 10:00 AM to connect over coffee and fellowship before we begin worship at 10:30. NKids Church is available for children (toddlers through 5th grade). Check in your kids at the NKids Desk in the lobby before service starts\, and they’ll join us for the first worship set before being dismissed to NKids Church. \nJoin us as we come together to worship\, grow\, and share in Christ’s love. See you there!
URL:https://neighborhoodfriends.org/event/sunday-worship-gathering-41/
LOCATION:Neighborhood Friends Church\, 9889 W 66th Ave\, Arvada\, CO\, United States
END:VEVENT
BEGIN:VEVENT
DTSTART;TZID=America/Denver:20250525T100000
DTEND;TZID=America/Denver:20250525T120000
DTSTAMP:20260424T000132
CREATED:20241130T170542Z
LAST-MODIFIED:20241217T143253Z
UID:4350-1748167200-1748174400@neighborhoodfriends.org
SUMMARY:SUNDAY WORSHIP GATHERING
DESCRIPTION:Sunday Worship GatheringWhen: Sundays at Neighborhood Friends Church \n\n10:00 AM – Coffee and Pastries\n10:30 AM – Worship and Teaching\n\nJoin us for a meaningful Sunday morning filled with worship\, teaching\, and community. Kids from Littles through 5th Grade can enjoy their own engaging teaching and activities following the worship set. We look forward to worshiping with you!  For more information: info@neighborhoodfriends.org
URL:https://neighborhoodfriends.org/event/sunday-worship-gathering-26/
LOCATION:Neighborhood Friends Church\, 9889 W 66th Ave\, Arvada\, CO\, United States
END:VEVENT
BEGIN:VEVENT
DTSTART;TZID=America/Denver:20250525T160000
DTEND;TZID=America/Denver:20250525T200000
DTSTAMP:20260424T000132
CREATED:20241217T143253Z
LAST-MODIFIED:20241217T143253Z
UID:4644-1748188800-1748203200@neighborhoodfriends.org
SUMMARY:Jesu cristo Rey de Reyes Service
DESCRIPTION:Join with Google Meet: https://meet.google.com/xmh-xhke-oyg\nOr dial: (US) +1 260-557-1985 PIN: 521074753#\nMore phone numbers: https://tel.meet/xmh-xhke-oyg?pin=8120562656953&hs=7\nLearn more about Meet at: https://support.google.com/a/users/answer/9282720
URL:https://neighborhoodfriends.org/event/jesu-cristo-rey-de-reyes-service-21/
ORGANIZER;CN="mbins@neighborhoodfriends.org":MAILTO:mbins@neighborhoodfriends.org
END:VEVENT
BEGIN:VEVENT
DTSTART;TZID=America/Denver:20250525T160000
DTEND;TZID=America/Denver:20250525T200000
DTSTAMP:20260424T000132
CREATED:20250413T161715Z
LAST-MODIFIED:20250525T143907Z
UID:4827-1748188800-1748203200@neighborhoodfriends.org
SUMMARY:Jesu Cristo Rey de Reyes Church (Spanish Worship Service)
DESCRIPTION:
URL:https://neighborhoodfriends.org/event/jesu-cristo-rey-de-reyes-church-spanish-worship-service-8/
END:VEVENT
END:VCALENDAR