BEGIN:VCALENDAR
VERSION:2.0
PRODID:-//Neighborhood Friends Church - ECPv6.15.20//NONSGML v1.0//EN
CALSCALE:GREGORIAN
METHOD:PUBLISH
X-ORIGINAL-URL:https://neighborhoodfriends.org
X-WR-CALDESC:Events for Neighborhood Friends Church
REFRESH-INTERVAL;VALUE=DURATION:PT1H
X-Robots-Tag:noindex
X-PUBLISHED-TTL:PT1H
BEGIN:VTIMEZONE
TZID:America/Denver
BEGIN:DAYLIGHT
TZOFFSETFROM:-0700
TZOFFSETTO:-0600
TZNAME:MDT
DTSTART:20240310T090000
END:DAYLIGHT
BEGIN:STANDARD
TZOFFSETFROM:-0600
TZOFFSETTO:-0700
TZNAME:MST
DTSTART:20241103T080000
END:STANDARD
BEGIN:DAYLIGHT
TZOFFSETFROM:-0700
TZOFFSETTO:-0600
TZNAME:MDT
DTSTART:20250309T090000
END:DAYLIGHT
BEGIN:STANDARD
TZOFFSETFROM:-0600
TZOFFSETTO:-0700
TZNAME:MST
DTSTART:20251102T080000
END:STANDARD
BEGIN:DAYLIGHT
TZOFFSETFROM:-0700
TZOFFSETTO:-0600
TZNAME:MDT
DTSTART:20260308T090000
END:DAYLIGHT
BEGIN:STANDARD
TZOFFSETFROM:-0600
TZOFFSETTO:-0700
TZNAME:MST
DTSTART:20261101T080000
END:STANDARD
END:VTIMEZONE
BEGIN:VEVENT
DTSTART;TZID=America/Denver:20250606T180000
DTEND;TZID=America/Denver:20250606T203000
DTSTAMP:20260423T224825
CREATED:20250503T215633Z
LAST-MODIFIED:20250606T025259Z
UID:5218-1749232800-1749241800@neighborhoodfriends.org
SUMMARY:MEN'S MEAT NIGHT
DESCRIPTION:Men’s Meat Night\nFriday\, June 6th | 6:00 PM \nBrian Kooser’s Backyard  \n6248 Braun CircleArvada\, CO 80004United States \nIt’s back! Calling all guys — join us for a chill evening of grilled meat (Bring your favorite cut of meat and we’ll grill it)\, good conversation\, and great company. Whether you’re new or have been around for years\, this is a great way to connect. \nBring a friend — and maybe your favorite cut of meat to throw on the grill!No RSVP needed. Just show up hungry!
URL:https://neighborhoodfriends.org/event/mens-meat-night/
LOCATION:6248 Braun Circle Arvada\, Arvada\, CO\, United States
END:VEVENT
END:VCALENDAR