BEGIN:VCALENDAR
VERSION:2.0
PRODID:-//Neighborhood Friends Church - ECPv6.15.20//NONSGML v1.0//EN
CALSCALE:GREGORIAN
METHOD:PUBLISH
X-ORIGINAL-URL:https://neighborhoodfriends.org
X-WR-CALDESC:Events for Neighborhood Friends Church
REFRESH-INTERVAL;VALUE=DURATION:PT1H
X-Robots-Tag:noindex
X-PUBLISHED-TTL:PT1H
BEGIN:VTIMEZONE
TZID:America/Chicago
BEGIN:DAYLIGHT
TZOFFSETFROM:-0600
TZOFFSETTO:-0500
TZNAME:CDT
DTSTART:20240310T080000
END:DAYLIGHT
BEGIN:STANDARD
TZOFFSETFROM:-0500
TZOFFSETTO:-0600
TZNAME:CST
DTSTART:20241103T070000
END:STANDARD
BEGIN:DAYLIGHT
TZOFFSETFROM:-0600
TZOFFSETTO:-0500
TZNAME:CDT
DTSTART:20250309T080000
END:DAYLIGHT
BEGIN:STANDARD
TZOFFSETFROM:-0500
TZOFFSETTO:-0600
TZNAME:CST
DTSTART:20251102T070000
END:STANDARD
BEGIN:DAYLIGHT
TZOFFSETFROM:-0600
TZOFFSETTO:-0500
TZNAME:CDT
DTSTART:20260308T080000
END:DAYLIGHT
BEGIN:STANDARD
TZOFFSETFROM:-0500
TZOFFSETTO:-0600
TZNAME:CST
DTSTART:20261101T070000
END:STANDARD
END:VTIMEZONE
BEGIN:VEVENT
DTSTART;TZID=America/Chicago:20250607T143000
DTEND;TZID=America/Chicago:20250607T163000
DTSTAMP:20260423T224825
CREATED:20250515T122507Z
LAST-MODIFIED:20250515T122507Z
UID:5281-1749306600-1749313800@neighborhoodfriends.org
SUMMARY:Women's Mad Hatter Afternoon Tea 
DESCRIPTION:Women’s Mad Hatter Afternoon Tea \nJune 7th 2:30 pm | Denver Friends Church\n\n\n\nDenver Friends Women invites you to join us at Denver Friends Church\nSpeaker — Rhonda Hinshaw\nDesign your own Mad Hatter Hat\nto wear to the Tea Party\nPrizes for the best looking and most original for women and for girls\nYou are also invited to host and decorate a table for the tea\nTo purchase tickets and to host\na table call or text Judy at 303-478-8718 Women and girls over 10 — $10.00 Girls 5 to 9 — $5.00
URL:https://neighborhoodfriends.org/event/womens-mad-hatter-afternoon-tea/
LOCATION:First Denver Friends Church\, 4595 Eliot St\, Denver\, CO\, 80211\, United States
CATEGORIES:SPECIAL EVENTS
END:VEVENT
END:VCALENDAR