BEGIN:VCALENDAR
VERSION:2.0
PRODID:-//Neighborhood Friends Church - ECPv6.15.20//NONSGML v1.0//EN
CALSCALE:GREGORIAN
METHOD:PUBLISH
X-ORIGINAL-URL:https://neighborhoodfriends.org
X-WR-CALDESC:Events for Neighborhood Friends Church
REFRESH-INTERVAL;VALUE=DURATION:PT1H
X-Robots-Tag:noindex
X-PUBLISHED-TTL:PT1H
BEGIN:VTIMEZONE
TZID:America/Denver
BEGIN:DAYLIGHT
TZOFFSETFROM:-0700
TZOFFSETTO:-0600
TZNAME:MDT
DTSTART:20240310T090000
END:DAYLIGHT
BEGIN:STANDARD
TZOFFSETFROM:-0600
TZOFFSETTO:-0700
TZNAME:MST
DTSTART:20241103T080000
END:STANDARD
BEGIN:DAYLIGHT
TZOFFSETFROM:-0700
TZOFFSETTO:-0600
TZNAME:MDT
DTSTART:20250309T090000
END:DAYLIGHT
BEGIN:STANDARD
TZOFFSETFROM:-0600
TZOFFSETTO:-0700
TZNAME:MST
DTSTART:20251102T080000
END:STANDARD
BEGIN:DAYLIGHT
TZOFFSETFROM:-0700
TZOFFSETTO:-0600
TZNAME:MDT
DTSTART:20260308T090000
END:DAYLIGHT
BEGIN:STANDARD
TZOFFSETFROM:-0600
TZOFFSETTO:-0700
TZNAME:MST
DTSTART:20261101T080000
END:STANDARD
END:VTIMEZONE
BEGIN:VEVENT
DTSTART;VALUE=DATE:20250707
DTEND;VALUE=DATE:20250713
DTSTAMP:20260423T213906
CREATED:20250606T025340Z
LAST-MODIFIED:20250712T022548Z
UID:5372-1751846400-1752364799@neighborhoodfriends.org
SUMMARY:FX Camp 2025 at Quaker Ridge
DESCRIPTION:FX Camp 2025 at Quaker Ridge \n📅 July 7–12\, 2025📍 Quaker Ridge Camp\, Woodland Park\, CO💲 $480 (Returning Campers) | $380 (First-Time Campers) \nJoin us for an unforgettable week in the Colorado mountains at FX Camp! Designed for students entering 4th grade through recent high school graduates\, this camp offers a perfect blend of adventure\, community\, and spiritual growth.Enjoy activities like swimming\, archery\, horseback riding\, and hiking\, all while deepening your faith through worship and Bible study.rmym.org+2rmymyouth.com+2allevents.in+2rmymyouth.com \nDon’t miss this opportunity to connect\, grow\, and have a blast! \n👉 Register Now
URL:https://neighborhoodfriends.org/event/fx-camp-2025-at-quaker-ridge/
LOCATION:Quaker Ridge Camp & Conference Center\, 30150 State Hwy 67\, Woodland Park\, CO\, United States
END:VEVENT
END:VCALENDAR