BEGIN:VCALENDAR
VERSION:2.0
PRODID:-//Neighborhood Friends Church - ECPv6.15.20//NONSGML v1.0//EN
CALSCALE:GREGORIAN
METHOD:PUBLISH
X-WR-CALNAME:Neighborhood Friends Church
X-ORIGINAL-URL:https://neighborhoodfriends.org
X-WR-CALDESC:Events for Neighborhood Friends Church
REFRESH-INTERVAL;VALUE=DURATION:PT1H
X-Robots-Tag:noindex
X-PUBLISHED-TTL:PT1H
BEGIN:VTIMEZONE
TZID:America/Denver
BEGIN:DAYLIGHT
TZOFFSETFROM:-0700
TZOFFSETTO:-0600
TZNAME:MDT
DTSTART:20240310T090000
END:DAYLIGHT
BEGIN:STANDARD
TZOFFSETFROM:-0600
TZOFFSETTO:-0700
TZNAME:MST
DTSTART:20241103T080000
END:STANDARD
BEGIN:DAYLIGHT
TZOFFSETFROM:-0700
TZOFFSETTO:-0600
TZNAME:MDT
DTSTART:20250309T090000
END:DAYLIGHT
BEGIN:STANDARD
TZOFFSETFROM:-0600
TZOFFSETTO:-0700
TZNAME:MST
DTSTART:20251102T080000
END:STANDARD
BEGIN:DAYLIGHT
TZOFFSETFROM:-0700
TZOFFSETTO:-0600
TZNAME:MDT
DTSTART:20260308T090000
END:DAYLIGHT
BEGIN:STANDARD
TZOFFSETFROM:-0600
TZOFFSETTO:-0700
TZNAME:MST
DTSTART:20261101T080000
END:STANDARD
END:VTIMEZONE
BEGIN:VEVENT
DTSTART;TZID=America/Denver:20250726T100000
DTEND;TZID=America/Denver:20250726T140000
DTSTAMP:20260423T213911
CREATED:20250606T025353Z
LAST-MODIFIED:20250716T041131Z
UID:5373-1753524000-1753538400@neighborhoodfriends.org
SUMMARY:3rd Annual NFC Classic Car & Motorcycle Show
DESCRIPTION:🚗 3rd Annual NFC Classic Car & Motorcycle Show\n📅 Saturday\, July 26th | 🕙 10:00 AM–2:00 PM📍 Neighborhood Friends Church – 9889 W 66th Ave\, Arvada\, CO \nRev up for an unforgettable day of cars\, community\, and celebration! Whether you love classic cruisers\, vintage bikes\, or custom hot rods\, this is the event for you! \n🎶 Live music by Maverick Mike🍔 Delicious food & drinks🎟️ Raffles + Giveaways🏆 Trophies awarded for:• People’s Choice• Hot Rod• Rat Rod• Truck• Vintage \nWant to show your car or bike?No pre-registration needed—just roll in and register the day of the event!📧 For more info: nfccarshow@yahoo.com \nBring the whole family for a fun\, high-octane summer day!
URL:https://neighborhoodfriends.org/event/3rd-annual-nfc-classic-car-motorcycle-show/
END:VEVENT
END:VCALENDAR