BEGIN:VCALENDAR
VERSION:2.0
PRODID:-//Neighborhood Friends Church - ECPv6.15.20//NONSGML v1.0//EN
CALSCALE:GREGORIAN
METHOD:PUBLISH
X-WR-CALNAME:Neighborhood Friends Church
X-ORIGINAL-URL:https://neighborhoodfriends.org
X-WR-CALDESC:Events for Neighborhood Friends Church
REFRESH-INTERVAL;VALUE=DURATION:PT1H
X-Robots-Tag:noindex
X-PUBLISHED-TTL:PT1H
BEGIN:VTIMEZONE
TZID:America/Denver
BEGIN:DAYLIGHT
TZOFFSETFROM:-0700
TZOFFSETTO:-0600
TZNAME:MDT
DTSTART:20240310T090000
END:DAYLIGHT
BEGIN:STANDARD
TZOFFSETFROM:-0600
TZOFFSETTO:-0700
TZNAME:MST
DTSTART:20241103T080000
END:STANDARD
BEGIN:DAYLIGHT
TZOFFSETFROM:-0700
TZOFFSETTO:-0600
TZNAME:MDT
DTSTART:20250309T090000
END:DAYLIGHT
BEGIN:STANDARD
TZOFFSETFROM:-0600
TZOFFSETTO:-0700
TZNAME:MST
DTSTART:20251102T080000
END:STANDARD
BEGIN:DAYLIGHT
TZOFFSETFROM:-0700
TZOFFSETTO:-0600
TZNAME:MDT
DTSTART:20260308T090000
END:DAYLIGHT
BEGIN:STANDARD
TZOFFSETFROM:-0600
TZOFFSETTO:-0700
TZNAME:MST
DTSTART:20261101T080000
END:STANDARD
END:VTIMEZONE
BEGIN:VEVENT
DTSTART;VALUE=DATE:20250823
DTEND;VALUE=DATE:20250824
DTSTAMP:20260423T202646
CREATED:20250526T232134Z
LAST-MODIFIED:20250816T231157Z
UID:5330-1755907200-1755993599@neighborhoodfriends.org
SUMMARY:Church Reserved for Wedding Reception (Hinshaw)
DESCRIPTION:
URL:https://neighborhoodfriends.org/event/church-reserved-for-wedding-reception-hinshaw/
END:VEVENT
BEGIN:VEVENT
DTSTART;TZID=America/Denver:20250823T150000
DTEND;TZID=America/Denver:20250823T170000
DTSTAMP:20260423T202646
CREATED:20250526T232135Z
LAST-MODIFIED:20250816T231156Z
UID:5331-1755961200-1755968400@neighborhoodfriends.org
SUMMARY:Wedding Reception Open House for Bryan & Lauren Gager
DESCRIPTION:Wedding Reception Open House for Bryan & Lauren Gager\nDate: Friday\, August 23\, 2025Time: 3:00–5:00 PMLocation: Neighborhood Friends ChurchDetails:Join us for a special open house celebration honoring Bryan & Lauren Gager! Our church family is invited to stop by and share in the joy of their marriage. We’ll have cake\, punch\, and sweet fellowship as we celebrate what God has joined together. \nCome and go as you’re able—let’s show Bryan and Lauren how loved they are by their church family!
URL:https://neighborhoodfriends.org/event/wedding-reception-open-house-for-bryan-lauren-gager/
LOCATION:Neighborhood Friends Church\, 9889 W 66th Ave\, Arvada\, CO\, United States
END:VEVENT
END:VCALENDAR