BEGIN:VCALENDAR
VERSION:2.0
PRODID:-//Neighborhood Friends Church - ECPv6.15.20//NONSGML v1.0//EN
CALSCALE:GREGORIAN
METHOD:PUBLISH
X-WR-CALNAME:Neighborhood Friends Church
X-ORIGINAL-URL:https://neighborhoodfriends.org
X-WR-CALDESC:Events for Neighborhood Friends Church
REFRESH-INTERVAL;VALUE=DURATION:PT1H
X-Robots-Tag:noindex
X-PUBLISHED-TTL:PT1H
BEGIN:VTIMEZONE
TZID:America/Denver
BEGIN:DAYLIGHT
TZOFFSETFROM:-0700
TZOFFSETTO:-0600
TZNAME:MDT
DTSTART:20240310T090000
END:DAYLIGHT
BEGIN:STANDARD
TZOFFSETFROM:-0600
TZOFFSETTO:-0700
TZNAME:MST
DTSTART:20241103T080000
END:STANDARD
BEGIN:DAYLIGHT
TZOFFSETFROM:-0700
TZOFFSETTO:-0600
TZNAME:MDT
DTSTART:20250309T090000
END:DAYLIGHT
BEGIN:STANDARD
TZOFFSETFROM:-0600
TZOFFSETTO:-0700
TZNAME:MST
DTSTART:20251102T080000
END:STANDARD
BEGIN:DAYLIGHT
TZOFFSETFROM:-0700
TZOFFSETTO:-0600
TZNAME:MDT
DTSTART:20260308T090000
END:DAYLIGHT
BEGIN:STANDARD
TZOFFSETFROM:-0600
TZOFFSETTO:-0700
TZNAME:MST
DTSTART:20261101T080000
END:STANDARD
END:VTIMEZONE
BEGIN:VEVENT
DTSTART;VALUE=DATE:20250830
DTEND;VALUE=DATE:20250902
DTSTAMP:20260423T202646
CREATED:20250606T025432Z
LAST-MODIFIED:20250826T030040Z
UID:5375-1756512000-1756771199@neighborhoodfriends.org
SUMMARY:RMYM Family Weekend 2025
DESCRIPTION:RMYM Family Weekend 2025📅 August 30 – September 1\, 2025📍 Quaker Ridge Camp\, Woodland Park\, CO \nJoin us for a weekend of faith\, fun\, and family in the beautiful Colorado mountains! Family Weekend is a laid-back\, memory-making retreat for all ages—whether you’re bringing toddlers or teens\, grandparents or neighbors. \nEnjoy worship\, meals\, games\, hiking\, rest\, and rich time together as a church family. You’ll stay in cozy cabins and be refreshed by both nature and community. \n💲 Registration\, lodging\, and full schedule available here:👉 rmym.org/calendar/family-weekend \nCome experience connection\, growth\, and joy with your family and church community. All are welcome!
URL:https://neighborhoodfriends.org/event/rmym-family-weekend-2025/
LOCATION:Quaker Ridge Camp & Conference Center\, 30150 State Hwy 67\, Woodland Park\, CO\, United States
END:VEVENT
END:VCALENDAR