BEGIN:VCALENDAR
VERSION:2.0
PRODID:-//Neighborhood Friends Church - ECPv6.15.20//NONSGML v1.0//EN
CALSCALE:GREGORIAN
METHOD:PUBLISH
X-WR-CALNAME:Neighborhood Friends Church
X-ORIGINAL-URL:https://neighborhoodfriends.org
X-WR-CALDESC:Events for Neighborhood Friends Church
REFRESH-INTERVAL;VALUE=DURATION:PT1H
X-Robots-Tag:noindex
X-PUBLISHED-TTL:PT1H
BEGIN:VTIMEZONE
TZID:America/Denver
BEGIN:DAYLIGHT
TZOFFSETFROM:-0700
TZOFFSETTO:-0600
TZNAME:MDT
DTSTART:20240310T090000
END:DAYLIGHT
BEGIN:STANDARD
TZOFFSETFROM:-0600
TZOFFSETTO:-0700
TZNAME:MST
DTSTART:20241103T080000
END:STANDARD
BEGIN:DAYLIGHT
TZOFFSETFROM:-0700
TZOFFSETTO:-0600
TZNAME:MDT
DTSTART:20250309T090000
END:DAYLIGHT
BEGIN:STANDARD
TZOFFSETFROM:-0600
TZOFFSETTO:-0700
TZNAME:MST
DTSTART:20251102T080000
END:STANDARD
BEGIN:DAYLIGHT
TZOFFSETFROM:-0700
TZOFFSETTO:-0600
TZNAME:MDT
DTSTART:20260308T090000
END:DAYLIGHT
BEGIN:STANDARD
TZOFFSETFROM:-0600
TZOFFSETTO:-0700
TZNAME:MST
DTSTART:20261101T080000
END:STANDARD
END:VTIMEZONE
BEGIN:VEVENT
DTSTART;VALUE=DATE:20250919
DTEND;VALUE=DATE:20250922
DTSTAMP:20260423T191504
CREATED:20250813T225327Z
LAST-MODIFIED:20250907T140218Z
UID:5839-1758240000-1758499199@neighborhoodfriends.org
SUMMARY:Women's Retreat 2025
DESCRIPTION:Women’s Retreat 2025 – Registration Opens August 1!September 19–21\, 2025Quaker Ridge Camp and Conference Center\, Woodland Park\, CO \nJoin women from across the Rocky Mountain Yearly Meeting for a meaningful weekend of worship\, teaching\, friendship\, laughter\, and rest. Hosted by Paonia Friends Women\, this year’s retreat theme explores how we relate to God\, ourselves\, others\, and creation. Experience chapel\, devotionals\, workshops\, and “free time” options like testimony groups\, prayer spaces\, creative activities\, and games. \nCost: $190 per person (4 per room at Clark Conference Center) \nSilent Auction | 🍽️ Full Meals | Encouragement & Spiritual Growth“I don’t base My love on your behavior. I want you to base your behavior on My love.” \nRegister at www.rmym.orgRegistration opens: August 1  \nFinal deadline: September 7 \nQuestions? Contact Judy VanMeter: budnjudyr1@q.com \nLet’s get away together and be refreshed! 
URL:https://neighborhoodfriends.org/event/womens-retreat-2025/
END:VEVENT
BEGIN:VEVENT
DTSTART;TZID=America/Denver:20250921T100000
DTEND;TZID=America/Denver:20250921T113000
DTSTAMP:20260423T191504
CREATED:20250413T161903Z
LAST-MODIFIED:20250907T140214Z
UID:4923-1758448800-1758454200@neighborhoodfriends.org
SUMMARY:SUNDAY WORSHIP GATHERING
DESCRIPTION:Sunday Worship Gathering🗓 Every Sunday☕ 10:00 AM – Coffee & Fellowship⏰ 10:30 AM – Worship Gathering📍 Neighborhood Friends Church\, Arvada\, CO \nCome early at 10:00 AM to connect over coffee and fellowship before we begin worship at 10:30. NKids Church is available for children (toddlers through 5th grade). Check in your kids at the NKids Desk in the lobby before service starts\, and they’ll join us for the first worship set before being dismissed to NKids Church. \nJoin us as we come together to worship\, grow\, and share in Christ’s love. See you there!
URL:https://neighborhoodfriends.org/event/sunday-worship-gathering-162/
LOCATION:Neighborhood Friends Church\, 9889 W 66th Ave\, Arvada\, CO\, United States
END:VEVENT
BEGIN:VEVENT
DTSTART;TZID=America/Denver:20250921T160000
DTEND;TZID=America/Denver:20250921T200000
DTSTAMP:20260423T191504
CREATED:20250413T161904Z
LAST-MODIFIED:20250907T140223Z
UID:4924-1758470400-1758484800@neighborhoodfriends.org
SUMMARY:Jesu Cristo Rey de Reyes Church (Spanish Worship Service)
DESCRIPTION:
URL:https://neighborhoodfriends.org/event/jesu-cristo-rey-de-reyes-church-spanish-worship-service-25/
END:VEVENT
END:VCALENDAR