BEGIN:VCALENDAR
VERSION:2.0
PRODID:-//Neighborhood Friends Church - ECPv6.15.20//NONSGML v1.0//EN
CALSCALE:GREGORIAN
METHOD:PUBLISH
X-ORIGINAL-URL:https://neighborhoodfriends.org
X-WR-CALDESC:Events for Neighborhood Friends Church
REFRESH-INTERVAL;VALUE=DURATION:PT1H
X-Robots-Tag:noindex
X-PUBLISHED-TTL:PT1H
BEGIN:VTIMEZONE
TZID:America/Denver
BEGIN:DAYLIGHT
TZOFFSETFROM:-0700
TZOFFSETTO:-0600
TZNAME:MDT
DTSTART:20240310T090000
END:DAYLIGHT
BEGIN:STANDARD
TZOFFSETFROM:-0600
TZOFFSETTO:-0700
TZNAME:MST
DTSTART:20241103T080000
END:STANDARD
BEGIN:DAYLIGHT
TZOFFSETFROM:-0700
TZOFFSETTO:-0600
TZNAME:MDT
DTSTART:20250309T090000
END:DAYLIGHT
BEGIN:STANDARD
TZOFFSETFROM:-0600
TZOFFSETTO:-0700
TZNAME:MST
DTSTART:20251102T080000
END:STANDARD
BEGIN:DAYLIGHT
TZOFFSETFROM:-0700
TZOFFSETTO:-0600
TZNAME:MDT
DTSTART:20260308T090000
END:DAYLIGHT
BEGIN:STANDARD
TZOFFSETFROM:-0600
TZOFFSETTO:-0700
TZNAME:MST
DTSTART:20261101T080000
END:STANDARD
END:VTIMEZONE
BEGIN:VEVENT
DTSTART;VALUE=DATE:20250928
DTEND;VALUE=DATE:20250929
DTSTAMP:20260423T175846
CREATED:20250716T041422Z
LAST-MODIFIED:20250907T140230Z
UID:5816-1759017600-1759103999@neighborhoodfriends.org
SUMMARY:Fall Kickoff
DESCRIPTION:Sunday\, August 28th: Annual NFC Fall Kickoff\nJoin us for our Annual NFC Fall Kickoff on Sunday\, August 28th\, a day filled with celebration and community!\n10:30 AM – Worship and Celebrations:\n\n\nPromotion Sunday: Celebrate our kids and students as they transition into Jr. High\, Sr. High\, and College. We’ll recognize their accomplishments and pray for their next stage of life and discipleship with Jesus.\n\n\nVolunteer Appreciation: We will honor our incredible volunteers who serve on Sundays and throughout the year\, helping our church grow and thrive.\n\n\nLifegroup Fall Launch: Discover how you can get involved in a Lifegroup and hear inspiring testimonies from those whose lives have been transformed through community and Godly relationships.\n\n\n12:30 PM – Potluck/Picnic Feast:After our worship and celebrations\, join us for a church potluck and picnic feast. Bring your favorite dish and dessert to share and enjoy a time of fellowship and fun!\nWe can’t wait to celebrate with you and kick off the fall season together!
URL:https://neighborhoodfriends.org/event/fall-kickoff/
END:VEVENT
BEGIN:VEVENT
DTSTART;TZID=America/Denver:20250928T100000
DTEND;TZID=America/Denver:20250928T113000
DTSTAMP:20260423T175846
CREATED:20250413T161909Z
LAST-MODIFIED:20250907T140231Z
UID:4931-1759053600-1759059000@neighborhoodfriends.org
SUMMARY:SUNDAY WORSHIP GATHERING
DESCRIPTION:Sunday Worship Gathering🗓 Every Sunday☕ 10:00 AM – Coffee & Fellowship⏰ 10:30 AM – Worship Gathering📍 Neighborhood Friends Church\, Arvada\, CO \nCome early at 10:00 AM to connect over coffee and fellowship before we begin worship at 10:30. NKids Church is available for children (toddlers through 5th grade). Check in your kids at the NKids Desk in the lobby before service starts\, and they’ll join us for the first worship set before being dismissed to NKids Church. \nJoin us as we come together to worship\, grow\, and share in Christ’s love. See you there!
URL:https://neighborhoodfriends.org/event/sunday-worship-gathering-163/
LOCATION:Neighborhood Friends Church\, 9889 W 66th Ave\, Arvada\, CO\, United States
END:VEVENT
BEGIN:VEVENT
DTSTART;TZID=America/Denver:20250928T160000
DTEND;TZID=America/Denver:20250928T200000
DTSTAMP:20260423T175846
CREATED:20250413T161911Z
LAST-MODIFIED:20250907T140232Z
UID:4932-1759075200-1759089600@neighborhoodfriends.org
SUMMARY:Jesu Cristo Rey de Reyes Church (Spanish Worship Service)
DESCRIPTION:
URL:https://neighborhoodfriends.org/event/jesu-cristo-rey-de-reyes-church-spanish-worship-service-26/
END:VEVENT
END:VCALENDAR