BEGIN:VCALENDAR
VERSION:2.0
PRODID:-//Neighborhood Friends Church - ECPv6.15.20//NONSGML v1.0//EN
CALSCALE:GREGORIAN
METHOD:PUBLISH
X-ORIGINAL-URL:https://neighborhoodfriends.org
X-WR-CALDESC:Events for Neighborhood Friends Church
REFRESH-INTERVAL;VALUE=DURATION:PT1H
X-Robots-Tag:noindex
X-PUBLISHED-TTL:PT1H
BEGIN:VTIMEZONE
TZID:America/Denver
BEGIN:DAYLIGHT
TZOFFSETFROM:-0700
TZOFFSETTO:-0600
TZNAME:MDT
DTSTART:20240310T090000
END:DAYLIGHT
BEGIN:STANDARD
TZOFFSETFROM:-0600
TZOFFSETTO:-0700
TZNAME:MST
DTSTART:20241103T080000
END:STANDARD
BEGIN:DAYLIGHT
TZOFFSETFROM:-0700
TZOFFSETTO:-0600
TZNAME:MDT
DTSTART:20250309T090000
END:DAYLIGHT
BEGIN:STANDARD
TZOFFSETFROM:-0600
TZOFFSETTO:-0700
TZNAME:MST
DTSTART:20251102T080000
END:STANDARD
BEGIN:DAYLIGHT
TZOFFSETFROM:-0700
TZOFFSETTO:-0600
TZNAME:MDT
DTSTART:20260308T090000
END:DAYLIGHT
BEGIN:STANDARD
TZOFFSETFROM:-0600
TZOFFSETTO:-0700
TZNAME:MST
DTSTART:20261101T080000
END:STANDARD
END:VTIMEZONE
BEGIN:VEVENT
DTSTART;VALUE=DATE:20251018
DTEND;VALUE=DATE:20251019
DTSTAMP:20260423T175848
CREATED:20250907T140311Z
LAST-MODIFIED:20251002T202101Z
UID:6018-1760745600-1760831999@neighborhoodfriends.org
SUMMARY:Eden ANew Conference
DESCRIPTION:Eden ANew Conference will reserve the entire church for a conference.
URL:https://neighborhoodfriends.org/event/eden-anew-conference/
LOCATION:Neighborhood Friends Church\, 9889 W 66th Ave\, Arvada\, CO\, United States
END:VEVENT
BEGIN:VEVENT
DTSTART;TZID=America/Denver:20251018T080000
DTEND;TZID=America/Denver:20251018T110000
DTSTAMP:20260423T175848
CREATED:20250413T161925Z
LAST-MODIFIED:20250907T140310Z
UID:4954-1760774400-1760785200@neighborhoodfriends.org
SUMMARY:Neighborhood Friends Workday
DESCRIPTION:Join us as we work together to care for our church! Whether inside or outside\, there’s something for everyone\, and your help makes a big difference. Come ready to serve and enjoy fellowship as we take care of God’s house. \n Saturday\, October 18\, 2025 – Fall Clean-Up  \n\nLeaves\, gutters\, branches\, and seasonal maintenance.\n\nWe appreciate all who can lend a hand—whether for an hour or the whole time. Let’s keep our church a welcoming place for all!  \nStay tuned for more details as each date approaches.
URL:https://neighborhoodfriends.org/event/neighborhood-friends-workday-3/
LOCATION:Neighborhood Friends Church\, 9889 W 66th Ave\, Arvada\, CO\, United States
END:VEVENT
END:VCALENDAR