BEGIN:VCALENDAR
VERSION:2.0
PRODID:-//Neighborhood Friends Church - ECPv6.15.20//NONSGML v1.0//EN
CALSCALE:GREGORIAN
METHOD:PUBLISH
X-ORIGINAL-URL:https://neighborhoodfriends.org
X-WR-CALDESC:Events for Neighborhood Friends Church
REFRESH-INTERVAL;VALUE=DURATION:PT1H
X-Robots-Tag:noindex
X-PUBLISHED-TTL:PT1H
BEGIN:VTIMEZONE
TZID:America/Denver
BEGIN:DAYLIGHT
TZOFFSETFROM:-0700
TZOFFSETTO:-0600
TZNAME:MDT
DTSTART:20240310T090000
END:DAYLIGHT
BEGIN:STANDARD
TZOFFSETFROM:-0600
TZOFFSETTO:-0700
TZNAME:MST
DTSTART:20241103T080000
END:STANDARD
BEGIN:DAYLIGHT
TZOFFSETFROM:-0700
TZOFFSETTO:-0600
TZNAME:MDT
DTSTART:20250309T090000
END:DAYLIGHT
BEGIN:STANDARD
TZOFFSETFROM:-0600
TZOFFSETTO:-0700
TZNAME:MST
DTSTART:20251102T080000
END:STANDARD
BEGIN:DAYLIGHT
TZOFFSETFROM:-0700
TZOFFSETTO:-0600
TZNAME:MDT
DTSTART:20260308T090000
END:DAYLIGHT
BEGIN:STANDARD
TZOFFSETFROM:-0600
TZOFFSETTO:-0700
TZNAME:MST
DTSTART:20261101T080000
END:STANDARD
END:VTIMEZONE
BEGIN:VEVENT
DTSTART;TZID=America/Denver:20251129T090000
DTEND;TZID=America/Denver:20251129T120000
DTSTAMP:20260423T165033
CREATED:20251108T153252Z
LAST-MODIFIED:20251108T153310Z
UID:6282-1764406800-1764417600@neighborhoodfriends.org
SUMMARY:Christmas Decoration Party
DESCRIPTION:Christmas Decoration Party\nSaturday\, November 29th | 9:00 AM | Neighborhood Friends ChurchKick off the Christmas season with a morning of fun\, creativity\, and service! We’re looking for strong muscles and creative minds to help decorate the church for the season.We’ll provide coffee and breakfast burritos for all who come to help.Bring your whole family and start the Christmas season by serving together and preparing the atmosphere for the story that continues to change the world.
URL:https://neighborhoodfriends.org/event/christmas-decoration-party/
END:VEVENT
END:VCALENDAR