BEGIN:VCALENDAR
VERSION:2.0
PRODID:-//Neighborhood Friends Church - ECPv6.15.20//NONSGML v1.0//EN
CALSCALE:GREGORIAN
METHOD:PUBLISH
X-ORIGINAL-URL:https://neighborhoodfriends.org
X-WR-CALDESC:Events for Neighborhood Friends Church
REFRESH-INTERVAL;VALUE=DURATION:PT1H
X-Robots-Tag:noindex
X-PUBLISHED-TTL:PT1H
BEGIN:VTIMEZONE
TZID:America/Denver
BEGIN:DAYLIGHT
TZOFFSETFROM:-0700
TZOFFSETTO:-0600
TZNAME:MDT
DTSTART:20240310T090000
END:DAYLIGHT
BEGIN:STANDARD
TZOFFSETFROM:-0600
TZOFFSETTO:-0700
TZNAME:MST
DTSTART:20241103T080000
END:STANDARD
BEGIN:DAYLIGHT
TZOFFSETFROM:-0700
TZOFFSETTO:-0600
TZNAME:MDT
DTSTART:20250309T090000
END:DAYLIGHT
BEGIN:STANDARD
TZOFFSETFROM:-0600
TZOFFSETTO:-0700
TZNAME:MST
DTSTART:20251102T080000
END:STANDARD
BEGIN:DAYLIGHT
TZOFFSETFROM:-0700
TZOFFSETTO:-0600
TZNAME:MDT
DTSTART:20260308T090000
END:DAYLIGHT
BEGIN:STANDARD
TZOFFSETFROM:-0600
TZOFFSETTO:-0700
TZNAME:MST
DTSTART:20261101T080000
END:STANDARD
END:VTIMEZONE
BEGIN:VEVENT
DTSTART;TZID=America/Denver:20251206T100000
DTEND;TZID=America/Denver:20251206T120000
DTSTAMP:20260423T153923
CREATED:20251108T153254Z
LAST-MODIFIED:20251204T163215Z
UID:6283-1765015200-1765022400@neighborhoodfriends.org
SUMMARY:Neighborhood Friends Women’s Christmas Tea
DESCRIPTION:Neighborhood Friends Women’s Christmas Tea\nSaturday\, December 6th | Time Proposed but To Be Announced/confirmedLocation: Neighborhood Friends Church \nIt’s time for our annual Women’s Christmas Tea!Join us for a beautiful morning of brunch\, friendship\, and reflection as we celebrate the joy of Christmas together. \nWho: All women and their daughters (invite a friend!)What to Bring: \n\n\nA brunch-style dish (sweet or savory) to share \n\n\nA $15 wrapped gift for our gift exchange \n\n\nProvided: Tea\, coffee\, and hot chocolate \nWe’ll enjoy a delicious potluck brunch\, meaningful conversation\, and a short devotional focused on Christmas\, family\, and friendship. \n Invite a friend and share the warmth of the season — this is a wonderful opportunity to connect and reach out to our community! \nFliers and invite cards are available in the lobby.
URL:https://neighborhoodfriends.org/event/neighborhood-friends-womens-christmas-tea/
END:VEVENT
END:VCALENDAR