BEGIN:VCALENDAR
VERSION:2.0
PRODID:-//Neighborhood Friends Church - ECPv6.15.20//NONSGML v1.0//EN
CALSCALE:GREGORIAN
METHOD:PUBLISH
X-WR-CALNAME:Neighborhood Friends Church
X-ORIGINAL-URL:https://neighborhoodfriends.org
X-WR-CALDESC:Events for Neighborhood Friends Church
REFRESH-INTERVAL;VALUE=DURATION:PT1H
X-Robots-Tag:noindex
X-PUBLISHED-TTL:PT1H
BEGIN:VTIMEZONE
TZID:America/Denver
BEGIN:DAYLIGHT
TZOFFSETFROM:-0700
TZOFFSETTO:-0600
TZNAME:MDT
DTSTART:20250309T090000
END:DAYLIGHT
BEGIN:STANDARD
TZOFFSETFROM:-0600
TZOFFSETTO:-0700
TZNAME:MST
DTSTART:20251102T080000
END:STANDARD
BEGIN:DAYLIGHT
TZOFFSETFROM:-0700
TZOFFSETTO:-0600
TZNAME:MDT
DTSTART:20260308T090000
END:DAYLIGHT
BEGIN:STANDARD
TZOFFSETFROM:-0600
TZOFFSETTO:-0700
TZNAME:MST
DTSTART:20261101T080000
END:STANDARD
BEGIN:DAYLIGHT
TZOFFSETFROM:-0700
TZOFFSETTO:-0600
TZNAME:MDT
DTSTART:20270314T090000
END:DAYLIGHT
BEGIN:STANDARD
TZOFFSETFROM:-0600
TZOFFSETTO:-0700
TZNAME:MST
DTSTART:20271107T080000
END:STANDARD
END:VTIMEZONE
BEGIN:VEVENT
DTSTART;VALUE=DATE:20260306
DTEND;VALUE=DATE:20260309
DTSTAMP:20260423T121648
CREATED:20260212T182109Z
LAST-MODIFIED:20260212T182109Z
UID:6635-1772755200-1773014399@neighborhoodfriends.org
SUMMARY:Men’s Retreat at Quaker Ridge Camp
DESCRIPTION:Men’s Retreat at Quaker Ridge Camp\n\nRocky Mountain Yearly Meeting Friends Churches \n📅 March 6–8📍 Quaker Ridge Camp & Conference Center(Colorado Rockies) \nMen from across Rocky Mountain Yearly Meeting are invited to step away from everyday life and gather for a weekend of renewal\, brotherhood\, and spiritual formation in the mountains. \n\nRetreat Theme: AUTHENTIC\n\nScripture Focus: Romans 12:9–13 \nThis retreat will center on what it means to live an authentic Christian life—marked by real faith\, real struggle\, and real transformation. Together\, we’ll explore what it looks like to live honestly and Christlike in every area of life. \n\nGuest Speaker\n\nDavid GardaPastor | Chicago\, IL \nDavid will lead four interactive sessions\, helping us engage Scripture\, reflect deeply\, and learn from one another.The final session will draw everything together as we embrace The Disciplemaker’s Prayer\, calling us to live out authentic faith beyond the retreat. \n\nWhat to Expect\n\n\n\nWorship\, teaching\, and prayer \n\n\nSpace for reflection\, solitude\, and conversation \n\n\nOutdoor activities such as hiking\, trail running\, fishing\, archery\, and time in God’s creation \n\n\nMeaningful connection and brotherhood \n\n\n\nRegistration & Cost\n\n\n\n$195 per man \n\n\nScholarship Option:A limited number of $70 scholarships are available for men ages 20–40\, reducing the cost to $125 (while supplies last). \n\n\n\nRegistration Details\n\n\n\nRegister through the RMYM website \n\n\nPayments and scholarships are handled at the local church level \n\n\nAt Neighborhood Friends Church\, men may: \n\n\nPay the full $195 registration fee \n\n\nDonate toward the scholarship fund \n\n\nPay the $125 discounted rate with an approved scholarship \n\n\nPayments accepted by check or PushPay. \nMore details will be shared as the retreat approaches. \n👉 Save the date and plan to join us for a powerful weekend of authentic faith and brotherhood.
URL:https://neighborhoodfriends.org/event/mens-retreat-at-quaker-ridge-camp/
LOCATION:Quaker Ridge Camp & Conference Center\, 30150 State Hwy 67\, Woodland Park\, CO\, United States
END:VEVENT
BEGIN:VEVENT
DTSTART;TZID=America/Denver:20260308T100000
DTEND;TZID=America/Denver:20260308T113000
DTSTAMP:20260423T121648
CREATED:20250813T225719Z
LAST-MODIFIED:20260212T182108Z
UID:5862-1772964000-1772969400@neighborhoodfriends.org
SUMMARY:SUNDAY WORSHIP GATHERING
DESCRIPTION:Sunday Worship Gathering🗓 Every Sunday☕ 10:00 AM – Coffee & Fellowship⏰ 10:30 AM – Worship Gathering📍 Neighborhood Friends Church\, Arvada\, CO \nCome early at 10:00 AM to connect over coffee and fellowship before we begin worship at 10:30. NKids Church is available for children (toddlers through 5th grade). Check in your kids at the NKids Desk in the lobby before service starts\, and they’ll join us for the first worship set before being dismissed to NKids Church. \nJoin us as we come together to worship\, grow\, and share in Christ’s love. See you there!
URL:https://neighborhoodfriends.org/event/sunday-worship-gathering-186/
LOCATION:Neighborhood Friends Church\, 9889 W 66th Ave\, Arvada\, CO\, United States
END:VEVENT
BEGIN:VEVENT
DTSTART;TZID=America/Denver:20260308T160000
DTEND;TZID=America/Denver:20260308T200000
DTSTAMP:20260423T121648
CREATED:20250813T225720Z
LAST-MODIFIED:20260212T182109Z
UID:5863-1772985600-1773000000@neighborhoodfriends.org
SUMMARY:Jesu Cristo Rey de Reyes Church (Spanish Worship Service)
DESCRIPTION:
URL:https://neighborhoodfriends.org/event/jesu-cristo-rey-de-reyes-church-spanish-worship-service-49/
END:VEVENT
END:VCALENDAR