BEGIN:VCALENDAR
VERSION:2.0
PRODID:-//Neighborhood Friends Church - ECPv6.15.20//NONSGML v1.0//EN
CALSCALE:GREGORIAN
METHOD:PUBLISH
X-ORIGINAL-URL:https://neighborhoodfriends.org
X-WR-CALDESC:Events for Neighborhood Friends Church
REFRESH-INTERVAL;VALUE=DURATION:PT1H
X-Robots-Tag:noindex
X-PUBLISHED-TTL:PT1H
BEGIN:VTIMEZONE
TZID:America/Denver
BEGIN:DAYLIGHT
TZOFFSETFROM:-0700
TZOFFSETTO:-0600
TZNAME:MDT
DTSTART:20250309T090000
END:DAYLIGHT
BEGIN:STANDARD
TZOFFSETFROM:-0600
TZOFFSETTO:-0700
TZNAME:MST
DTSTART:20251102T080000
END:STANDARD
BEGIN:DAYLIGHT
TZOFFSETFROM:-0700
TZOFFSETTO:-0600
TZNAME:MDT
DTSTART:20260308T090000
END:DAYLIGHT
BEGIN:STANDARD
TZOFFSETFROM:-0600
TZOFFSETTO:-0700
TZNAME:MST
DTSTART:20261101T080000
END:STANDARD
BEGIN:DAYLIGHT
TZOFFSETFROM:-0700
TZOFFSETTO:-0600
TZNAME:MDT
DTSTART:20270314T090000
END:DAYLIGHT
BEGIN:STANDARD
TZOFFSETFROM:-0600
TZOFFSETTO:-0700
TZNAME:MST
DTSTART:20271107T080000
END:STANDARD
END:VTIMEZONE
BEGIN:VEVENT
DTSTART;TZID=America/Denver:20260309T180000
DTEND;TZID=America/Denver:20260309T190000
DTSTAMP:20260423T121940
CREATED:20250826T030558Z
LAST-MODIFIED:20260212T182110Z
UID:5973-1773079200-1773082800@neighborhoodfriends.org
SUMMARY:SPIRITUAL LIFE MEETING (ONLINE)
DESCRIPTION:A monthly spiritual life board (elders) meeting online to discuss spiritual health\, vision\, needs\, and leadership. Contact: Doug Stooke: dstooke@neighborhoodfriends.org\nJoin with Google Meet: https://meet.google.com/efj-aqzf-imr\nOr dial: (US) +1 417-448-6105 PIN: 254404595#\nMore phone numbers: https://tel.meet/efj-aqzf-imr?pin=6224438130198&hs=7\nLearn more about Meet at: https://support.google.com/a/users/answer/9282720
URL:https://neighborhoodfriends.org/event/spiritual-life-meeting-online-36/
ORGANIZER;CN="Donnie Hinshaw":MAILTO:dhinshaw@neighborhoodfriends.org
END:VEVENT
END:VCALENDAR