BEGIN:VCALENDAR
VERSION:2.0
PRODID:-//Neighborhood Friends Church - ECPv6.15.20//NONSGML v1.0//EN
CALSCALE:GREGORIAN
METHOD:PUBLISH
X-ORIGINAL-URL:https://neighborhoodfriends.org
X-WR-CALDESC:Events for Neighborhood Friends Church
REFRESH-INTERVAL;VALUE=DURATION:PT1H
X-Robots-Tag:noindex
X-PUBLISHED-TTL:PT1H
BEGIN:VTIMEZONE
TZID:America/Denver
BEGIN:DAYLIGHT
TZOFFSETFROM:-0700
TZOFFSETTO:-0600
TZNAME:MDT
DTSTART:20250309T090000
END:DAYLIGHT
BEGIN:STANDARD
TZOFFSETFROM:-0600
TZOFFSETTO:-0700
TZNAME:MST
DTSTART:20251102T080000
END:STANDARD
BEGIN:DAYLIGHT
TZOFFSETFROM:-0700
TZOFFSETTO:-0600
TZNAME:MDT
DTSTART:20260308T090000
END:DAYLIGHT
BEGIN:STANDARD
TZOFFSETFROM:-0600
TZOFFSETTO:-0700
TZNAME:MST
DTSTART:20261101T080000
END:STANDARD
BEGIN:DAYLIGHT
TZOFFSETFROM:-0700
TZOFFSETTO:-0600
TZNAME:MDT
DTSTART:20270314T090000
END:DAYLIGHT
BEGIN:STANDARD
TZOFFSETFROM:-0600
TZOFFSETTO:-0700
TZNAME:MST
DTSTART:20271107T080000
END:STANDARD
END:VTIMEZONE
BEGIN:VEVENT
DTSTART;TZID=America/Denver:20260401T183000
DTEND;TZID=America/Denver:20260401T200000
DTSTAMP:20260423T105932
CREATED:20250826T030648Z
LAST-MODIFIED:20251108T153357Z
UID:5987-1775068200-1775073600@neighborhoodfriends.org
SUMMARY:NEIGHBORHOOD YOUTH
DESCRIPTION:Neighborhood YouthWhen: Every Wednesday night\, 6:30 PMWhere: Neighborhood Friends Church \nCalling all students in grades 6–12! Join us for an exciting evening of fun\, connection\, and spiritual growth. Come hang out with friends\, play games\, and explore what it means to follow Jesus in your everyday life. \nContact: Pastor Jake Stooke at jstooke@neighborhoodfriends.org for more details.
URL:https://neighborhoodfriends.org/event/neighborhood-youth-70/
LOCATION:Neighborhood Friends Church\, 9889 W 66th Ave\, Arvada\, CO\, United States
END:VEVENT
BEGIN:VEVENT
DTSTART;TZID=America/Denver:20260401T183000
DTEND;TZID=America/Denver:20260401T200000
DTSTAMP:20260423T105932
CREATED:20250826T030649Z
LAST-MODIFIED:20260212T182120Z
UID:5988-1775068200-1775073600@neighborhoodfriends.org
SUMMARY:Neighborhood Youth Weekly Gathering
DESCRIPTION:🌟 **Neighborhood Youth Weekly Gathering** 🌟  \nWednesdays | 6:30pm – 8:00pm  \nGet ready for an evening filled with friends\, fun\, and faith! Each week\, we gather to connect\, worship\, and dive into meaningful conversations about life and God’s purpose for us. Whether you’re a first-timer or a regular\, there’s always something new to experience! Don’t miss out on games\, laughter\, and the chance to make great memories together. Bring a friend\, and let’s make each Wednesday a highlight of the week!
URL:https://neighborhoodfriends.org/event/neighborhood-youth-weekly-gathering-6/
LOCATION:Neighborhood Friends Church\, 9889 W 66th Ave\, Arvada\, CO\, United States
END:VEVENT
END:VCALENDAR