BEGIN:VCALENDAR
VERSION:2.0
PRODID:-//Neighborhood Friends Church - ECPv6.15.20//NONSGML v1.0//EN
CALSCALE:GREGORIAN
METHOD:PUBLISH
X-WR-CALNAME:Neighborhood Friends Church
X-ORIGINAL-URL:https://neighborhoodfriends.org
X-WR-CALDESC:Events for Neighborhood Friends Church
REFRESH-INTERVAL;VALUE=DURATION:PT1H
X-Robots-Tag:noindex
X-PUBLISHED-TTL:PT1H
BEGIN:VTIMEZONE
TZID:America/Denver
BEGIN:DAYLIGHT
TZOFFSETFROM:-0700
TZOFFSETTO:-0600
TZNAME:MDT
DTSTART:20250309T090000
END:DAYLIGHT
BEGIN:STANDARD
TZOFFSETFROM:-0600
TZOFFSETTO:-0700
TZNAME:MST
DTSTART:20251102T080000
END:STANDARD
BEGIN:DAYLIGHT
TZOFFSETFROM:-0700
TZOFFSETTO:-0600
TZNAME:MDT
DTSTART:20260308T090000
END:DAYLIGHT
BEGIN:STANDARD
TZOFFSETFROM:-0600
TZOFFSETTO:-0700
TZNAME:MST
DTSTART:20261101T080000
END:STANDARD
BEGIN:DAYLIGHT
TZOFFSETFROM:-0700
TZOFFSETTO:-0600
TZNAME:MDT
DTSTART:20270314T090000
END:DAYLIGHT
BEGIN:STANDARD
TZOFFSETFROM:-0600
TZOFFSETTO:-0700
TZNAME:MST
DTSTART:20271107T080000
END:STANDARD
END:VTIMEZONE
BEGIN:VEVENT
DTSTART;TZID=America/Denver:20260916T183000
DTEND;TZID=America/Denver:20260916T200000
DTSTAMP:20260423T165037
CREATED:20260212T182230Z
LAST-MODIFIED:20260212T182230Z
UID:6745-1789583400-1789588800@neighborhoodfriends.org
SUMMARY:Neighborhood Youth Weekly Gathering
DESCRIPTION:🌟 **Neighborhood Youth Weekly Gathering** 🌟  \nWednesdays | 6:30pm – 8:00pm  \nGet ready for an evening filled with friends\, fun\, and faith! Each week\, we gather to connect\, worship\, and dive into meaningful conversations about life and God’s purpose for us. Whether you’re a first-timer or a regular\, there’s always something new to experience! Don’t miss out on games\, laughter\, and the chance to make great memories together. Bring a friend\, and let’s make each Wednesday a highlight of the week!
URL:https://neighborhoodfriends.org/event/neighborhood-youth-weekly-gathering-192/
LOCATION:Neighborhood Friends Church\, 9889 W 66th Ave\, Arvada\, CO\, United States
END:VEVENT
END:VCALENDAR