BEGIN:VCALENDAR
VERSION:2.0
PRODID:-//Neighborhood Friends Church - ECPv6.15.20//NONSGML v1.0//EN
CALSCALE:GREGORIAN
METHOD:PUBLISH
X-WR-CALNAME:Neighborhood Friends Church
X-ORIGINAL-URL:https://neighborhoodfriends.org
X-WR-CALDESC:Events for Neighborhood Friends Church
REFRESH-INTERVAL;VALUE=DURATION:PT1H
X-Robots-Tag:noindex
X-PUBLISHED-TTL:PT1H
BEGIN:VTIMEZONE
TZID:America/Denver
BEGIN:DAYLIGHT
TZOFFSETFROM:-0700
TZOFFSETTO:-0600
TZNAME:MDT
DTSTART:20250309T090000
END:DAYLIGHT
BEGIN:STANDARD
TZOFFSETFROM:-0600
TZOFFSETTO:-0700
TZNAME:MST
DTSTART:20251102T080000
END:STANDARD
BEGIN:DAYLIGHT
TZOFFSETFROM:-0700
TZOFFSETTO:-0600
TZNAME:MDT
DTSTART:20260308T090000
END:DAYLIGHT
BEGIN:STANDARD
TZOFFSETFROM:-0600
TZOFFSETTO:-0700
TZNAME:MST
DTSTART:20261101T080000
END:STANDARD
BEGIN:DAYLIGHT
TZOFFSETFROM:-0700
TZOFFSETTO:-0600
TZNAME:MDT
DTSTART:20270314T090000
END:DAYLIGHT
BEGIN:STANDARD
TZOFFSETFROM:-0600
TZOFFSETTO:-0700
TZNAME:MST
DTSTART:20271107T080000
END:STANDARD
END:VTIMEZONE
BEGIN:VEVENT
DTSTART;TZID=America/Denver:20260919T070000
DTEND;TZID=America/Denver:20260919T083000
DTSTAMP:20260423T165036
CREATED:20260212T182231Z
LAST-MODIFIED:20260212T182231Z
UID:6747-1789801200-1789806600@neighborhoodfriends.org
SUMMARY:MEN'S COFFEE LIFEGROUP
DESCRIPTION:Men’s LifegroupSaturday Mornings | 7:00am | Red Silo CoffeeLeader: Doug Stooke (dstooke@neighborhoodfriends.org) \nLooking for a place to talk about life\, family\, church\, and culture—all over a good cup of coffee? Join us every Saturday morning at Red Silo Coffee for meaningful conversations and connection with other men. Grab a coffee and bring a friend—everyone’s welcome!
URL:https://neighborhoodfriends.org/event/mens-coffee-lifegroup-125/
LOCATION:Red Silo Coffee Roasters\, 6590 Holman St\, Arvada\, CO\, United States
END:VEVENT
END:VCALENDAR