BEGIN:VCALENDAR
VERSION:2.0
PRODID:-//Neighborhood Friends Church - ECPv6.15.20//NONSGML v1.0//EN
CALSCALE:GREGORIAN
METHOD:PUBLISH
X-ORIGINAL-URL:https://neighborhoodfriends.org
X-WR-CALDESC:Events for Neighborhood Friends Church
REFRESH-INTERVAL;VALUE=DURATION:PT1H
X-Robots-Tag:noindex
X-PUBLISHED-TTL:PT1H
BEGIN:VTIMEZONE
TZID:America/Denver
BEGIN:DAYLIGHT
TZOFFSETFROM:-0700
TZOFFSETTO:-0600
TZNAME:MDT
DTSTART:20250309T090000
END:DAYLIGHT
BEGIN:STANDARD
TZOFFSETFROM:-0600
TZOFFSETTO:-0700
TZNAME:MST
DTSTART:20251102T080000
END:STANDARD
BEGIN:DAYLIGHT
TZOFFSETFROM:-0700
TZOFFSETTO:-0600
TZNAME:MDT
DTSTART:20260308T090000
END:DAYLIGHT
BEGIN:STANDARD
TZOFFSETFROM:-0600
TZOFFSETTO:-0700
TZNAME:MST
DTSTART:20261101T080000
END:STANDARD
BEGIN:DAYLIGHT
TZOFFSETFROM:-0700
TZOFFSETTO:-0600
TZNAME:MDT
DTSTART:20270314T090000
END:DAYLIGHT
BEGIN:STANDARD
TZOFFSETFROM:-0600
TZOFFSETTO:-0700
TZNAME:MST
DTSTART:20271107T080000
END:STANDARD
END:VTIMEZONE
BEGIN:VEVENT
DTSTART;TZID=America/Denver:20261020T180000
DTEND;TZID=America/Denver:20261020T193000
DTSTAMP:20260423T175819
CREATED:20260212T182242Z
LAST-MODIFIED:20260212T182242Z
UID:6783-1792519200-1792524600@neighborhoodfriends.org
SUMMARY:WOMEN'S LIFEGROUP
DESCRIPTION:Women’s LifeGroupWhen: Every Tuesday night\, 6:00 PM – 7:30 PMWhere: Rhonda Hinshaw’s Home \nLadies\, join us for an uplifting time of fellowship and spiritual growth as we dive into God’s Word together. Whether you’re new to the group or a long-time participant\, we’d love to have you! \nContact: Rhonda Hinshaw at rhinshaw@neighborhoodfriends.org for more information and address
URL:https://neighborhoodfriends.org/event/womens-lifegroup-101/
END:VEVENT
END:VCALENDAR