BEGIN:VCALENDAR
VERSION:2.0
PRODID:-//Neighborhood Friends Church - ECPv6.15.20//NONSGML v1.0//EN
CALSCALE:GREGORIAN
METHOD:PUBLISH
X-WR-CALNAME:Neighborhood Friends Church
X-ORIGINAL-URL:https://neighborhoodfriends.org
X-WR-CALDESC:Events for Neighborhood Friends Church
REFRESH-INTERVAL;VALUE=DURATION:PT1H
X-Robots-Tag:noindex
X-PUBLISHED-TTL:PT1H
BEGIN:VTIMEZONE
TZID:America/Denver
BEGIN:DAYLIGHT
TZOFFSETFROM:-0700
TZOFFSETTO:-0600
TZNAME:MDT
DTSTART:20250309T090000
END:DAYLIGHT
BEGIN:STANDARD
TZOFFSETFROM:-0600
TZOFFSETTO:-0700
TZNAME:MST
DTSTART:20251102T080000
END:STANDARD
BEGIN:DAYLIGHT
TZOFFSETFROM:-0700
TZOFFSETTO:-0600
TZNAME:MDT
DTSTART:20260308T090000
END:DAYLIGHT
BEGIN:STANDARD
TZOFFSETFROM:-0600
TZOFFSETTO:-0700
TZNAME:MST
DTSTART:20261101T080000
END:STANDARD
BEGIN:DAYLIGHT
TZOFFSETFROM:-0700
TZOFFSETTO:-0600
TZNAME:MDT
DTSTART:20270314T090000
END:DAYLIGHT
BEGIN:STANDARD
TZOFFSETFROM:-0600
TZOFFSETTO:-0700
TZNAME:MST
DTSTART:20271107T080000
END:STANDARD
END:VTIMEZONE
BEGIN:VEVENT
DTSTART;TZID=America/Denver:20260423T180000
DTEND;TZID=America/Denver:20260423T193000
DTSTAMP:20260423T065213
CREATED:20251002T202623Z
LAST-MODIFIED:20260212T182128Z
UID:6121-1776967200-1776972600@neighborhoodfriends.org
SUMMARY:VINTAGE FRIENDS LIFEGROUP
DESCRIPTION:Vintage Friends LifeGroupWhen: Every Thursday night\, 6:00 PM – 7:30 PMWhere: Online via Zoom \nThis LifeGroup is tailored for seniors (55+) seeking fellowship\, encouragement\, and spiritual growth in a supportive and welcoming environment. Led by Pastor John Hinshaw\, it’s a great opportunity to connect with others and deepen your faith from the comfort of your home. \nContact: Pastor John Hinshaw at jhinshaw@neighborhoodfriends.org for the Zoom link and more information.
URL:https://neighborhoodfriends.org/event/vintage-friends-lifegroup-73/
END:VEVENT
BEGIN:VEVENT
DTSTART;TZID=America/Denver:20260425T070000
DTEND;TZID=America/Denver:20260425T083000
DTSTAMP:20260423T065213
CREATED:20251002T202624Z
LAST-MODIFIED:20260212T182128Z
UID:6122-1777100400-1777105800@neighborhoodfriends.org
SUMMARY:MEN'S COFFEE LIFEGROUP
DESCRIPTION:Men’s LifegroupSaturday Mornings | 7:00am | Red Silo CoffeeLeader: Doug Stooke (dstooke@neighborhoodfriends.org) \nLooking for a place to talk about life\, family\, church\, and culture—all over a good cup of coffee? Join us every Saturday morning at Red Silo Coffee for meaningful conversations and connection with other men. Grab a coffee and bring a friend—everyone’s welcome!
URL:https://neighborhoodfriends.org/event/mens-coffee-lifegroup-103/
LOCATION:Red Silo Coffee Roasters\, 6590 Holman St\, Arvada\, CO\, United States
END:VEVENT
BEGIN:VEVENT
DTSTART;TZID=America/Denver:20260426T100000
DTEND;TZID=America/Denver:20260426T113000
DTSTAMP:20260423T065213
CREATED:20251002T202625Z
LAST-MODIFIED:20260212T182129Z
UID:6123-1777197600-1777203000@neighborhoodfriends.org
SUMMARY:SUNDAY WORSHIP GATHERING
DESCRIPTION:Sunday Worship Gathering🗓 Every Sunday☕ 10:00 AM – Coffee & Fellowship⏰ 10:30 AM – Worship Gathering📍 Neighborhood Friends Church\, Arvada\, CO \nCome early at 10:00 AM to connect over coffee and fellowship before we begin worship at 10:30. NKids Church is available for children (toddlers through 5th grade). Check in your kids at the NKids Desk in the lobby before service starts\, and they’ll join us for the first worship set before being dismissed to NKids Church. \nJoin us as we come together to worship\, grow\, and share in Christ’s love. See you there!
URL:https://neighborhoodfriends.org/event/sunday-worship-gathering-193/
LOCATION:Neighborhood Friends Church\, 9889 W 66th Ave\, Arvada\, CO\, United States
END:VEVENT
BEGIN:VEVENT
DTSTART;TZID=America/Denver:20260426T160000
DTEND;TZID=America/Denver:20260426T200000
DTSTAMP:20260423T065213
CREATED:20251002T202626Z
LAST-MODIFIED:20260212T182129Z
UID:6124-1777219200-1777233600@neighborhoodfriends.org
SUMMARY:Jesu Cristo Rey de Reyes Church (Spanish Worship Service)
DESCRIPTION:
URL:https://neighborhoodfriends.org/event/jesu-cristo-rey-de-reyes-church-spanish-worship-service-56/
END:VEVENT
BEGIN:VEVENT
DTSTART;TZID=America/Denver:20260428T180000
DTEND;TZID=America/Denver:20260428T193000
DTSTAMP:20260423T065213
CREATED:20251002T202629Z
LAST-MODIFIED:20260212T182129Z
UID:6127-1777399200-1777404600@neighborhoodfriends.org
SUMMARY:WOMEN'S LIFEGROUP
DESCRIPTION:Women’s LifeGroupWhen: Every Tuesday night\, 6:00 PM – 7:30 PMWhere: Rhonda Hinshaw’s Home \nLadies\, join us for an uplifting time of fellowship and spiritual growth as we dive into God’s Word together. Whether you’re new to the group or a long-time participant\, we’d love to have you! \nContact: Rhonda Hinshaw at rhinshaw@neighborhoodfriends.org for more information and address
URL:https://neighborhoodfriends.org/event/womens-lifegroup-74/
END:VEVENT
BEGIN:VEVENT
DTSTART;TZID=America/Denver:20260428T181500
DTEND;TZID=America/Denver:20260428T193000
DTSTAMP:20260423T065213
CREATED:20251002T202628Z
LAST-MODIFIED:20260212T182130Z
UID:6126-1777400100-1777404600@neighborhoodfriends.org
SUMMARY:MEN'S LIFEGROUP
DESCRIPTION:Men’s LifeGroupWhen: Every Tuesday night\, 6:15 PM – 7:30 PMWhere: Pastor Donnie’s Office\, Neighborhood Friends Church \nJoin us for an engaging time of fellowship\, study\, and discussion as we grow together in our faith. Whether you’re a regular or a first-time visitor\, you’re welcome to dive into God’s Word with us. We look forward to seeing you there! \nContact: dhinshaw@neighborhoodfriends.org
URL:https://neighborhoodfriends.org/event/mens-lifegroup-74/
LOCATION:Neighborhood Friends Church\, 9889 W 66th Ave\, Arvada\, CO\, United States
END:VEVENT
BEGIN:VEVENT
DTSTART;TZID=America/Denver:20260428T183000
DTEND;TZID=America/Denver:20260428T200000
DTSTAMP:20260423T065213
CREATED:20251002T202627Z
LAST-MODIFIED:20260212T182130Z
UID:6125-1777401000-1777406400@neighborhoodfriends.org
SUMMARY:YOUNG ADULTS LIFEGROUP
DESCRIPTION:Neighborhood Young AdultsWhen: Every Tuesday night\, 6:30 PM – 8:00 PM  Where: Various homes and locations   \nYoung adults\, this is your space to connect\, grow\, and build meaningful community! Each week\, we gather to share life\, dive into God’s Word\, and encourage one another in our faith journeys.   \nContact: Jordan Nockels at jnockels@neighborhoodfriends.org for this week’s location and more details.
URL:https://neighborhoodfriends.org/event/young-adults-lifegroup-48/
END:VEVENT
BEGIN:VEVENT
DTSTART;TZID=America/Denver:20260429T183000
DTEND;TZID=America/Denver:20260429T200000
DTSTAMP:20260423T065213
CREATED:20251002T202630Z
LAST-MODIFIED:20251108T153412Z
UID:6128-1777487400-1777492800@neighborhoodfriends.org
SUMMARY:NEIGHBORHOOD YOUTH
DESCRIPTION:Neighborhood YouthWhen: Every Wednesday night\, 6:30 PMWhere: Neighborhood Friends Church \nCalling all students in grades 6–12! Join us for an exciting evening of fun\, connection\, and spiritual growth. Come hang out with friends\, play games\, and explore what it means to follow Jesus in your everyday life. \nContact: Pastor Jake Stooke at jstooke@neighborhoodfriends.org for more details.
URL:https://neighborhoodfriends.org/event/neighborhood-youth-74/
LOCATION:Neighborhood Friends Church\, 9889 W 66th Ave\, Arvada\, CO\, United States
END:VEVENT
BEGIN:VEVENT
DTSTART;TZID=America/Denver:20260429T183000
DTEND;TZID=America/Denver:20260429T200000
DTSTAMP:20260423T065213
CREATED:20251002T202631Z
LAST-MODIFIED:20260212T182130Z
UID:6129-1777487400-1777492800@neighborhoodfriends.org
SUMMARY:Neighborhood Youth Weekly Gathering
DESCRIPTION:🌟 **Neighborhood Youth Weekly Gathering** 🌟  \nWednesdays | 6:30pm – 8:00pm  \nGet ready for an evening filled with friends\, fun\, and faith! Each week\, we gather to connect\, worship\, and dive into meaningful conversations about life and God’s purpose for us. Whether you’re a first-timer or a regular\, there’s always something new to experience! Don’t miss out on games\, laughter\, and the chance to make great memories together. Bring a friend\, and let’s make each Wednesday a highlight of the week!
URL:https://neighborhoodfriends.org/event/neighborhood-youth-weekly-gathering-171/
LOCATION:Neighborhood Friends Church\, 9889 W 66th Ave\, Arvada\, CO\, United States
END:VEVENT
BEGIN:VEVENT
DTSTART;TZID=America/Denver:20260430T180000
DTEND;TZID=America/Denver:20260430T193000
DTSTAMP:20260423T065213
CREATED:20251002T202632Z
LAST-MODIFIED:20260212T182132Z
UID:6130-1777572000-1777577400@neighborhoodfriends.org
SUMMARY:VINTAGE FRIENDS LIFEGROUP
DESCRIPTION:Vintage Friends LifeGroupWhen: Every Thursday night\, 6:00 PM – 7:30 PMWhere: Online via Zoom \nThis LifeGroup is tailored for seniors (55+) seeking fellowship\, encouragement\, and spiritual growth in a supportive and welcoming environment. Led by Pastor John Hinshaw\, it’s a great opportunity to connect with others and deepen your faith from the comfort of your home. \nContact: Pastor John Hinshaw at jhinshaw@neighborhoodfriends.org for the Zoom link and more information.
URL:https://neighborhoodfriends.org/event/vintage-friends-lifegroup-74/
END:VEVENT
BEGIN:VEVENT
DTSTART;TZID=America/Denver:20260502T070000
DTEND;TZID=America/Denver:20260502T083000
DTSTAMP:20260423T065213
CREATED:20251002T202633Z
LAST-MODIFIED:20260212T182132Z
UID:6131-1777705200-1777710600@neighborhoodfriends.org
SUMMARY:MEN'S COFFEE LIFEGROUP
DESCRIPTION:Men’s LifegroupSaturday Mornings | 7:00am | Red Silo CoffeeLeader: Doug Stooke (dstooke@neighborhoodfriends.org) \nLooking for a place to talk about life\, family\, church\, and culture—all over a good cup of coffee? Join us every Saturday morning at Red Silo Coffee for meaningful conversations and connection with other men. Grab a coffee and bring a friend—everyone’s welcome!
URL:https://neighborhoodfriends.org/event/mens-coffee-lifegroup-104/
LOCATION:Red Silo Coffee Roasters\, 6590 Holman St\, Arvada\, CO\, United States
END:VEVENT
BEGIN:VEVENT
DTSTART;TZID=America/Denver:20260503T100000
DTEND;TZID=America/Denver:20260503T113000
DTSTAMP:20260423T065213
CREATED:20251002T202634Z
LAST-MODIFIED:20260212T182132Z
UID:6132-1777802400-1777807800@neighborhoodfriends.org
SUMMARY:SUNDAY WORSHIP GATHERING
DESCRIPTION:Sunday Worship Gathering🗓 Every Sunday☕ 10:00 AM – Coffee & Fellowship⏰ 10:30 AM – Worship Gathering📍 Neighborhood Friends Church\, Arvada\, CO \nCome early at 10:00 AM to connect over coffee and fellowship before we begin worship at 10:30. NKids Church is available for children (toddlers through 5th grade). Check in your kids at the NKids Desk in the lobby before service starts\, and they’ll join us for the first worship set before being dismissed to NKids Church. \nJoin us as we come together to worship\, grow\, and share in Christ’s love. See you there!
URL:https://neighborhoodfriends.org/event/sunday-worship-gathering-194/
LOCATION:Neighborhood Friends Church\, 9889 W 66th Ave\, Arvada\, CO\, United States
END:VEVENT
BEGIN:VEVENT
DTSTART;TZID=America/Denver:20260503T160000
DTEND;TZID=America/Denver:20260503T200000
DTSTAMP:20260423T065213
CREATED:20251002T202635Z
LAST-MODIFIED:20260212T182133Z
UID:6133-1777824000-1777838400@neighborhoodfriends.org
SUMMARY:Jesu Cristo Rey de Reyes Church (Spanish Worship Service)
DESCRIPTION:
URL:https://neighborhoodfriends.org/event/jesu-cristo-rey-de-reyes-church-spanish-worship-service-57/
END:VEVENT
BEGIN:VEVENT
DTSTART;TZID=America/Denver:20260505T180000
DTEND;TZID=America/Denver:20260505T193000
DTSTAMP:20260423T065213
CREATED:20251002T202642Z
LAST-MODIFIED:20260212T182133Z
UID:6136-1778004000-1778009400@neighborhoodfriends.org
SUMMARY:WOMEN'S LIFEGROUP
DESCRIPTION:Women’s LifeGroupWhen: Every Tuesday night\, 6:00 PM – 7:30 PMWhere: Rhonda Hinshaw’s Home \nLadies\, join us for an uplifting time of fellowship and spiritual growth as we dive into God’s Word together. Whether you’re new to the group or a long-time participant\, we’d love to have you! \nContact: Rhonda Hinshaw at rhinshaw@neighborhoodfriends.org for more information and address
URL:https://neighborhoodfriends.org/event/womens-lifegroup-75/
END:VEVENT
BEGIN:VEVENT
DTSTART;TZID=America/Denver:20260505T181500
DTEND;TZID=America/Denver:20260505T193000
DTSTAMP:20260423T065213
CREATED:20251002T202641Z
LAST-MODIFIED:20260212T182134Z
UID:6135-1778004900-1778009400@neighborhoodfriends.org
SUMMARY:MEN'S LIFEGROUP
DESCRIPTION:Men’s LifeGroupWhen: Every Tuesday night\, 6:15 PM – 7:30 PMWhere: Pastor Donnie’s Office\, Neighborhood Friends Church \nJoin us for an engaging time of fellowship\, study\, and discussion as we grow together in our faith. Whether you’re a regular or a first-time visitor\, you’re welcome to dive into God’s Word with us. We look forward to seeing you there! \nContact: dhinshaw@neighborhoodfriends.org
URL:https://neighborhoodfriends.org/event/mens-lifegroup-75/
LOCATION:Neighborhood Friends Church\, 9889 W 66th Ave\, Arvada\, CO\, United States
END:VEVENT
BEGIN:VEVENT
DTSTART;TZID=America/Denver:20260505T183000
DTEND;TZID=America/Denver:20260505T200000
DTSTAMP:20260423T065213
CREATED:20251002T202637Z
LAST-MODIFIED:20260212T182133Z
UID:6134-1778005800-1778011200@neighborhoodfriends.org
SUMMARY:YOUNG ADULTS LIFEGROUP
DESCRIPTION:Neighborhood Young AdultsWhen: Every Tuesday night\, 6:30 PM – 8:00 PM  Where: Various homes and locations   \nYoung adults\, this is your space to connect\, grow\, and build meaningful community! Each week\, we gather to share life\, dive into God’s Word\, and encourage one another in our faith journeys.   \nContact: Jordan Nockels at jnockels@neighborhoodfriends.org for this week’s location and more details.
URL:https://neighborhoodfriends.org/event/young-adults-lifegroup-49/
END:VEVENT
BEGIN:VEVENT
DTSTART;TZID=America/Denver:20260506T183000
DTEND;TZID=America/Denver:20260506T200000
DTSTAMP:20260423T065213
CREATED:20251002T202643Z
LAST-MODIFIED:20251108T153414Z
UID:6137-1778092200-1778097600@neighborhoodfriends.org
SUMMARY:NEIGHBORHOOD YOUTH
DESCRIPTION:Neighborhood YouthWhen: Every Wednesday night\, 6:30 PMWhere: Neighborhood Friends Church \nCalling all students in grades 6–12! Join us for an exciting evening of fun\, connection\, and spiritual growth. Come hang out with friends\, play games\, and explore what it means to follow Jesus in your everyday life. \nContact: Pastor Jake Stooke at jstooke@neighborhoodfriends.org for more details.
URL:https://neighborhoodfriends.org/event/neighborhood-youth-75/
LOCATION:Neighborhood Friends Church\, 9889 W 66th Ave\, Arvada\, CO\, United States
END:VEVENT
BEGIN:VEVENT
DTSTART;TZID=America/Denver:20260506T183000
DTEND;TZID=America/Denver:20260506T200000
DTSTAMP:20260423T065213
CREATED:20251002T202644Z
LAST-MODIFIED:20260212T182134Z
UID:6138-1778092200-1778097600@neighborhoodfriends.org
SUMMARY:Neighborhood Youth Weekly Gathering
DESCRIPTION:🌟 **Neighborhood Youth Weekly Gathering** 🌟  \nWednesdays | 6:30pm – 8:00pm  \nGet ready for an evening filled with friends\, fun\, and faith! Each week\, we gather to connect\, worship\, and dive into meaningful conversations about life and God’s purpose for us. Whether you’re a first-timer or a regular\, there’s always something new to experience! Don’t miss out on games\, laughter\, and the chance to make great memories together. Bring a friend\, and let’s make each Wednesday a highlight of the week!
URL:https://neighborhoodfriends.org/event/neighborhood-youth-weekly-gathering-172/
LOCATION:Neighborhood Friends Church\, 9889 W 66th Ave\, Arvada\, CO\, United States
END:VEVENT
BEGIN:VEVENT
DTSTART;TZID=America/Denver:20260507T180000
DTEND;TZID=America/Denver:20260507T193000
DTSTAMP:20260423T065213
CREATED:20251002T202645Z
LAST-MODIFIED:20260212T182134Z
UID:6139-1778176800-1778182200@neighborhoodfriends.org
SUMMARY:VINTAGE FRIENDS LIFEGROUP
DESCRIPTION:Vintage Friends LifeGroupWhen: Every Thursday night\, 6:00 PM – 7:30 PMWhere: Online via Zoom \nThis LifeGroup is tailored for seniors (55+) seeking fellowship\, encouragement\, and spiritual growth in a supportive and welcoming environment. Led by Pastor John Hinshaw\, it’s a great opportunity to connect with others and deepen your faith from the comfort of your home. \nContact: Pastor John Hinshaw at jhinshaw@neighborhoodfriends.org for the Zoom link and more information.
URL:https://neighborhoodfriends.org/event/vintage-friends-lifegroup-75/
END:VEVENT
BEGIN:VEVENT
DTSTART;TZID=America/Denver:20260509T070000
DTEND;TZID=America/Denver:20260509T083000
DTSTAMP:20260423T065213
CREATED:20251002T202647Z
LAST-MODIFIED:20260212T182135Z
UID:6140-1778310000-1778315400@neighborhoodfriends.org
SUMMARY:MEN'S COFFEE LIFEGROUP
DESCRIPTION:Men’s LifegroupSaturday Mornings | 7:00am | Red Silo CoffeeLeader: Doug Stooke (dstooke@neighborhoodfriends.org) \nLooking for a place to talk about life\, family\, church\, and culture—all over a good cup of coffee? Join us every Saturday morning at Red Silo Coffee for meaningful conversations and connection with other men. Grab a coffee and bring a friend—everyone’s welcome!
URL:https://neighborhoodfriends.org/event/mens-coffee-lifegroup-105/
LOCATION:Red Silo Coffee Roasters\, 6590 Holman St\, Arvada\, CO\, United States
END:VEVENT
BEGIN:VEVENT
DTSTART;TZID=America/Denver:20260510T100000
DTEND;TZID=America/Denver:20260510T113000
DTSTAMP:20260423T065213
CREATED:20251002T202648Z
LAST-MODIFIED:20260212T182135Z
UID:6141-1778407200-1778412600@neighborhoodfriends.org
SUMMARY:SUNDAY WORSHIP GATHERING
DESCRIPTION:Sunday Worship Gathering🗓 Every Sunday☕ 10:00 AM – Coffee & Fellowship⏰ 10:30 AM – Worship Gathering📍 Neighborhood Friends Church\, Arvada\, CO \nCome early at 10:00 AM to connect over coffee and fellowship before we begin worship at 10:30. NKids Church is available for children (toddlers through 5th grade). Check in your kids at the NKids Desk in the lobby before service starts\, and they’ll join us for the first worship set before being dismissed to NKids Church. \nJoin us as we come together to worship\, grow\, and share in Christ’s love. See you there!
URL:https://neighborhoodfriends.org/event/sunday-worship-gathering-195/
LOCATION:Neighborhood Friends Church\, 9889 W 66th Ave\, Arvada\, CO\, United States
END:VEVENT
BEGIN:VEVENT
DTSTART;TZID=America/Denver:20260510T160000
DTEND;TZID=America/Denver:20260510T200000
DTSTAMP:20260423T065213
CREATED:20251002T202649Z
LAST-MODIFIED:20260212T182135Z
UID:6142-1778428800-1778443200@neighborhoodfriends.org
SUMMARY:Jesu Cristo Rey de Reyes Church (Spanish Worship Service)
DESCRIPTION:
URL:https://neighborhoodfriends.org/event/jesu-cristo-rey-de-reyes-church-spanish-worship-service-58/
END:VEVENT
BEGIN:VEVENT
DTSTART;TZID=America/Denver:20260511T180000
DTEND;TZID=America/Denver:20260511T190000
DTSTAMP:20260423T065213
CREATED:20251002T202650Z
LAST-MODIFIED:20260212T182136Z
UID:6143-1778522400-1778526000@neighborhoodfriends.org
SUMMARY:SPIRITUAL LIFE MEETING (ONLINE)
DESCRIPTION:A monthly spiritual life board (elders) meeting online to discuss spiritual health\, vision\, needs\, and leadership. Contact: Doug Stooke: dstooke@neighborhoodfriends.org\nJoin with Google Meet: https://meet.google.com/efj-aqzf-imr\nOr dial: (US) +1 417-448-6105 PIN: 254404595#\nMore phone numbers: https://tel.meet/efj-aqzf-imr?pin=6224438130198&hs=7\nLearn more about Meet at: https://support.google.com/a/users/answer/9282720
URL:https://neighborhoodfriends.org/event/spiritual-life-meeting-online-38/
ORGANIZER;CN="Donnie Hinshaw":MAILTO:dhinshaw@neighborhoodfriends.org
END:VEVENT
BEGIN:VEVENT
DTSTART;TZID=America/Denver:20260512T180000
DTEND;TZID=America/Denver:20260512T193000
DTSTAMP:20260423T065213
CREATED:20251002T202653Z
LAST-MODIFIED:20260212T182136Z
UID:6146-1778608800-1778614200@neighborhoodfriends.org
SUMMARY:WOMEN'S LIFEGROUP
DESCRIPTION:Women’s LifeGroupWhen: Every Tuesday night\, 6:00 PM – 7:30 PMWhere: Rhonda Hinshaw’s Home \nLadies\, join us for an uplifting time of fellowship and spiritual growth as we dive into God’s Word together. Whether you’re new to the group or a long-time participant\, we’d love to have you! \nContact: Rhonda Hinshaw at rhinshaw@neighborhoodfriends.org for more information and address
URL:https://neighborhoodfriends.org/event/womens-lifegroup-76/
END:VEVENT
BEGIN:VEVENT
DTSTART;TZID=America/Denver:20260512T181500
DTEND;TZID=America/Denver:20260512T193000
DTSTAMP:20260423T065213
CREATED:20251002T202651Z
LAST-MODIFIED:20260212T182136Z
UID:6144-1778609700-1778614200@neighborhoodfriends.org
SUMMARY:MEN'S LIFEGROUP
DESCRIPTION:Men’s LifeGroupWhen: Every Tuesday night\, 6:15 PM – 7:30 PMWhere: Pastor Donnie’s Office\, Neighborhood Friends Church \nJoin us for an engaging time of fellowship\, study\, and discussion as we grow together in our faith. Whether you’re a regular or a first-time visitor\, you’re welcome to dive into God’s Word with us. We look forward to seeing you there! \nContact: dhinshaw@neighborhoodfriends.org
URL:https://neighborhoodfriends.org/event/mens-lifegroup-76/
LOCATION:Neighborhood Friends Church\, 9889 W 66th Ave\, Arvada\, CO\, United States
END:VEVENT
BEGIN:VEVENT
DTSTART;TZID=America/Denver:20260512T183000
DTEND;TZID=America/Denver:20260512T200000
DTSTAMP:20260423T065213
CREATED:20251002T202652Z
LAST-MODIFIED:20260212T182136Z
UID:6145-1778610600-1778616000@neighborhoodfriends.org
SUMMARY:YOUNG ADULTS LIFEGROUP
DESCRIPTION:Neighborhood Young AdultsWhen: Every Tuesday night\, 6:30 PM – 8:00 PM  Where: Various homes and locations   \nYoung adults\, this is your space to connect\, grow\, and build meaningful community! Each week\, we gather to share life\, dive into God’s Word\, and encourage one another in our faith journeys.   \nContact: Jordan Nockels at jnockels@neighborhoodfriends.org for this week’s location and more details.
URL:https://neighborhoodfriends.org/event/young-adults-lifegroup-50/
END:VEVENT
BEGIN:VEVENT
DTSTART;TZID=America/Denver:20260513T183000
DTEND;TZID=America/Denver:20260513T200000
DTSTAMP:20260423T065213
CREATED:20251101T164306Z
LAST-MODIFIED:20251108T153417Z
UID:6231-1778697000-1778702400@neighborhoodfriends.org
SUMMARY:NEIGHBORHOOD YOUTH
DESCRIPTION:Neighborhood YouthWhen: Every Wednesday night\, 6:30 PMWhere: Neighborhood Friends Church \nCalling all students in grades 6–12! Join us for an exciting evening of fun\, connection\, and spiritual growth. Come hang out with friends\, play games\, and explore what it means to follow Jesus in your everyday life. \nContact: Pastor Jake Stooke at jstooke@neighborhoodfriends.org for more details.
URL:https://neighborhoodfriends.org/event/neighborhood-youth-76/
LOCATION:Neighborhood Friends Church\, 9889 W 66th Ave\, Arvada\, CO\, United States
END:VEVENT
BEGIN:VEVENT
DTSTART;TZID=America/Denver:20260513T183000
DTEND;TZID=America/Denver:20260513T200000
DTSTAMP:20260423T065213
CREATED:20251101T164306Z
LAST-MODIFIED:20260212T182137Z
UID:6232-1778697000-1778702400@neighborhoodfriends.org
SUMMARY:Neighborhood Youth Weekly Gathering
DESCRIPTION:🌟 **Neighborhood Youth Weekly Gathering** 🌟  \nWednesdays | 6:30pm – 8:00pm  \nGet ready for an evening filled with friends\, fun\, and faith! Each week\, we gather to connect\, worship\, and dive into meaningful conversations about life and God’s purpose for us. Whether you’re a first-timer or a regular\, there’s always something new to experience! Don’t miss out on games\, laughter\, and the chance to make great memories together. Bring a friend\, and let’s make each Wednesday a highlight of the week!
URL:https://neighborhoodfriends.org/event/neighborhood-youth-weekly-gathering-173/
LOCATION:Neighborhood Friends Church\, 9889 W 66th Ave\, Arvada\, CO\, United States
END:VEVENT
BEGIN:VEVENT
DTSTART;TZID=America/Denver:20260514T180000
DTEND;TZID=America/Denver:20260514T193000
DTSTAMP:20260423T065213
CREATED:20251101T164307Z
LAST-MODIFIED:20260212T182138Z
UID:6233-1778781600-1778787000@neighborhoodfriends.org
SUMMARY:VINTAGE FRIENDS LIFEGROUP
DESCRIPTION:Vintage Friends LifeGroupWhen: Every Thursday night\, 6:00 PM – 7:30 PMWhere: Online via Zoom \nThis LifeGroup is tailored for seniors (55+) seeking fellowship\, encouragement\, and spiritual growth in a supportive and welcoming environment. Led by Pastor John Hinshaw\, it’s a great opportunity to connect with others and deepen your faith from the comfort of your home. \nContact: Pastor John Hinshaw at jhinshaw@neighborhoodfriends.org for the Zoom link and more information.
URL:https://neighborhoodfriends.org/event/vintage-friends-lifegroup-76/
END:VEVENT
BEGIN:VEVENT
DTSTART;TZID=America/Denver:20260516T070000
DTEND;TZID=America/Denver:20260516T083000
DTSTAMP:20260423T065213
CREATED:20251101T164307Z
LAST-MODIFIED:20260212T182139Z
UID:6234-1778914800-1778920200@neighborhoodfriends.org
SUMMARY:MEN'S COFFEE LIFEGROUP
DESCRIPTION:Men’s LifegroupSaturday Mornings | 7:00am | Red Silo CoffeeLeader: Doug Stooke (dstooke@neighborhoodfriends.org) \nLooking for a place to talk about life\, family\, church\, and culture—all over a good cup of coffee? Join us every Saturday morning at Red Silo Coffee for meaningful conversations and connection with other men. Grab a coffee and bring a friend—everyone’s welcome!
URL:https://neighborhoodfriends.org/event/mens-coffee-lifegroup-106/
LOCATION:Red Silo Coffee Roasters\, 6590 Holman St\, Arvada\, CO\, United States
END:VEVENT
END:VCALENDAR