BEGIN:VCALENDAR
VERSION:2.0
PRODID:-//Neighborhood Friends Church - ECPv6.15.20//NONSGML v1.0//EN
CALSCALE:GREGORIAN
METHOD:PUBLISH
X-WR-CALNAME:Neighborhood Friends Church
X-ORIGINAL-URL:https://neighborhoodfriends.org
X-WR-CALDESC:Events for Neighborhood Friends Church
REFRESH-INTERVAL;VALUE=DURATION:PT1H
X-Robots-Tag:noindex
X-PUBLISHED-TTL:PT1H
BEGIN:VTIMEZONE
TZID:America/Denver
BEGIN:DAYLIGHT
TZOFFSETFROM:-0700
TZOFFSETTO:-0600
TZNAME:MDT
DTSTART:20240310T090000
END:DAYLIGHT
BEGIN:STANDARD
TZOFFSETFROM:-0600
TZOFFSETTO:-0700
TZNAME:MST
DTSTART:20241103T080000
END:STANDARD
BEGIN:DAYLIGHT
TZOFFSETFROM:-0700
TZOFFSETTO:-0600
TZNAME:MDT
DTSTART:20250309T090000
END:DAYLIGHT
BEGIN:STANDARD
TZOFFSETFROM:-0600
TZOFFSETTO:-0700
TZNAME:MST
DTSTART:20251102T080000
END:STANDARD
BEGIN:DAYLIGHT
TZOFFSETFROM:-0700
TZOFFSETTO:-0600
TZNAME:MDT
DTSTART:20260308T090000
END:DAYLIGHT
BEGIN:STANDARD
TZOFFSETFROM:-0600
TZOFFSETTO:-0700
TZNAME:MST
DTSTART:20261101T080000
END:STANDARD
END:VTIMEZONE
BEGIN:VEVENT
DTSTART;TZID=America/Denver:20250107T180000
DTEND;TZID=America/Denver:20250107T193000
DTSTAMP:20260424T075259
CREATED:20241130T170455Z
LAST-MODIFIED:20241217T143254Z
UID:4185-1736272800-1736278200@neighborhoodfriends.org
SUMMARY:WOMEN'S LIFEGROUP
DESCRIPTION:Women’s LifeGroupWhen: Every Tuesday night\, 6:00 PM – 7:30 PMWhere: Rhonda Hinshaw’s Home \nLadies\, join us for an uplifting time of fellowship and spiritual growth as we dive into God’s Word together. Whether you’re new to the group or a long-time participant\, we’d love to have you! \nContact: Rhonda Hinshaw at rhinshaw@neighborhoodfriends.org for more information and address
URL:https://neighborhoodfriends.org/event/womens-lifegroup-6/
END:VEVENT
BEGIN:VEVENT
DTSTART;TZID=America/Denver:20250107T181500
DTEND;TZID=America/Denver:20250107T193000
DTSTAMP:20260424T075259
CREATED:20241130T170455Z
LAST-MODIFIED:20241217T143254Z
UID:4186-1736273700-1736278200@neighborhoodfriends.org
SUMMARY:MEN'S LIFEGROUP
DESCRIPTION:Men’s LifeGroupWhen: Every Tuesday night\, 6:15 PM – 7:30 PMWhere: Pastor Donnie’s Office\, Neighborhood Friends Church \nJoin us for an engaging time of fellowship\, study\, and discussion as we grow together in our faith. Whether you’re a regular or a first-time visitor\, you’re welcome to dive into God’s Word with us. We look forward to seeing you there! \nContact: dhinshaw@neighborhoodfriends.org
URL:https://neighborhoodfriends.org/event/mens-lifegroup-6/
LOCATION:Neighborhood Friends Church\, 9889 W 66th Ave\, Arvada\, CO\, United States
END:VEVENT
BEGIN:VEVENT
DTSTART;TZID=America/Denver:20250107T183000
DTEND;TZID=America/Denver:20250107T200000
DTSTAMP:20260424T075259
CREATED:20241130T170455Z
LAST-MODIFIED:20241217T143254Z
UID:4184-1736274600-1736280000@neighborhoodfriends.org
SUMMARY:YOUNG ADULTS LIFEGROUP
DESCRIPTION:Neighborhood Young AdultsWhen: Every Tuesday night\, 6:30 PM – 8:00 PM  Where: Various homes and locations   \nYoung adults\, this is your space to connect\, grow\, and build meaningful community! Each week\, we gather to share life\, dive into God’s Word\, and encourage one another in our faith journeys.   \nContact: Jordan Nockels at jnockels@neighborhoodfriends.org for this week’s location and more details.
URL:https://neighborhoodfriends.org/event/neighborhood-young-adults-6/
END:VEVENT
BEGIN:VEVENT
DTSTART;TZID=America/Denver:20250108T183000
DTEND;TZID=America/Denver:20250108T200000
DTSTAMP:20260424T075259
CREATED:20241130T170455Z
LAST-MODIFIED:20241217T143254Z
UID:4187-1736361000-1736366400@neighborhoodfriends.org
SUMMARY:NEIGHBORHOOD YOUTH
DESCRIPTION:Neighborhood YouthWhen: Every Wednesday night\, 6:30 PMWhere: Neighborhood Friends Church \nCalling all students in grades 6–12! Join us for an exciting evening of fun\, connection\, and spiritual growth. Come hang out with friends\, play games\, and explore what it means to follow Jesus in your everyday life. \nContact: Pastor Jake Stooke at jstooke@neighborhoodfriends.org for more details.
URL:https://neighborhoodfriends.org/event/neighborhood-youth-6/
LOCATION:Neighborhood Friends Church\, 9889 W 66th Ave\, Arvada\, CO\, United States
END:VEVENT
BEGIN:VEVENT
DTSTART;TZID=America/Denver:20250109T180000
DTEND;TZID=America/Denver:20250109T193000
DTSTAMP:20260424T075259
CREATED:20241130T170455Z
LAST-MODIFIED:20241217T143254Z
UID:4188-1736445600-1736451000@neighborhoodfriends.org
SUMMARY:VINTAGE FRIENDS LIFEGROUP
DESCRIPTION:Vintage Friends LifeGroupWhen: Every Thursday night\, 6:00 PM – 7:30 PMWhere: Online via Zoom \nThis LifeGroup is tailored for seniors (55+) seeking fellowship\, encouragement\, and spiritual growth in a supportive and welcoming environment. Led by Pastor John Hinshaw\, it’s a great opportunity to connect with others and deepen your faith from the comfort of your home. \nContact: Pastor John Hinshaw at jhinshaw@neighborhoodfriends.org for the Zoom link and more information.
URL:https://neighborhoodfriends.org/event/vintage-friends-lifegroup-6/
END:VEVENT
BEGIN:VEVENT
DTSTART;TZID=America/Denver:20250111T070000
DTEND;TZID=America/Denver:20250111T083000
DTSTAMP:20260424T075259
CREATED:20241130T170456Z
LAST-MODIFIED:20241130T170456Z
UID:4189-1736578800-1736584200@neighborhoodfriends.org
SUMMARY:MEN'S COFFEE LIFEGROUP
DESCRIPTION:Men’s CoffeeWhen: Every Saturday morning\, 7:00 AMWhere: Red Silo Coffee\, Arvada \nStart your weekend with a cup of coffee and great conversation about life and Jesus. This is a casual\, welcoming space for men to connect\, share\, and grow together. \nContact: dstooke@neighborhoodfriends.org for more details.
URL:https://neighborhoodfriends.org/event/mens-coffee-lifegroup-75/
LOCATION:Red Silo Coffee Roasters\, 6590 Holman St\, Arvada\, CO\, United States
END:VEVENT
BEGIN:VEVENT
DTSTART;TZID=America/Denver:20250112T100000
DTEND;TZID=America/Denver:20250112T120000
DTSTAMP:20260424T075259
CREATED:20241130T170456Z
LAST-MODIFIED:20241217T143225Z
UID:4190-1736676000-1736683200@neighborhoodfriends.org
SUMMARY:SUNDAY WORSHIP GATHERING
DESCRIPTION:Sunday Worship GatheringWhen: Sundays at Neighborhood Friends Church \n\n10:00 AM – Coffee and Pastries\n10:30 AM – Worship and Teaching\n\nJoin us for a meaningful Sunday morning filled with worship\, teaching\, and community. Kids from Littles through 5th Grade can enjoy their own engaging teaching and activities following the worship set. We look forward to worshiping with you!  For more information: info@neighborhoodfriends.org
URL:https://neighborhoodfriends.org/event/sunday-worship-gathering-7/
LOCATION:Neighborhood Friends Church\, 9889 W 66th Ave\, Arvada\, CO\, United States
END:VEVENT
BEGIN:VEVENT
DTSTART;TZID=America/Denver:20250112T160000
DTEND;TZID=America/Denver:20250112T200000
DTSTAMP:20260424T075259
CREATED:20241217T143225Z
LAST-MODIFIED:20241217T143225Z
UID:4625-1736697600-1736712000@neighborhoodfriends.org
SUMMARY:Jesu cristo Rey de Reyes Service
DESCRIPTION:Join with Google Meet: https://meet.google.com/xmh-xhke-oyg\nOr dial: (US) +1 260-557-1985 PIN: 521074753#\nMore phone numbers: https://tel.meet/xmh-xhke-oyg?pin=8120562656953&hs=7\nLearn more about Meet at: https://support.google.com/a/users/answer/9282720
URL:https://neighborhoodfriends.org/event/jesu-cristo-rey-de-reyes-service-2/
ORGANIZER;CN="mbins@neighborhoodfriends.org":MAILTO:mbins@neighborhoodfriends.org
END:VEVENT
BEGIN:VEVENT
DTSTART;TZID=America/Denver:20250114T180000
DTEND;TZID=America/Denver:20250114T193000
DTSTAMP:20260424T075259
CREATED:20241130T170457Z
LAST-MODIFIED:20241217T143225Z
UID:4193-1736877600-1736883000@neighborhoodfriends.org
SUMMARY:WOMEN'S LIFEGROUP
DESCRIPTION:Women’s LifeGroupWhen: Every Tuesday night\, 6:00 PM – 7:30 PMWhere: Rhonda Hinshaw’s Home \nLadies\, join us for an uplifting time of fellowship and spiritual growth as we dive into God’s Word together. Whether you’re new to the group or a long-time participant\, we’d love to have you! \nContact: Rhonda Hinshaw at rhinshaw@neighborhoodfriends.org for more information and address
URL:https://neighborhoodfriends.org/event/womens-lifegroup-7/
END:VEVENT
BEGIN:VEVENT
DTSTART;TZID=America/Denver:20250114T181500
DTEND;TZID=America/Denver:20250114T193000
DTSTAMP:20260424T075259
CREATED:20241130T170457Z
LAST-MODIFIED:20241217T143225Z
UID:4191-1736878500-1736883000@neighborhoodfriends.org
SUMMARY:MEN'S LIFEGROUP
DESCRIPTION:Men’s LifeGroupWhen: Every Tuesday night\, 6:15 PM – 7:30 PMWhere: Pastor Donnie’s Office\, Neighborhood Friends Church \nJoin us for an engaging time of fellowship\, study\, and discussion as we grow together in our faith. Whether you’re a regular or a first-time visitor\, you’re welcome to dive into God’s Word with us. We look forward to seeing you there! \nContact: dhinshaw@neighborhoodfriends.org
URL:https://neighborhoodfriends.org/event/mens-lifegroup-7/
LOCATION:Neighborhood Friends Church\, 9889 W 66th Ave\, Arvada\, CO\, United States
END:VEVENT
BEGIN:VEVENT
DTSTART;TZID=America/Denver:20250114T183000
DTEND;TZID=America/Denver:20250114T200000
DTSTAMP:20260424T075259
CREATED:20241130T170457Z
LAST-MODIFIED:20241217T143225Z
UID:4192-1736879400-1736884800@neighborhoodfriends.org
SUMMARY:YOUNG ADULTS LIFEGROUP
DESCRIPTION:Neighborhood Young AdultsWhen: Every Tuesday night\, 6:30 PM – 8:00 PM  Where: Various homes and locations   \nYoung adults\, this is your space to connect\, grow\, and build meaningful community! Each week\, we gather to share life\, dive into God’s Word\, and encourage one another in our faith journeys.   \nContact: Jordan Nockels at jnockels@neighborhoodfriends.org for this week’s location and more details.
URL:https://neighborhoodfriends.org/event/neighborhood-young-adults-7/
END:VEVENT
BEGIN:VEVENT
DTSTART;TZID=America/Denver:20250115T183000
DTEND;TZID=America/Denver:20250115T200000
DTSTAMP:20260424T075259
CREATED:20241130T170458Z
LAST-MODIFIED:20241217T143226Z
UID:4194-1736965800-1736971200@neighborhoodfriends.org
SUMMARY:NEIGHBORHOOD YOUTH
DESCRIPTION:Neighborhood YouthWhen: Every Wednesday night\, 6:30 PMWhere: Neighborhood Friends Church \nCalling all students in grades 6–12! Join us for an exciting evening of fun\, connection\, and spiritual growth. Come hang out with friends\, play games\, and explore what it means to follow Jesus in your everyday life. \nContact: Pastor Jake Stooke at jstooke@neighborhoodfriends.org for more details.
URL:https://neighborhoodfriends.org/event/neighborhood-youth-7/
LOCATION:Neighborhood Friends Church\, 9889 W 66th Ave\, Arvada\, CO\, United States
END:VEVENT
BEGIN:VEVENT
DTSTART;TZID=America/Denver:20250116T180000
DTEND;TZID=America/Denver:20250116T193000
DTSTAMP:20260424T075259
CREATED:20241130T170458Z
LAST-MODIFIED:20241217T143226Z
UID:4195-1737050400-1737055800@neighborhoodfriends.org
SUMMARY:VINTAGE FRIENDS LIFEGROUP
DESCRIPTION:Vintage Friends LifeGroupWhen: Every Thursday night\, 6:00 PM – 7:30 PMWhere: Online via Zoom \nThis LifeGroup is tailored for seniors (55+) seeking fellowship\, encouragement\, and spiritual growth in a supportive and welcoming environment. Led by Pastor John Hinshaw\, it’s a great opportunity to connect with others and deepen your faith from the comfort of your home. \nContact: Pastor John Hinshaw at jhinshaw@neighborhoodfriends.org for the Zoom link and more information.
URL:https://neighborhoodfriends.org/event/vintage-friends-lifegroup-7/
END:VEVENT
BEGIN:VEVENT
DTSTART;TZID=America/Denver:20250118T070000
DTEND;TZID=America/Denver:20250118T083000
DTSTAMP:20260424T075259
CREATED:20241130T170458Z
LAST-MODIFIED:20241130T170458Z
UID:4196-1737183600-1737189000@neighborhoodfriends.org
SUMMARY:MEN'S COFFEE LIFEGROUP
DESCRIPTION:Men’s CoffeeWhen: Every Saturday morning\, 7:00 AMWhere: Red Silo Coffee\, Arvada \nStart your weekend with a cup of coffee and great conversation about life and Jesus. This is a casual\, welcoming space for men to connect\, share\, and grow together. \nContact: dstooke@neighborhoodfriends.org for more details.
URL:https://neighborhoodfriends.org/event/mens-coffee-lifegroup-76/
LOCATION:Red Silo Coffee Roasters\, 6590 Holman St\, Arvada\, CO\, United States
END:VEVENT
BEGIN:VEVENT
DTSTART;TZID=America/Denver:20250119T100000
DTEND;TZID=America/Denver:20250119T120000
DTSTAMP:20260424T075259
CREATED:20241130T170458Z
LAST-MODIFIED:20241217T143226Z
UID:4197-1737280800-1737288000@neighborhoodfriends.org
SUMMARY:SUNDAY WORSHIP GATHERING
DESCRIPTION:Sunday Worship GatheringWhen: Sundays at Neighborhood Friends Church \n\n10:00 AM – Coffee and Pastries\n10:30 AM – Worship and Teaching\n\nJoin us for a meaningful Sunday morning filled with worship\, teaching\, and community. Kids from Littles through 5th Grade can enjoy their own engaging teaching and activities following the worship set. We look forward to worshiping with you!  For more information: info@neighborhoodfriends.org
URL:https://neighborhoodfriends.org/event/sunday-worship-gathering-8/
LOCATION:Neighborhood Friends Church\, 9889 W 66th Ave\, Arvada\, CO\, United States
END:VEVENT
BEGIN:VEVENT
DTSTART;TZID=America/Denver:20250119T160000
DTEND;TZID=America/Denver:20250119T200000
DTSTAMP:20260424T075259
CREATED:20241217T143226Z
LAST-MODIFIED:20241217T143226Z
UID:4626-1737302400-1737316800@neighborhoodfriends.org
SUMMARY:Jesu cristo Rey de Reyes Service
DESCRIPTION:Join with Google Meet: https://meet.google.com/xmh-xhke-oyg\nOr dial: (US) +1 260-557-1985 PIN: 521074753#\nMore phone numbers: https://tel.meet/xmh-xhke-oyg?pin=8120562656953&hs=7\nLearn more about Meet at: https://support.google.com/a/users/answer/9282720
URL:https://neighborhoodfriends.org/event/jesu-cristo-rey-de-reyes-service-3/
ORGANIZER;CN="mbins@neighborhoodfriends.org":MAILTO:mbins@neighborhoodfriends.org
END:VEVENT
BEGIN:VEVENT
DTSTART;TZID=America/Denver:20250121T180000
DTEND;TZID=America/Denver:20250121T193000
DTSTAMP:20260424T075259
CREATED:20241130T170459Z
LAST-MODIFIED:20241217T143226Z
UID:4199-1737482400-1737487800@neighborhoodfriends.org
SUMMARY:WOMEN'S LIFEGROUP
DESCRIPTION:Women’s LifeGroupWhen: Every Tuesday night\, 6:00 PM – 7:30 PMWhere: Rhonda Hinshaw’s Home \nLadies\, join us for an uplifting time of fellowship and spiritual growth as we dive into God’s Word together. Whether you’re new to the group or a long-time participant\, we’d love to have you! \nContact: Rhonda Hinshaw at rhinshaw@neighborhoodfriends.org for more information and address
URL:https://neighborhoodfriends.org/event/womens-lifegroup-8/
END:VEVENT
BEGIN:VEVENT
DTSTART;TZID=America/Denver:20250121T181500
DTEND;TZID=America/Denver:20250121T193000
DTSTAMP:20260424T075259
CREATED:20241130T170459Z
LAST-MODIFIED:20241217T143227Z
UID:4198-1737483300-1737487800@neighborhoodfriends.org
SUMMARY:MEN'S LIFEGROUP
DESCRIPTION:Men’s LifeGroupWhen: Every Tuesday night\, 6:15 PM – 7:30 PMWhere: Pastor Donnie’s Office\, Neighborhood Friends Church \nJoin us for an engaging time of fellowship\, study\, and discussion as we grow together in our faith. Whether you’re a regular or a first-time visitor\, you’re welcome to dive into God’s Word with us. We look forward to seeing you there! \nContact: dhinshaw@neighborhoodfriends.org
URL:https://neighborhoodfriends.org/event/mens-lifegroup-8/
LOCATION:Neighborhood Friends Church\, 9889 W 66th Ave\, Arvada\, CO\, United States
END:VEVENT
BEGIN:VEVENT
DTSTART;TZID=America/Denver:20250121T183000
DTEND;TZID=America/Denver:20250121T200000
DTSTAMP:20260424T075259
CREATED:20241130T170459Z
LAST-MODIFIED:20241217T143227Z
UID:4200-1737484200-1737489600@neighborhoodfriends.org
SUMMARY:YOUNG ADULTS LIFEGROUP
DESCRIPTION:Neighborhood Young AdultsWhen: Every Tuesday night\, 6:30 PM – 8:00 PM  Where: Various homes and locations   \nYoung adults\, this is your space to connect\, grow\, and build meaningful community! Each week\, we gather to share life\, dive into God’s Word\, and encourage one another in our faith journeys.   \nContact: Jordan Nockels at jnockels@neighborhoodfriends.org for this week’s location and more details.
URL:https://neighborhoodfriends.org/event/neighborhood-young-adults-8/
END:VEVENT
BEGIN:VEVENT
DTSTART;TZID=America/Denver:20250122T183000
DTEND;TZID=America/Denver:20250122T200000
DTSTAMP:20260424T075259
CREATED:20241130T170500Z
LAST-MODIFIED:20241217T143227Z
UID:4201-1737570600-1737576000@neighborhoodfriends.org
SUMMARY:NEIGHBORHOOD YOUTH
DESCRIPTION:Neighborhood YouthWhen: Every Wednesday night\, 6:30 PMWhere: Neighborhood Friends Church \nCalling all students in grades 6–12! Join us for an exciting evening of fun\, connection\, and spiritual growth. Come hang out with friends\, play games\, and explore what it means to follow Jesus in your everyday life. \nContact: Pastor Jake Stooke at jstooke@neighborhoodfriends.org for more details.
URL:https://neighborhoodfriends.org/event/neighborhood-youth-8/
LOCATION:Neighborhood Friends Church\, 9889 W 66th Ave\, Arvada\, CO\, United States
END:VEVENT
BEGIN:VEVENT
DTSTART;TZID=America/Denver:20250123T180000
DTEND;TZID=America/Denver:20250123T193000
DTSTAMP:20260424T075259
CREATED:20241130T170500Z
LAST-MODIFIED:20241217T143227Z
UID:4202-1737655200-1737660600@neighborhoodfriends.org
SUMMARY:VINTAGE FRIENDS LIFEGROUP
DESCRIPTION:Vintage Friends LifeGroupWhen: Every Thursday night\, 6:00 PM – 7:30 PMWhere: Online via Zoom \nThis LifeGroup is tailored for seniors (55+) seeking fellowship\, encouragement\, and spiritual growth in a supportive and welcoming environment. Led by Pastor John Hinshaw\, it’s a great opportunity to connect with others and deepen your faith from the comfort of your home. \nContact: Pastor John Hinshaw at jhinshaw@neighborhoodfriends.org for the Zoom link and more information.
URL:https://neighborhoodfriends.org/event/vintage-friends-lifegroup-8/
END:VEVENT
BEGIN:VEVENT
DTSTART;TZID=America/Denver:20250125T070000
DTEND;TZID=America/Denver:20250125T083000
DTSTAMP:20260424T075259
CREATED:20241130T170501Z
LAST-MODIFIED:20241130T170501Z
UID:4203-1737788400-1737793800@neighborhoodfriends.org
SUMMARY:MEN'S COFFEE LIFEGROUP
DESCRIPTION:Men’s CoffeeWhen: Every Saturday morning\, 7:00 AMWhere: Red Silo Coffee\, Arvada \nStart your weekend with a cup of coffee and great conversation about life and Jesus. This is a casual\, welcoming space for men to connect\, share\, and grow together. \nContact: dstooke@neighborhoodfriends.org for more details.
URL:https://neighborhoodfriends.org/event/mens-coffee-lifegroup-77/
LOCATION:Red Silo Coffee Roasters\, 6590 Holman St\, Arvada\, CO\, United States
END:VEVENT
BEGIN:VEVENT
DTSTART;TZID=America/Denver:20250126T100000
DTEND;TZID=America/Denver:20250126T120000
DTSTAMP:20260424T075259
CREATED:20241130T170501Z
LAST-MODIFIED:20241217T143228Z
UID:4204-1737885600-1737892800@neighborhoodfriends.org
SUMMARY:SUNDAY WORSHIP GATHERING
DESCRIPTION:Sunday Worship GatheringWhen: Sundays at Neighborhood Friends Church \n\n10:00 AM – Coffee and Pastries\n10:30 AM – Worship and Teaching\n\nJoin us for a meaningful Sunday morning filled with worship\, teaching\, and community. Kids from Littles through 5th Grade can enjoy their own engaging teaching and activities following the worship set. We look forward to worshiping with you!  For more information: info@neighborhoodfriends.org
URL:https://neighborhoodfriends.org/event/sunday-worship-gathering-9/
LOCATION:Neighborhood Friends Church\, 9889 W 66th Ave\, Arvada\, CO\, United States
END:VEVENT
BEGIN:VEVENT
DTSTART;TZID=America/Denver:20250126T160000
DTEND;TZID=America/Denver:20250126T200000
DTSTAMP:20260424T075259
CREATED:20241217T143228Z
LAST-MODIFIED:20241217T143228Z
UID:4627-1737907200-1737921600@neighborhoodfriends.org
SUMMARY:Jesu cristo Rey de Reyes Service
DESCRIPTION:Join with Google Meet: https://meet.google.com/xmh-xhke-oyg\nOr dial: (US) +1 260-557-1985 PIN: 521074753#\nMore phone numbers: https://tel.meet/xmh-xhke-oyg?pin=8120562656953&hs=7\nLearn more about Meet at: https://support.google.com/a/users/answer/9282720
URL:https://neighborhoodfriends.org/event/jesu-cristo-rey-de-reyes-service-4/
ORGANIZER;CN="mbins@neighborhoodfriends.org":MAILTO:mbins@neighborhoodfriends.org
END:VEVENT
BEGIN:VEVENT
DTSTART;TZID=America/Denver:20250128T180000
DTEND;TZID=America/Denver:20250128T193000
DTSTAMP:20260424T075259
CREATED:20241130T170501Z
LAST-MODIFIED:20241217T143228Z
UID:4205-1738087200-1738092600@neighborhoodfriends.org
SUMMARY:WOMEN'S LIFEGROUP
DESCRIPTION:Women’s LifeGroupWhen: Every Tuesday night\, 6:00 PM – 7:30 PMWhere: Rhonda Hinshaw’s Home \nLadies\, join us for an uplifting time of fellowship and spiritual growth as we dive into God’s Word together. Whether you’re new to the group or a long-time participant\, we’d love to have you! \nContact: Rhonda Hinshaw at rhinshaw@neighborhoodfriends.org for more information and address
URL:https://neighborhoodfriends.org/event/womens-lifegroup-9/
END:VEVENT
BEGIN:VEVENT
DTSTART;TZID=America/Denver:20250128T181500
DTEND;TZID=America/Denver:20250128T193000
DTSTAMP:20260424T075259
CREATED:20241130T170502Z
LAST-MODIFIED:20241217T143228Z
UID:4208-1738088100-1738092600@neighborhoodfriends.org
SUMMARY:MEN'S LIFEGROUP
DESCRIPTION:Men’s LifeGroupWhen: Every Tuesday night\, 6:15 PM – 7:30 PMWhere: Pastor Donnie’s Office\, Neighborhood Friends Church \nJoin us for an engaging time of fellowship\, study\, and discussion as we grow together in our faith. Whether you’re a regular or a first-time visitor\, you’re welcome to dive into God’s Word with us. We look forward to seeing you there! \nContact: dhinshaw@neighborhoodfriends.org
URL:https://neighborhoodfriends.org/event/mens-lifegroup-9/
LOCATION:Neighborhood Friends Church\, 9889 W 66th Ave\, Arvada\, CO\, United States
END:VEVENT
BEGIN:VEVENT
DTSTART;TZID=America/Denver:20250128T183000
DTEND;TZID=America/Denver:20250128T200000
DTSTAMP:20260424T075259
CREATED:20241130T170502Z
LAST-MODIFIED:20241217T143228Z
UID:4210-1738089000-1738094400@neighborhoodfriends.org
SUMMARY:YOUNG ADULTS LIFEGROUP
DESCRIPTION:Neighborhood Young AdultsWhen: Every Tuesday night\, 6:30 PM – 8:00 PM  Where: Various homes and locations   \nYoung adults\, this is your space to connect\, grow\, and build meaningful community! Each week\, we gather to share life\, dive into God’s Word\, and encourage one another in our faith journeys.   \nContact: Jordan Nockels at jnockels@neighborhoodfriends.org for this week’s location and more details.
URL:https://neighborhoodfriends.org/event/neighborhood-young-adults-9/
END:VEVENT
BEGIN:VEVENT
DTSTART;TZID=America/Denver:20250129T183000
DTEND;TZID=America/Denver:20250129T200000
DTSTAMP:20260424T075259
CREATED:20241130T170503Z
LAST-MODIFIED:20241217T143228Z
UID:4214-1738175400-1738180800@neighborhoodfriends.org
SUMMARY:NEIGHBORHOOD YOUTH
DESCRIPTION:Neighborhood YouthWhen: Every Wednesday night\, 6:30 PMWhere: Neighborhood Friends Church \nCalling all students in grades 6–12! Join us for an exciting evening of fun\, connection\, and spiritual growth. Come hang out with friends\, play games\, and explore what it means to follow Jesus in your everyday life. \nContact: Pastor Jake Stooke at jstooke@neighborhoodfriends.org for more details.
URL:https://neighborhoodfriends.org/event/neighborhood-youth-9/
LOCATION:Neighborhood Friends Church\, 9889 W 66th Ave\, Arvada\, CO\, United States
END:VEVENT
BEGIN:VEVENT
DTSTART;TZID=America/Denver:20250130T180000
DTEND;TZID=America/Denver:20250130T193000
DTSTAMP:20260424T075259
CREATED:20241130T170503Z
LAST-MODIFIED:20241217T143229Z
UID:4216-1738260000-1738265400@neighborhoodfriends.org
SUMMARY:VINTAGE FRIENDS LIFEGROUP
DESCRIPTION:Vintage Friends LifeGroupWhen: Every Thursday night\, 6:00 PM – 7:30 PMWhere: Online via Zoom \nThis LifeGroup is tailored for seniors (55+) seeking fellowship\, encouragement\, and spiritual growth in a supportive and welcoming environment. Led by Pastor John Hinshaw\, it’s a great opportunity to connect with others and deepen your faith from the comfort of your home. \nContact: Pastor John Hinshaw at jhinshaw@neighborhoodfriends.org for the Zoom link and more information.
URL:https://neighborhoodfriends.org/event/vintage-friends-lifegroup-9/
END:VEVENT
BEGIN:VEVENT
DTSTART;TZID=America/Denver:20250201T070000
DTEND;TZID=America/Denver:20250201T083000
DTSTAMP:20260424T075259
CREATED:20241130T170503Z
LAST-MODIFIED:20241130T170503Z
UID:4218-1738393200-1738398600@neighborhoodfriends.org
SUMMARY:MEN'S COFFEE LIFEGROUP
DESCRIPTION:Men’s CoffeeWhen: Every Saturday morning\, 7:00 AMWhere: Red Silo Coffee\, Arvada \nStart your weekend with a cup of coffee and great conversation about life and Jesus. This is a casual\, welcoming space for men to connect\, share\, and grow together. \nContact: dstooke@neighborhoodfriends.org for more details.
URL:https://neighborhoodfriends.org/event/mens-coffee-lifegroup-78/
LOCATION:Red Silo Coffee Roasters\, 6590 Holman St\, Arvada\, CO\, United States
END:VEVENT
END:VCALENDAR