BEGIN:VCALENDAR
VERSION:2.0
PRODID:-//Neighborhood Friends Church - ECPv6.15.20//NONSGML v1.0//EN
CALSCALE:GREGORIAN
METHOD:PUBLISH
X-WR-CALNAME:Neighborhood Friends Church
X-ORIGINAL-URL:https://neighborhoodfriends.org
X-WR-CALDESC:Events for Neighborhood Friends Church
REFRESH-INTERVAL;VALUE=DURATION:PT1H
X-Robots-Tag:noindex
X-PUBLISHED-TTL:PT1H
BEGIN:VTIMEZONE
TZID:America/Denver
BEGIN:DAYLIGHT
TZOFFSETFROM:-0700
TZOFFSETTO:-0600
TZNAME:MDT
DTSTART:20240310T090000
END:DAYLIGHT
BEGIN:STANDARD
TZOFFSETFROM:-0600
TZOFFSETTO:-0700
TZNAME:MST
DTSTART:20241103T080000
END:STANDARD
BEGIN:DAYLIGHT
TZOFFSETFROM:-0700
TZOFFSETTO:-0600
TZNAME:MDT
DTSTART:20250309T090000
END:DAYLIGHT
BEGIN:STANDARD
TZOFFSETFROM:-0600
TZOFFSETTO:-0700
TZNAME:MST
DTSTART:20251102T080000
END:STANDARD
BEGIN:DAYLIGHT
TZOFFSETFROM:-0700
TZOFFSETTO:-0600
TZNAME:MDT
DTSTART:20260308T090000
END:DAYLIGHT
BEGIN:STANDARD
TZOFFSETFROM:-0600
TZOFFSETTO:-0700
TZNAME:MST
DTSTART:20261101T080000
END:STANDARD
END:VTIMEZONE
BEGIN:VEVENT
DTSTART;VALUE=DATE:20251010
DTEND;VALUE=DATE:20251012
DTSTAMP:20260423T191742
CREATED:20250613T025907Z
LAST-MODIFIED:20251002T202043Z
UID:5420-1760054400-1760227199@neighborhoodfriends.org
SUMMARY:RMYM Mid Year Board Meetings AT NFC
DESCRIPTION:Details and Schedule to come.\nRocky Mountain Yearly Meeting of Friends Churches will be meeting for Mid Year Board Meetings at NFC. A time of worship\, discussion\, creative planning\, business reports\, and prayer will take place on Friday evening\, October 10th\, and Saturday October 11th all day.
URL:https://neighborhoodfriends.org/event/rmym-mid-year-board-meetings-at-nfc/
LOCATION:Neighborhood Friends Church\, 9889 W 66th Ave\, Arvada\, CO\, United States
END:VEVENT
BEGIN:VEVENT
DTSTART;TZID=America/Denver:20251012T100000
DTEND;TZID=America/Denver:20251012T113000
DTSTAMP:20260423T191742
CREATED:20250413T161920Z
LAST-MODIFIED:20251002T202044Z
UID:4946-1760263200-1760268600@neighborhoodfriends.org
SUMMARY:SUNDAY WORSHIP GATHERING
DESCRIPTION:Sunday Worship Gathering🗓 Every Sunday☕ 10:00 AM – Coffee & Fellowship⏰ 10:30 AM – Worship Gathering📍 Neighborhood Friends Church\, Arvada\, CO \nCome early at 10:00 AM to connect over coffee and fellowship before we begin worship at 10:30. NKids Church is available for children (toddlers through 5th grade). Check in your kids at the NKids Desk in the lobby before service starts\, and they’ll join us for the first worship set before being dismissed to NKids Church. \nJoin us as we come together to worship\, grow\, and share in Christ’s love. See you there!
URL:https://neighborhoodfriends.org/event/sunday-worship-gathering-165/
LOCATION:Neighborhood Friends Church\, 9889 W 66th Ave\, Arvada\, CO\, United States
END:VEVENT
BEGIN:VEVENT
DTSTART;TZID=America/Denver:20251012T160000
DTEND;TZID=America/Denver:20251012T200000
DTSTAMP:20260423T191742
CREATED:20250413T161921Z
LAST-MODIFIED:20251002T202045Z
UID:4947-1760284800-1760299200@neighborhoodfriends.org
SUMMARY:Jesu Cristo Rey de Reyes Church (Spanish Worship Service)
DESCRIPTION:
URL:https://neighborhoodfriends.org/event/jesu-cristo-rey-de-reyes-church-spanish-worship-service-28/
END:VEVENT
BEGIN:VEVENT
DTSTART;TZID=America/Denver:20251013T180000
DTEND;TZID=America/Denver:20251013T190000
DTSTAMP:20260423T191742
CREATED:20250826T030151Z
LAST-MODIFIED:20251002T202046Z
UID:5968-1760378400-1760382000@neighborhoodfriends.org
SUMMARY:SPIRITUAL LIFE MEETING (ONLINE)
DESCRIPTION:A monthly spiritual life board (elders) meeting online to discuss spiritual health\, vision\, needs\, and leadership. Contact: Doug Stooke: dstooke@neighborhoodfriends.org\nJoin with Google Meet: https://meet.google.com/efj-aqzf-imr\nOr dial: (US) +1 417-448-6105 PIN: 254404595#\nMore phone numbers: https://tel.meet/efj-aqzf-imr?pin=6224438130198&hs=7\nLearn more about Meet at: https://support.google.com/a/users/answer/9282720
URL:https://neighborhoodfriends.org/event/spiritual-life-meeting-online-31/
ORGANIZER;CN="Donnie Hinshaw":MAILTO:dhinshaw@neighborhoodfriends.org
END:VEVENT
BEGIN:VEVENT
DTSTART;TZID=America/Denver:20251014T180000
DTEND;TZID=America/Denver:20251014T193000
DTSTAMP:20260423T191742
CREATED:20250413T161922Z
LAST-MODIFIED:20251002T202048Z
UID:4949-1760464800-1760470200@neighborhoodfriends.org
SUMMARY:WOMEN'S LIFEGROUP
DESCRIPTION:Women’s LifeGroupWhen: Every Tuesday night\, 6:00 PM – 7:30 PMWhere: Rhonda Hinshaw’s Home \nLadies\, join us for an uplifting time of fellowship and spiritual growth as we dive into God’s Word together. Whether you’re new to the group or a long-time participant\, we’d love to have you! \nContact: Rhonda Hinshaw at rhinshaw@neighborhoodfriends.org for more information and address
URL:https://neighborhoodfriends.org/event/womens-lifegroup-46/
END:VEVENT
BEGIN:VEVENT
DTSTART;TZID=America/Denver:20251014T181500
DTEND;TZID=America/Denver:20251014T193000
DTSTAMP:20260423T191742
CREATED:20250413T161922Z
LAST-MODIFIED:20251002T202055Z
UID:4948-1760465700-1760470200@neighborhoodfriends.org
SUMMARY:MEN'S LIFEGROUP
DESCRIPTION:Men’s LifeGroupWhen: Every Tuesday night\, 6:15 PM – 7:30 PMWhere: Pastor Donnie’s Office\, Neighborhood Friends Church \nJoin us for an engaging time of fellowship\, study\, and discussion as we grow together in our faith. Whether you’re a regular or a first-time visitor\, you’re welcome to dive into God’s Word with us. We look forward to seeing you there! \nContact: dhinshaw@neighborhoodfriends.org
URL:https://neighborhoodfriends.org/event/mens-lifegroup-46/
LOCATION:Neighborhood Friends Church\, 9889 W 66th Ave\, Arvada\, CO\, United States
END:VEVENT
BEGIN:VEVENT
DTSTART;TZID=America/Denver:20251014T183000
DTEND;TZID=America/Denver:20251014T200000
DTSTAMP:20260423T191742
CREATED:20250413T161923Z
LAST-MODIFIED:20251002T202053Z
UID:4950-1760466600-1760472000@neighborhoodfriends.org
SUMMARY:YOUNG ADULTS LIFEGROUP
DESCRIPTION:Neighborhood Young AdultsWhen: Every Tuesday night\, 6:30 PM – 8:00 PM  Where: Various homes and locations   \nYoung adults\, this is your space to connect\, grow\, and build meaningful community! Each week\, we gather to share life\, dive into God’s Word\, and encourage one another in our faith journeys.   \nContact: Jordan Nockels at jnockels@neighborhoodfriends.org for this week’s location and more details.
URL:https://neighborhoodfriends.org/event/young-adults-lifegroup-20/
END:VEVENT
BEGIN:VEVENT
DTSTART;TZID=America/Denver:20251015T183000
DTEND;TZID=America/Denver:20251015T200000
DTSTAMP:20260423T191742
CREATED:20250413T161923Z
LAST-MODIFIED:20251002T202056Z
UID:4952-1760553000-1760558400@neighborhoodfriends.org
SUMMARY:NEIGHBORHOOD YOUTH
DESCRIPTION:Neighborhood YouthWhen: Every Wednesday night\, 6:30 PMWhere: Neighborhood Friends Church \nCalling all students in grades 6–12! Join us for an exciting evening of fun\, connection\, and spiritual growth. Come hang out with friends\, play games\, and explore what it means to follow Jesus in your everyday life. \nContact: Pastor Jake Stooke at jstooke@neighborhoodfriends.org for more details.
URL:https://neighborhoodfriends.org/event/neighborhood-youth-46/
LOCATION:Neighborhood Friends Church\, 9889 W 66th Ave\, Arvada\, CO\, United States
END:VEVENT
BEGIN:VEVENT
DTSTART;TZID=America/Denver:20251016T180000
DTEND;TZID=America/Denver:20251016T193000
DTSTAMP:20260423T191742
CREATED:20250413T161924Z
LAST-MODIFIED:20251002T202057Z
UID:4953-1760637600-1760643000@neighborhoodfriends.org
SUMMARY:VINTAGE FRIENDS LIFEGROUP
DESCRIPTION:Vintage Friends LifeGroupWhen: Every Thursday night\, 6:00 PM – 7:30 PMWhere: Online via Zoom \nThis LifeGroup is tailored for seniors (55+) seeking fellowship\, encouragement\, and spiritual growth in a supportive and welcoming environment. Led by Pastor John Hinshaw\, it’s a great opportunity to connect with others and deepen your faith from the comfort of your home. \nContact: Pastor John Hinshaw at jhinshaw@neighborhoodfriends.org for the Zoom link and more information.
URL:https://neighborhoodfriends.org/event/vintage-friends-lifegroup-46/
END:VEVENT
BEGIN:VEVENT
DTSTART;TZID=America/Denver:20251016T180000
DTEND;TZID=America/Denver:20251016T210000
DTSTAMP:20260423T191742
CREATED:20250907T140308Z
LAST-MODIFIED:20251002T202058Z
UID:6016-1760637600-1760648400@neighborhoodfriends.org
SUMMARY:Eden ANew Reserved Church for Conference Set up
DESCRIPTION:
URL:https://neighborhoodfriends.org/event/eden-anew-reserved-church-for-conference-set-up/
END:VEVENT
BEGIN:VEVENT
DTSTART;TZID=America/Denver:20251017T180000
DTEND;TZID=America/Denver:20251017T210000
DTSTAMP:20260423T191742
CREATED:20250907T140309Z
LAST-MODIFIED:20251002T202100Z
UID:6017-1760724000-1760734800@neighborhoodfriends.org
SUMMARY:Eden ANew Reserved Church for Conference Set up
DESCRIPTION:
URL:https://neighborhoodfriends.org/event/eden-anew-reserved-church-for-conference-set-up-2/
END:VEVENT
BEGIN:VEVENT
DTSTART;VALUE=DATE:20251018
DTEND;VALUE=DATE:20251019
DTSTAMP:20260423T191742
CREATED:20250907T140311Z
LAST-MODIFIED:20251002T202101Z
UID:6018-1760745600-1760831999@neighborhoodfriends.org
SUMMARY:Eden ANew Conference
DESCRIPTION:Eden ANew Conference will reserve the entire church for a conference.
URL:https://neighborhoodfriends.org/event/eden-anew-conference/
LOCATION:Neighborhood Friends Church\, 9889 W 66th Ave\, Arvada\, CO\, United States
END:VEVENT
BEGIN:VEVENT
DTSTART;TZID=America/Denver:20251018T080000
DTEND;TZID=America/Denver:20251018T110000
DTSTAMP:20260423T191742
CREATED:20250413T161925Z
LAST-MODIFIED:20250907T140310Z
UID:4954-1760774400-1760785200@neighborhoodfriends.org
SUMMARY:Neighborhood Friends Workday
DESCRIPTION:Join us as we work together to care for our church! Whether inside or outside\, there’s something for everyone\, and your help makes a big difference. Come ready to serve and enjoy fellowship as we take care of God’s house. \n Saturday\, October 18\, 2025 – Fall Clean-Up  \n\nLeaves\, gutters\, branches\, and seasonal maintenance.\n\nWe appreciate all who can lend a hand—whether for an hour or the whole time. Let’s keep our church a welcoming place for all!  \nStay tuned for more details as each date approaches.
URL:https://neighborhoodfriends.org/event/neighborhood-friends-workday-3/
LOCATION:Neighborhood Friends Church\, 9889 W 66th Ave\, Arvada\, CO\, United States
END:VEVENT
BEGIN:VEVENT
DTSTART;TZID=America/Denver:20251019T100000
DTEND;TZID=America/Denver:20251019T113000
DTSTAMP:20260423T191742
CREATED:20250413T161925Z
LAST-MODIFIED:20251002T202103Z
UID:4955-1760868000-1760873400@neighborhoodfriends.org
SUMMARY:SUNDAY WORSHIP GATHERING
DESCRIPTION:Sunday Worship Gathering🗓 Every Sunday☕ 10:00 AM – Coffee & Fellowship⏰ 10:30 AM – Worship Gathering📍 Neighborhood Friends Church\, Arvada\, CO \nCome early at 10:00 AM to connect over coffee and fellowship before we begin worship at 10:30. NKids Church is available for children (toddlers through 5th grade). Check in your kids at the NKids Desk in the lobby before service starts\, and they’ll join us for the first worship set before being dismissed to NKids Church. \nJoin us as we come together to worship\, grow\, and share in Christ’s love. See you there!
URL:https://neighborhoodfriends.org/event/sunday-worship-gathering-166/
LOCATION:Neighborhood Friends Church\, 9889 W 66th Ave\, Arvada\, CO\, United States
END:VEVENT
BEGIN:VEVENT
DTSTART;TZID=America/Denver:20251019T160000
DTEND;TZID=America/Denver:20251019T200000
DTSTAMP:20260423T191742
CREATED:20250413T161926Z
LAST-MODIFIED:20251002T202104Z
UID:4956-1760889600-1760904000@neighborhoodfriends.org
SUMMARY:Jesu Cristo Rey de Reyes Church (Spanish Worship Service)
DESCRIPTION:
URL:https://neighborhoodfriends.org/event/jesu-cristo-rey-de-reyes-church-spanish-worship-service-29/
END:VEVENT
BEGIN:VEVENT
DTSTART;TZID=America/Denver:20251021T180000
DTEND;TZID=America/Denver:20251021T193000
DTSTAMP:20260423T191742
CREATED:20250413T161927Z
LAST-MODIFIED:20251002T202105Z
UID:4957-1761069600-1761075000@neighborhoodfriends.org
SUMMARY:WOMEN'S LIFEGROUP
DESCRIPTION:Women’s LifeGroupWhen: Every Tuesday night\, 6:00 PM – 7:30 PMWhere: Rhonda Hinshaw’s Home \nLadies\, join us for an uplifting time of fellowship and spiritual growth as we dive into God’s Word together. Whether you’re new to the group or a long-time participant\, we’d love to have you! \nContact: Rhonda Hinshaw at rhinshaw@neighborhoodfriends.org for more information and address
URL:https://neighborhoodfriends.org/event/womens-lifegroup-47/
END:VEVENT
BEGIN:VEVENT
DTSTART;TZID=America/Denver:20251021T181500
DTEND;TZID=America/Denver:20251021T193000
DTSTAMP:20260423T191742
CREATED:20250413T161927Z
LAST-MODIFIED:20251002T202107Z
UID:4958-1761070500-1761075000@neighborhoodfriends.org
SUMMARY:MEN'S LIFEGROUP
DESCRIPTION:Men’s LifeGroupWhen: Every Tuesday night\, 6:15 PM – 7:30 PMWhere: Pastor Donnie’s Office\, Neighborhood Friends Church \nJoin us for an engaging time of fellowship\, study\, and discussion as we grow together in our faith. Whether you’re a regular or a first-time visitor\, you’re welcome to dive into God’s Word with us. We look forward to seeing you there! \nContact: dhinshaw@neighborhoodfriends.org
URL:https://neighborhoodfriends.org/event/mens-lifegroup-47/
LOCATION:Neighborhood Friends Church\, 9889 W 66th Ave\, Arvada\, CO\, United States
END:VEVENT
BEGIN:VEVENT
DTSTART;TZID=America/Denver:20251021T183000
DTEND;TZID=America/Denver:20251021T200000
DTSTAMP:20260423T191742
CREATED:20250413T161928Z
LAST-MODIFIED:20251002T202106Z
UID:4959-1761071400-1761076800@neighborhoodfriends.org
SUMMARY:YOUNG ADULTS LIFEGROUP
DESCRIPTION:Neighborhood Young AdultsWhen: Every Tuesday night\, 6:30 PM – 8:00 PM  Where: Various homes and locations   \nYoung adults\, this is your space to connect\, grow\, and build meaningful community! Each week\, we gather to share life\, dive into God’s Word\, and encourage one another in our faith journeys.   \nContact: Jordan Nockels at jnockels@neighborhoodfriends.org for this week’s location and more details.
URL:https://neighborhoodfriends.org/event/young-adults-lifegroup-21/
END:VEVENT
BEGIN:VEVENT
DTSTART;TZID=America/Denver:20251022T183000
DTEND;TZID=America/Denver:20251022T200000
DTSTAMP:20260423T191742
CREATED:20250413T161931Z
LAST-MODIFIED:20251002T202109Z
UID:4962-1761157800-1761163200@neighborhoodfriends.org
SUMMARY:NEIGHBORHOOD YOUTH
DESCRIPTION:Neighborhood YouthWhen: Every Wednesday night\, 6:30 PMWhere: Neighborhood Friends Church \nCalling all students in grades 6–12! Join us for an exciting evening of fun\, connection\, and spiritual growth. Come hang out with friends\, play games\, and explore what it means to follow Jesus in your everyday life. \nContact: Pastor Jake Stooke at jstooke@neighborhoodfriends.org for more details.
URL:https://neighborhoodfriends.org/event/neighborhood-youth-47/
LOCATION:Neighborhood Friends Church\, 9889 W 66th Ave\, Arvada\, CO\, United States
END:VEVENT
BEGIN:VEVENT
DTSTART;TZID=America/Denver:20251023T180000
DTEND;TZID=America/Denver:20251023T193000
DTSTAMP:20260423T191742
CREATED:20250413T161932Z
LAST-MODIFIED:20251002T202114Z
UID:4963-1761242400-1761247800@neighborhoodfriends.org
SUMMARY:VINTAGE FRIENDS LIFEGROUP
DESCRIPTION:Vintage Friends LifeGroupWhen: Every Thursday night\, 6:00 PM – 7:30 PMWhere: Online via Zoom \nThis LifeGroup is tailored for seniors (55+) seeking fellowship\, encouragement\, and spiritual growth in a supportive and welcoming environment. Led by Pastor John Hinshaw\, it’s a great opportunity to connect with others and deepen your faith from the comfort of your home. \nContact: Pastor John Hinshaw at jhinshaw@neighborhoodfriends.org for the Zoom link and more information.
URL:https://neighborhoodfriends.org/event/vintage-friends-lifegroup-47/
END:VEVENT
BEGIN:VEVENT
DTSTART;TZID=America/Denver:20251026T100000
DTEND;TZID=America/Denver:20251026T113000
DTSTAMP:20260423T191742
CREATED:20250413T161933Z
LAST-MODIFIED:20251002T202116Z
UID:4964-1761472800-1761478200@neighborhoodfriends.org
SUMMARY:SUNDAY WORSHIP GATHERING
DESCRIPTION:Sunday Worship Gathering🗓 Every Sunday☕ 10:00 AM – Coffee & Fellowship⏰ 10:30 AM – Worship Gathering📍 Neighborhood Friends Church\, Arvada\, CO \nCome early at 10:00 AM to connect over coffee and fellowship before we begin worship at 10:30. NKids Church is available for children (toddlers through 5th grade). Check in your kids at the NKids Desk in the lobby before service starts\, and they’ll join us for the first worship set before being dismissed to NKids Church. \nJoin us as we come together to worship\, grow\, and share in Christ’s love. See you there!
URL:https://neighborhoodfriends.org/event/sunday-worship-gathering-167/
LOCATION:Neighborhood Friends Church\, 9889 W 66th Ave\, Arvada\, CO\, United States
END:VEVENT
BEGIN:VEVENT
DTSTART;TZID=America/Denver:20251026T160000
DTEND;TZID=America/Denver:20251026T200000
DTSTAMP:20260423T191742
CREATED:20250413T161933Z
LAST-MODIFIED:20251002T202117Z
UID:4965-1761494400-1761508800@neighborhoodfriends.org
SUMMARY:Jesu Cristo Rey de Reyes Church (Spanish Worship Service)
DESCRIPTION:
URL:https://neighborhoodfriends.org/event/jesu-cristo-rey-de-reyes-church-spanish-worship-service-30/
END:VEVENT
BEGIN:VEVENT
DTSTART;TZID=America/Denver:20251028T180000
DTEND;TZID=America/Denver:20251028T193000
DTSTAMP:20260423T191742
CREATED:20250413T161934Z
LAST-MODIFIED:20251002T202119Z
UID:4967-1761674400-1761679800@neighborhoodfriends.org
SUMMARY:WOMEN'S LIFEGROUP
DESCRIPTION:Women’s LifeGroupWhen: Every Tuesday night\, 6:00 PM – 7:30 PMWhere: Rhonda Hinshaw’s Home \nLadies\, join us for an uplifting time of fellowship and spiritual growth as we dive into God’s Word together. Whether you’re new to the group or a long-time participant\, we’d love to have you! \nContact: Rhonda Hinshaw at rhinshaw@neighborhoodfriends.org for more information and address
URL:https://neighborhoodfriends.org/event/womens-lifegroup-48/
END:VEVENT
BEGIN:VEVENT
DTSTART;TZID=America/Denver:20251028T181500
DTEND;TZID=America/Denver:20251028T193000
DTSTAMP:20260423T191742
CREATED:20250413T161934Z
LAST-MODIFIED:20251002T202121Z
UID:4966-1761675300-1761679800@neighborhoodfriends.org
SUMMARY:MEN'S LIFEGROUP
DESCRIPTION:Men’s LifeGroupWhen: Every Tuesday night\, 6:15 PM – 7:30 PMWhere: Pastor Donnie’s Office\, Neighborhood Friends Church \nJoin us for an engaging time of fellowship\, study\, and discussion as we grow together in our faith. Whether you’re a regular or a first-time visitor\, you’re welcome to dive into God’s Word with us. We look forward to seeing you there! \nContact: dhinshaw@neighborhoodfriends.org
URL:https://neighborhoodfriends.org/event/mens-lifegroup-48/
LOCATION:Neighborhood Friends Church\, 9889 W 66th Ave\, Arvada\, CO\, United States
END:VEVENT
BEGIN:VEVENT
DTSTART;TZID=America/Denver:20251028T183000
DTEND;TZID=America/Denver:20251028T200000
DTSTAMP:20260423T191742
CREATED:20250413T161935Z
LAST-MODIFIED:20251002T202118Z
UID:4968-1761676200-1761681600@neighborhoodfriends.org
SUMMARY:YOUNG ADULTS LIFEGROUP
DESCRIPTION:Neighborhood Young AdultsWhen: Every Tuesday night\, 6:30 PM – 8:00 PM  Where: Various homes and locations   \nYoung adults\, this is your space to connect\, grow\, and build meaningful community! Each week\, we gather to share life\, dive into God’s Word\, and encourage one another in our faith journeys.   \nContact: Jordan Nockels at jnockels@neighborhoodfriends.org for this week’s location and more details.
URL:https://neighborhoodfriends.org/event/young-adults-lifegroup-22/
END:VEVENT
BEGIN:VEVENT
DTSTART;TZID=America/Denver:20251029T183000
DTEND;TZID=America/Denver:20251029T200000
DTSTAMP:20260423T191742
CREATED:20250413T161936Z
LAST-MODIFIED:20251002T202122Z
UID:4969-1761762600-1761768000@neighborhoodfriends.org
SUMMARY:NEIGHBORHOOD YOUTH
DESCRIPTION:Neighborhood YouthWhen: Every Wednesday night\, 6:30 PMWhere: Neighborhood Friends Church \nCalling all students in grades 6–12! Join us for an exciting evening of fun\, connection\, and spiritual growth. Come hang out with friends\, play games\, and explore what it means to follow Jesus in your everyday life. \nContact: Pastor Jake Stooke at jstooke@neighborhoodfriends.org for more details.
URL:https://neighborhoodfriends.org/event/neighborhood-youth-48/
LOCATION:Neighborhood Friends Church\, 9889 W 66th Ave\, Arvada\, CO\, United States
END:VEVENT
BEGIN:VEVENT
DTSTART;TZID=America/Denver:20251030T180000
DTEND;TZID=America/Denver:20251030T193000
DTSTAMP:20260423T191742
CREATED:20250413T161937Z
LAST-MODIFIED:20251002T202123Z
UID:4970-1761847200-1761852600@neighborhoodfriends.org
SUMMARY:VINTAGE FRIENDS LIFEGROUP
DESCRIPTION:Vintage Friends LifeGroupWhen: Every Thursday night\, 6:00 PM – 7:30 PMWhere: Online via Zoom \nThis LifeGroup is tailored for seniors (55+) seeking fellowship\, encouragement\, and spiritual growth in a supportive and welcoming environment. Led by Pastor John Hinshaw\, it’s a great opportunity to connect with others and deepen your faith from the comfort of your home. \nContact: Pastor John Hinshaw at jhinshaw@neighborhoodfriends.org for the Zoom link and more information.
URL:https://neighborhoodfriends.org/event/vintage-friends-lifegroup-48/
END:VEVENT
BEGIN:VEVENT
DTSTART;TZID=America/Denver:20251102T100000
DTEND;TZID=America/Denver:20251102T113000
DTSTAMP:20260423T191742
CREATED:20250413T161937Z
LAST-MODIFIED:20251101T164144Z
UID:4971-1762077600-1762083000@neighborhoodfriends.org
SUMMARY:SUNDAY WORSHIP GATHERING
DESCRIPTION:Sunday Worship Gathering🗓 Every Sunday☕ 10:00 AM – Coffee & Fellowship⏰ 10:30 AM – Worship Gathering📍 Neighborhood Friends Church\, Arvada\, CO \nCome early at 10:00 AM to connect over coffee and fellowship before we begin worship at 10:30. NKids Church is available for children (toddlers through 5th grade). Check in your kids at the NKids Desk in the lobby before service starts\, and they’ll join us for the first worship set before being dismissed to NKids Church. \nJoin us as we come together to worship\, grow\, and share in Christ’s love. See you there!
URL:https://neighborhoodfriends.org/event/sunday-worship-gathering-168/
LOCATION:Neighborhood Friends Church\, 9889 W 66th Ave\, Arvada\, CO\, United States
END:VEVENT
BEGIN:VEVENT
DTSTART;TZID=America/Denver:20251102T160000
DTEND;TZID=America/Denver:20251102T200000
DTSTAMP:20260423T191742
CREATED:20250413T161938Z
LAST-MODIFIED:20251101T164146Z
UID:4972-1762099200-1762113600@neighborhoodfriends.org
SUMMARY:Jesu Cristo Rey de Reyes Church (Spanish Worship Service)
DESCRIPTION:
URL:https://neighborhoodfriends.org/event/jesu-cristo-rey-de-reyes-church-spanish-worship-service-31/
END:VEVENT
BEGIN:VEVENT
DTSTART;TZID=America/Denver:20251104T180000
DTEND;TZID=America/Denver:20251104T193000
DTSTAMP:20260423T191742
CREATED:20250413T161940Z
LAST-MODIFIED:20251101T164148Z
UID:4975-1762279200-1762284600@neighborhoodfriends.org
SUMMARY:WOMEN'S LIFEGROUP
DESCRIPTION:Women’s LifeGroupWhen: Every Tuesday night\, 6:00 PM – 7:30 PMWhere: Rhonda Hinshaw’s Home \nLadies\, join us for an uplifting time of fellowship and spiritual growth as we dive into God’s Word together. Whether you’re new to the group or a long-time participant\, we’d love to have you! \nContact: Rhonda Hinshaw at rhinshaw@neighborhoodfriends.org for more information and address
URL:https://neighborhoodfriends.org/event/womens-lifegroup-49/
END:VEVENT
END:VCALENDAR