BEGIN:VCALENDAR
VERSION:2.0
PRODID:-//Neighborhood Friends Church - ECPv6.15.20//NONSGML v1.0//EN
CALSCALE:GREGORIAN
METHOD:PUBLISH
X-ORIGINAL-URL:https://neighborhoodfriends.org
X-WR-CALDESC:Events for Neighborhood Friends Church
REFRESH-INTERVAL;VALUE=DURATION:PT1H
X-Robots-Tag:noindex
X-PUBLISHED-TTL:PT1H
BEGIN:VTIMEZONE
TZID:America/Denver
BEGIN:DAYLIGHT
TZOFFSETFROM:-0700
TZOFFSETTO:-0600
TZNAME:MDT
DTSTART:20250309T090000
END:DAYLIGHT
BEGIN:STANDARD
TZOFFSETFROM:-0600
TZOFFSETTO:-0700
TZNAME:MST
DTSTART:20251102T080000
END:STANDARD
BEGIN:DAYLIGHT
TZOFFSETFROM:-0700
TZOFFSETTO:-0600
TZNAME:MDT
DTSTART:20260308T090000
END:DAYLIGHT
BEGIN:STANDARD
TZOFFSETFROM:-0600
TZOFFSETTO:-0700
TZNAME:MST
DTSTART:20261101T080000
END:STANDARD
BEGIN:DAYLIGHT
TZOFFSETFROM:-0700
TZOFFSETTO:-0600
TZNAME:MDT
DTSTART:20270314T090000
END:DAYLIGHT
BEGIN:STANDARD
TZOFFSETFROM:-0600
TZOFFSETTO:-0700
TZNAME:MST
DTSTART:20271107T080000
END:STANDARD
END:VTIMEZONE
BEGIN:VEVENT
DTSTART;TZID=America/Denver:20260801T070000
DTEND;TZID=America/Denver:20260801T083000
DTSTAMP:20260423T165535
CREATED:20251204T163351Z
LAST-MODIFIED:20260212T182211Z
UID:6463-1785567600-1785573000@neighborhoodfriends.org
SUMMARY:MEN'S COFFEE LIFEGROUP
DESCRIPTION:Men’s LifegroupSaturday Mornings | 7:00am | Red Silo CoffeeLeader: Doug Stooke (dstooke@neighborhoodfriends.org) \nLooking for a place to talk about life\, family\, church\, and culture—all over a good cup of coffee? Join us every Saturday morning at Red Silo Coffee for meaningful conversations and connection with other men. Grab a coffee and bring a friend—everyone’s welcome!
URL:https://neighborhoodfriends.org/event/mens-coffee-lifegroup-118/
LOCATION:Red Silo Coffee Roasters\, 6590 Holman St\, Arvada\, CO\, United States
END:VEVENT
BEGIN:VEVENT
DTSTART;TZID=America/Denver:20260802T100000
DTEND;TZID=America/Denver:20260802T113000
DTSTAMP:20260423T165535
CREATED:20251204T163351Z
LAST-MODIFIED:20260212T182211Z
UID:6464-1785664800-1785670200@neighborhoodfriends.org
SUMMARY:SUNDAY WORSHIP GATHERING
DESCRIPTION:Sunday Worship Gathering🗓 Every Sunday☕ 10:00 AM – Coffee & Fellowship⏰ 10:30 AM – Worship Gathering📍 Neighborhood Friends Church\, Arvada\, CO \nCome early at 10:00 AM to connect over coffee and fellowship before we begin worship at 10:30. NKids Church is available for children (toddlers through 5th grade). Check in your kids at the NKids Desk in the lobby before service starts\, and they’ll join us for the first worship set before being dismissed to NKids Church. \nJoin us as we come together to worship\, grow\, and share in Christ’s love. See you there!
URL:https://neighborhoodfriends.org/event/sunday-worship-gathering-207/
LOCATION:Neighborhood Friends Church\, 9889 W 66th Ave\, Arvada\, CO\, United States
END:VEVENT
BEGIN:VEVENT
DTSTART;TZID=America/Denver:20260802T160000
DTEND;TZID=America/Denver:20260802T200000
DTSTAMP:20260423T165535
CREATED:20251204T163352Z
LAST-MODIFIED:20260212T182212Z
UID:6465-1785686400-1785700800@neighborhoodfriends.org
SUMMARY:Jesu Cristo Rey de Reyes Church (Spanish Worship Service)
DESCRIPTION:
URL:https://neighborhoodfriends.org/event/jesu-cristo-rey-de-reyes-church-spanish-worship-service-71/
END:VEVENT
BEGIN:VEVENT
DTSTART;TZID=America/Denver:20260804T180000
DTEND;TZID=America/Denver:20260804T193000
DTSTAMP:20260423T165535
CREATED:20251204T163352Z
LAST-MODIFIED:20260212T182212Z
UID:6467-1785866400-1785871800@neighborhoodfriends.org
SUMMARY:WOMEN'S LIFEGROUP
DESCRIPTION:Women’s LifeGroupWhen: Every Tuesday night\, 6:00 PM – 7:30 PMWhere: Rhonda Hinshaw’s Home \nLadies\, join us for an uplifting time of fellowship and spiritual growth as we dive into God’s Word together. Whether you’re new to the group or a long-time participant\, we’d love to have you! \nContact: Rhonda Hinshaw at rhinshaw@neighborhoodfriends.org for more information and address
URL:https://neighborhoodfriends.org/event/womens-lifegroup-90/
END:VEVENT
BEGIN:VEVENT
DTSTART;TZID=America/Denver:20260804T181500
DTEND;TZID=America/Denver:20260804T193000
DTSTAMP:20260423T165535
CREATED:20251204T163352Z
LAST-MODIFIED:20260212T182214Z
UID:6468-1785867300-1785871800@neighborhoodfriends.org
SUMMARY:MEN'S LIFEGROUP
DESCRIPTION:Men’s LifeGroupWhen: Every Tuesday night\, 6:15 PM – 7:30 PMWhere: Pastor Donnie’s Office\, Neighborhood Friends Church \nJoin us for an engaging time of fellowship\, study\, and discussion as we grow together in our faith. Whether you’re a regular or a first-time visitor\, you’re welcome to dive into God’s Word with us. We look forward to seeing you there! \nContact: dhinshaw@neighborhoodfriends.org
URL:https://neighborhoodfriends.org/event/mens-lifegroup-89/
LOCATION:Neighborhood Friends Church\, 9889 W 66th Ave\, Arvada\, CO\, United States
END:VEVENT
BEGIN:VEVENT
DTSTART;TZID=America/Denver:20260804T183000
DTEND;TZID=America/Denver:20260804T200000
DTSTAMP:20260423T165535
CREATED:20251204T163352Z
LAST-MODIFIED:20260212T182212Z
UID:6466-1785868200-1785873600@neighborhoodfriends.org
SUMMARY:YOUNG ADULTS LIFEGROUP
DESCRIPTION:Neighborhood Young AdultsWhen: Every Tuesday night\, 6:30 PM – 8:00 PM  Where: Various homes and locations   \nYoung adults\, this is your space to connect\, grow\, and build meaningful community! Each week\, we gather to share life\, dive into God’s Word\, and encourage one another in our faith journeys.   \nContact: Jordan Nockels at jnockels@neighborhoodfriends.org for this week’s location and more details.
URL:https://neighborhoodfriends.org/event/young-adults-lifegroup-63/
END:VEVENT
BEGIN:VEVENT
DTSTART;TZID=America/Denver:20260805T183000
DTEND;TZID=America/Denver:20260805T200000
DTSTAMP:20260423T165535
CREATED:20251204T163353Z
LAST-MODIFIED:20260212T182214Z
UID:6469-1785954600-1785960000@neighborhoodfriends.org
SUMMARY:Neighborhood Youth Weekly Gathering
DESCRIPTION:🌟 **Neighborhood Youth Weekly Gathering** 🌟  \nWednesdays | 6:30pm – 8:00pm  \nGet ready for an evening filled with friends\, fun\, and faith! Each week\, we gather to connect\, worship\, and dive into meaningful conversations about life and God’s purpose for us. Whether you’re a first-timer or a regular\, there’s always something new to experience! Don’t miss out on games\, laughter\, and the chance to make great memories together. Bring a friend\, and let’s make each Wednesday a highlight of the week!
URL:https://neighborhoodfriends.org/event/neighborhood-youth-weekly-gathering-186/
LOCATION:Neighborhood Friends Church\, 9889 W 66th Ave\, Arvada\, CO\, United States
END:VEVENT
BEGIN:VEVENT
DTSTART;TZID=America/Denver:20260806T180000
DTEND;TZID=America/Denver:20260806T193000
DTSTAMP:20260423T165535
CREATED:20251204T163354Z
LAST-MODIFIED:20260212T182214Z
UID:6470-1786039200-1786044600@neighborhoodfriends.org
SUMMARY:VINTAGE FRIENDS LIFEGROUP
DESCRIPTION:Vintage Friends LifeGroupWhen: Every Thursday night\, 6:00 PM – 7:30 PMWhere: Online via Zoom \nThis LifeGroup is tailored for seniors (55+) seeking fellowship\, encouragement\, and spiritual growth in a supportive and welcoming environment. Led by Pastor John Hinshaw\, it’s a great opportunity to connect with others and deepen your faith from the comfort of your home. \nContact: Pastor John Hinshaw at jhinshaw@neighborhoodfriends.org for the Zoom link and more information.
URL:https://neighborhoodfriends.org/event/vintage-friends-lifegroup-89/
END:VEVENT
BEGIN:VEVENT
DTSTART;TZID=America/Denver:20260808T070000
DTEND;TZID=America/Denver:20260808T083000
DTSTAMP:20260423T165535
CREATED:20251204T163354Z
LAST-MODIFIED:20260212T182215Z
UID:6471-1786172400-1786177800@neighborhoodfriends.org
SUMMARY:MEN'S COFFEE LIFEGROUP
DESCRIPTION:Men’s LifegroupSaturday Mornings | 7:00am | Red Silo CoffeeLeader: Doug Stooke (dstooke@neighborhoodfriends.org) \nLooking for a place to talk about life\, family\, church\, and culture—all over a good cup of coffee? Join us every Saturday morning at Red Silo Coffee for meaningful conversations and connection with other men. Grab a coffee and bring a friend—everyone’s welcome!
URL:https://neighborhoodfriends.org/event/mens-coffee-lifegroup-119/
LOCATION:Red Silo Coffee Roasters\, 6590 Holman St\, Arvada\, CO\, United States
END:VEVENT
BEGIN:VEVENT
DTSTART;TZID=America/Denver:20260809T100000
DTEND;TZID=America/Denver:20260809T113000
DTSTAMP:20260423T165535
CREATED:20251204T163355Z
LAST-MODIFIED:20260212T182215Z
UID:6472-1786269600-1786275000@neighborhoodfriends.org
SUMMARY:SUNDAY WORSHIP GATHERING
DESCRIPTION:Sunday Worship Gathering🗓 Every Sunday☕ 10:00 AM – Coffee & Fellowship⏰ 10:30 AM – Worship Gathering📍 Neighborhood Friends Church\, Arvada\, CO \nCome early at 10:00 AM to connect over coffee and fellowship before we begin worship at 10:30. NKids Church is available for children (toddlers through 5th grade). Check in your kids at the NKids Desk in the lobby before service starts\, and they’ll join us for the first worship set before being dismissed to NKids Church. \nJoin us as we come together to worship\, grow\, and share in Christ’s love. See you there!
URL:https://neighborhoodfriends.org/event/sunday-worship-gathering-208/
LOCATION:Neighborhood Friends Church\, 9889 W 66th Ave\, Arvada\, CO\, United States
END:VEVENT
BEGIN:VEVENT
DTSTART;TZID=America/Denver:20260809T160000
DTEND;TZID=America/Denver:20260809T200000
DTSTAMP:20260423T165535
CREATED:20251204T163355Z
LAST-MODIFIED:20260212T182215Z
UID:6473-1786291200-1786305600@neighborhoodfriends.org
SUMMARY:Jesu Cristo Rey de Reyes Church (Spanish Worship Service)
DESCRIPTION:
URL:https://neighborhoodfriends.org/event/jesu-cristo-rey-de-reyes-church-spanish-worship-service-72/
END:VEVENT
BEGIN:VEVENT
DTSTART;TZID=America/Denver:20260810T180000
DTEND;TZID=America/Denver:20260810T190000
DTSTAMP:20260423T165535
CREATED:20251204T163355Z
LAST-MODIFIED:20260212T182216Z
UID:6474-1786384800-1786388400@neighborhoodfriends.org
SUMMARY:SPIRITUAL LIFE MEETING (ONLINE)
DESCRIPTION:A monthly spiritual life board (elders) meeting online to discuss spiritual health\, vision\, needs\, and leadership. Contact: Doug Stooke: dstooke@neighborhoodfriends.org\nJoin with Google Meet: https://meet.google.com/efj-aqzf-imr\nOr dial: (US) +1 417-448-6105 PIN: 254404595#\nMore phone numbers: https://tel.meet/efj-aqzf-imr?pin=6224438130198&hs=7\nLearn more about Meet at: https://support.google.com/a/users/answer/9282720
URL:https://neighborhoodfriends.org/event/spiritual-life-meeting-online-41/
ORGANIZER;CN="Donnie Hinshaw":MAILTO:dhinshaw@neighborhoodfriends.org
END:VEVENT
BEGIN:VEVENT
DTSTART;TZID=America/Denver:20260811T180000
DTEND;TZID=America/Denver:20260811T193000
DTSTAMP:20260423T165535
CREATED:20251204T163356Z
LAST-MODIFIED:20260212T182217Z
UID:6475-1786471200-1786476600@neighborhoodfriends.org
SUMMARY:WOMEN'S LIFEGROUP
DESCRIPTION:Women’s LifeGroupWhen: Every Tuesday night\, 6:00 PM – 7:30 PMWhere: Rhonda Hinshaw’s Home \nLadies\, join us for an uplifting time of fellowship and spiritual growth as we dive into God’s Word together. Whether you’re new to the group or a long-time participant\, we’d love to have you! \nContact: Rhonda Hinshaw at rhinshaw@neighborhoodfriends.org for more information and address
URL:https://neighborhoodfriends.org/event/womens-lifegroup-91/
END:VEVENT
BEGIN:VEVENT
DTSTART;TZID=America/Denver:20260811T181500
DTEND;TZID=America/Denver:20260811T193000
DTSTAMP:20260423T165535
CREATED:20251204T163356Z
LAST-MODIFIED:20260212T182216Z
UID:6476-1786472100-1786476600@neighborhoodfriends.org
SUMMARY:MEN'S LIFEGROUP
DESCRIPTION:Men’s LifeGroupWhen: Every Tuesday night\, 6:15 PM – 7:30 PMWhere: Pastor Donnie’s Office\, Neighborhood Friends Church \nJoin us for an engaging time of fellowship\, study\, and discussion as we grow together in our faith. Whether you’re a regular or a first-time visitor\, you’re welcome to dive into God’s Word with us. We look forward to seeing you there! \nContact: dhinshaw@neighborhoodfriends.org
URL:https://neighborhoodfriends.org/event/mens-lifegroup-90/
LOCATION:Neighborhood Friends Church\, 9889 W 66th Ave\, Arvada\, CO\, United States
END:VEVENT
BEGIN:VEVENT
DTSTART;TZID=America/Denver:20260811T183000
DTEND;TZID=America/Denver:20260811T200000
DTSTAMP:20260423T165535
CREATED:20251204T163356Z
LAST-MODIFIED:20260212T182216Z
UID:6477-1786473000-1786478400@neighborhoodfriends.org
SUMMARY:YOUNG ADULTS LIFEGROUP
DESCRIPTION:Neighborhood Young AdultsWhen: Every Tuesday night\, 6:30 PM – 8:00 PM  Where: Various homes and locations   \nYoung adults\, this is your space to connect\, grow\, and build meaningful community! Each week\, we gather to share life\, dive into God’s Word\, and encourage one another in our faith journeys.   \nContact: Jordan Nockels at jnockels@neighborhoodfriends.org for this week’s location and more details.
URL:https://neighborhoodfriends.org/event/young-adults-lifegroup-64/
END:VEVENT
BEGIN:VEVENT
DTSTART;TZID=America/Denver:20260812T183000
DTEND;TZID=America/Denver:20260812T200000
DTSTAMP:20260423T165535
CREATED:20251204T163356Z
LAST-MODIFIED:20260212T182218Z
UID:6478-1786559400-1786564800@neighborhoodfriends.org
SUMMARY:Neighborhood Youth Weekly Gathering
DESCRIPTION:🌟 **Neighborhood Youth Weekly Gathering** 🌟  \nWednesdays | 6:30pm – 8:00pm  \nGet ready for an evening filled with friends\, fun\, and faith! Each week\, we gather to connect\, worship\, and dive into meaningful conversations about life and God’s purpose for us. Whether you’re a first-timer or a regular\, there’s always something new to experience! Don’t miss out on games\, laughter\, and the chance to make great memories together. Bring a friend\, and let’s make each Wednesday a highlight of the week!
URL:https://neighborhoodfriends.org/event/neighborhood-youth-weekly-gathering-187/
LOCATION:Neighborhood Friends Church\, 9889 W 66th Ave\, Arvada\, CO\, United States
END:VEVENT
BEGIN:VEVENT
DTSTART;TZID=America/Denver:20260813T180000
DTEND;TZID=America/Denver:20260813T193000
DTSTAMP:20260423T165535
CREATED:20251204T163357Z
LAST-MODIFIED:20260212T182218Z
UID:6479-1786644000-1786649400@neighborhoodfriends.org
SUMMARY:VINTAGE FRIENDS LIFEGROUP
DESCRIPTION:Vintage Friends LifeGroupWhen: Every Thursday night\, 6:00 PM – 7:30 PMWhere: Online via Zoom \nThis LifeGroup is tailored for seniors (55+) seeking fellowship\, encouragement\, and spiritual growth in a supportive and welcoming environment. Led by Pastor John Hinshaw\, it’s a great opportunity to connect with others and deepen your faith from the comfort of your home. \nContact: Pastor John Hinshaw at jhinshaw@neighborhoodfriends.org for the Zoom link and more information.
URL:https://neighborhoodfriends.org/event/vintage-friends-lifegroup-90/
END:VEVENT
BEGIN:VEVENT
DTSTART;TZID=America/Denver:20260815T070000
DTEND;TZID=America/Denver:20260815T083000
DTSTAMP:20260423T165535
CREATED:20251204T163357Z
LAST-MODIFIED:20260212T182219Z
UID:6480-1786777200-1786782600@neighborhoodfriends.org
SUMMARY:MEN'S COFFEE LIFEGROUP
DESCRIPTION:Men’s LifegroupSaturday Mornings | 7:00am | Red Silo CoffeeLeader: Doug Stooke (dstooke@neighborhoodfriends.org) \nLooking for a place to talk about life\, family\, church\, and culture—all over a good cup of coffee? Join us every Saturday morning at Red Silo Coffee for meaningful conversations and connection with other men. Grab a coffee and bring a friend—everyone’s welcome!
URL:https://neighborhoodfriends.org/event/mens-coffee-lifegroup-120/
LOCATION:Red Silo Coffee Roasters\, 6590 Holman St\, Arvada\, CO\, United States
END:VEVENT
BEGIN:VEVENT
DTSTART;TZID=America/Denver:20260816T100000
DTEND;TZID=America/Denver:20260816T113000
DTSTAMP:20260423T165535
CREATED:20251204T163357Z
LAST-MODIFIED:20260212T182219Z
UID:6481-1786874400-1786879800@neighborhoodfriends.org
SUMMARY:SUNDAY WORSHIP GATHERING
DESCRIPTION:Sunday Worship Gathering🗓 Every Sunday☕ 10:00 AM – Coffee & Fellowship⏰ 10:30 AM – Worship Gathering📍 Neighborhood Friends Church\, Arvada\, CO \nCome early at 10:00 AM to connect over coffee and fellowship before we begin worship at 10:30. NKids Church is available for children (toddlers through 5th grade). Check in your kids at the NKids Desk in the lobby before service starts\, and they’ll join us for the first worship set before being dismissed to NKids Church. \nJoin us as we come together to worship\, grow\, and share in Christ’s love. See you there!
URL:https://neighborhoodfriends.org/event/sunday-worship-gathering-209/
LOCATION:Neighborhood Friends Church\, 9889 W 66th Ave\, Arvada\, CO\, United States
END:VEVENT
BEGIN:VEVENT
DTSTART;TZID=America/Denver:20260816T160000
DTEND;TZID=America/Denver:20260816T200000
DTSTAMP:20260423T165535
CREATED:20251204T163358Z
LAST-MODIFIED:20260212T182219Z
UID:6482-1786896000-1786910400@neighborhoodfriends.org
SUMMARY:Jesu Cristo Rey de Reyes Church (Spanish Worship Service)
DESCRIPTION:
URL:https://neighborhoodfriends.org/event/jesu-cristo-rey-de-reyes-church-spanish-worship-service-73/
END:VEVENT
BEGIN:VEVENT
DTSTART;TZID=America/Denver:20260818T180000
DTEND;TZID=America/Denver:20260818T193000
DTSTAMP:20260423T165535
CREATED:20251204T163358Z
LAST-MODIFIED:20260212T182220Z
UID:6485-1787076000-1787081400@neighborhoodfriends.org
SUMMARY:WOMEN'S LIFEGROUP
DESCRIPTION:Women’s LifeGroupWhen: Every Tuesday night\, 6:00 PM – 7:30 PMWhere: Rhonda Hinshaw’s Home \nLadies\, join us for an uplifting time of fellowship and spiritual growth as we dive into God’s Word together. Whether you’re new to the group or a long-time participant\, we’d love to have you! \nContact: Rhonda Hinshaw at rhinshaw@neighborhoodfriends.org for more information and address
URL:https://neighborhoodfriends.org/event/womens-lifegroup-92/
END:VEVENT
BEGIN:VEVENT
DTSTART;TZID=America/Denver:20260818T181500
DTEND;TZID=America/Denver:20260818T193000
DTSTAMP:20260423T165535
CREATED:20251204T163358Z
LAST-MODIFIED:20260212T182220Z
UID:6484-1787076900-1787081400@neighborhoodfriends.org
SUMMARY:MEN'S LIFEGROUP
DESCRIPTION:Men’s LifeGroupWhen: Every Tuesday night\, 6:15 PM – 7:30 PMWhere: Pastor Donnie’s Office\, Neighborhood Friends Church \nJoin us for an engaging time of fellowship\, study\, and discussion as we grow together in our faith. Whether you’re a regular or a first-time visitor\, you’re welcome to dive into God’s Word with us. We look forward to seeing you there! \nContact: dhinshaw@neighborhoodfriends.org
URL:https://neighborhoodfriends.org/event/mens-lifegroup-91/
LOCATION:Neighborhood Friends Church\, 9889 W 66th Ave\, Arvada\, CO\, United States
END:VEVENT
BEGIN:VEVENT
DTSTART;TZID=America/Denver:20260818T183000
DTEND;TZID=America/Denver:20260818T200000
DTSTAMP:20260423T165535
CREATED:20251204T163358Z
LAST-MODIFIED:20260212T182220Z
UID:6483-1787077800-1787083200@neighborhoodfriends.org
SUMMARY:YOUNG ADULTS LIFEGROUP
DESCRIPTION:Neighborhood Young AdultsWhen: Every Tuesday night\, 6:30 PM – 8:00 PM  Where: Various homes and locations   \nYoung adults\, this is your space to connect\, grow\, and build meaningful community! Each week\, we gather to share life\, dive into God’s Word\, and encourage one another in our faith journeys.   \nContact: Jordan Nockels at jnockels@neighborhoodfriends.org for this week’s location and more details.
URL:https://neighborhoodfriends.org/event/young-adults-lifegroup-65/
END:VEVENT
BEGIN:VEVENT
DTSTART;TZID=America/Denver:20260819T183000
DTEND;TZID=America/Denver:20260819T200000
DTSTAMP:20260423T165535
CREATED:20251204T163359Z
LAST-MODIFIED:20260212T182221Z
UID:6486-1787164200-1787169600@neighborhoodfriends.org
SUMMARY:Neighborhood Youth Weekly Gathering
DESCRIPTION:🌟 **Neighborhood Youth Weekly Gathering** 🌟  \nWednesdays | 6:30pm – 8:00pm  \nGet ready for an evening filled with friends\, fun\, and faith! Each week\, we gather to connect\, worship\, and dive into meaningful conversations about life and God’s purpose for us. Whether you’re a first-timer or a regular\, there’s always something new to experience! Don’t miss out on games\, laughter\, and the chance to make great memories together. Bring a friend\, and let’s make each Wednesday a highlight of the week!
URL:https://neighborhoodfriends.org/event/neighborhood-youth-weekly-gathering-188/
LOCATION:Neighborhood Friends Church\, 9889 W 66th Ave\, Arvada\, CO\, United States
END:VEVENT
BEGIN:VEVENT
DTSTART;TZID=America/Denver:20260820T180000
DTEND;TZID=America/Denver:20260820T193000
DTSTAMP:20260423T165535
CREATED:20251204T163359Z
LAST-MODIFIED:20260212T182221Z
UID:6487-1787248800-1787254200@neighborhoodfriends.org
SUMMARY:VINTAGE FRIENDS LIFEGROUP
DESCRIPTION:Vintage Friends LifeGroupWhen: Every Thursday night\, 6:00 PM – 7:30 PMWhere: Online via Zoom \nThis LifeGroup is tailored for seniors (55+) seeking fellowship\, encouragement\, and spiritual growth in a supportive and welcoming environment. Led by Pastor John Hinshaw\, it’s a great opportunity to connect with others and deepen your faith from the comfort of your home. \nContact: Pastor John Hinshaw at jhinshaw@neighborhoodfriends.org for the Zoom link and more information.
URL:https://neighborhoodfriends.org/event/vintage-friends-lifegroup-91/
END:VEVENT
BEGIN:VEVENT
DTSTART;TZID=America/Denver:20260822T070000
DTEND;TZID=America/Denver:20260822T083000
DTSTAMP:20260423T165535
CREATED:20260212T182221Z
LAST-MODIFIED:20260212T182221Z
UID:6714-1787382000-1787387400@neighborhoodfriends.org
SUMMARY:MEN'S COFFEE LIFEGROUP
DESCRIPTION:Men’s LifegroupSaturday Mornings | 7:00am | Red Silo CoffeeLeader: Doug Stooke (dstooke@neighborhoodfriends.org) \nLooking for a place to talk about life\, family\, church\, and culture—all over a good cup of coffee? Join us every Saturday morning at Red Silo Coffee for meaningful conversations and connection with other men. Grab a coffee and bring a friend—everyone’s welcome!
URL:https://neighborhoodfriends.org/event/mens-coffee-lifegroup-121/
LOCATION:Red Silo Coffee Roasters\, 6590 Holman St\, Arvada\, CO\, United States
END:VEVENT
BEGIN:VEVENT
DTSTART;TZID=America/Denver:20260823T100000
DTEND;TZID=America/Denver:20260823T113000
DTSTAMP:20260423T165535
CREATED:20260212T182222Z
LAST-MODIFIED:20260212T182222Z
UID:6715-1787479200-1787484600@neighborhoodfriends.org
SUMMARY:SUNDAY WORSHIP GATHERING
DESCRIPTION:Sunday Worship Gathering🗓 Every Sunday☕ 10:00 AM – Coffee & Fellowship⏰ 10:30 AM – Worship Gathering📍 Neighborhood Friends Church\, Arvada\, CO \nCome early at 10:00 AM to connect over coffee and fellowship before we begin worship at 10:30. NKids Church is available for children (toddlers through 5th grade). Check in your kids at the NKids Desk in the lobby before service starts\, and they’ll join us for the first worship set before being dismissed to NKids Church. \nJoin us as we come together to worship\, grow\, and share in Christ’s love. See you there!
URL:https://neighborhoodfriends.org/event/sunday-worship-gathering-210/
LOCATION:Neighborhood Friends Church\, 9889 W 66th Ave\, Arvada\, CO\, United States
END:VEVENT
BEGIN:VEVENT
DTSTART;TZID=America/Denver:20260823T160000
DTEND;TZID=America/Denver:20260823T200000
DTSTAMP:20260423T165535
CREATED:20260212T182222Z
LAST-MODIFIED:20260212T182222Z
UID:6716-1787500800-1787515200@neighborhoodfriends.org
SUMMARY:Jesu Cristo Rey de Reyes Church (Spanish Worship Service)
DESCRIPTION:
URL:https://neighborhoodfriends.org/event/jesu-cristo-rey-de-reyes-church-spanish-worship-service-74/
END:VEVENT
BEGIN:VEVENT
DTSTART;TZID=America/Denver:20260825T180000
DTEND;TZID=America/Denver:20260825T193000
DTSTAMP:20260423T165535
CREATED:20260212T182223Z
LAST-MODIFIED:20260212T182223Z
UID:6719-1787680800-1787686200@neighborhoodfriends.org
SUMMARY:WOMEN'S LIFEGROUP
DESCRIPTION:Women’s LifeGroupWhen: Every Tuesday night\, 6:00 PM – 7:30 PMWhere: Rhonda Hinshaw’s Home \nLadies\, join us for an uplifting time of fellowship and spiritual growth as we dive into God’s Word together. Whether you’re new to the group or a long-time participant\, we’d love to have you! \nContact: Rhonda Hinshaw at rhinshaw@neighborhoodfriends.org for more information and address
URL:https://neighborhoodfriends.org/event/womens-lifegroup-93/
END:VEVENT
BEGIN:VEVENT
DTSTART;TZID=America/Denver:20260825T181500
DTEND;TZID=America/Denver:20260825T193000
DTSTAMP:20260423T165535
CREATED:20260212T182222Z
LAST-MODIFIED:20260212T182222Z
UID:6718-1787681700-1787686200@neighborhoodfriends.org
SUMMARY:MEN'S LIFEGROUP
DESCRIPTION:Men’s LifeGroupWhen: Every Tuesday night\, 6:15 PM – 7:30 PMWhere: Pastor Donnie’s Office\, Neighborhood Friends Church \nJoin us for an engaging time of fellowship\, study\, and discussion as we grow together in our faith. Whether you’re a regular or a first-time visitor\, you’re welcome to dive into God’s Word with us. We look forward to seeing you there! \nContact: dhinshaw@neighborhoodfriends.org
URL:https://neighborhoodfriends.org/event/mens-lifegroup-92/
LOCATION:Neighborhood Friends Church\, 9889 W 66th Ave\, Arvada\, CO\, United States
END:VEVENT
END:VCALENDAR