BEGIN:VCALENDAR
VERSION:2.0
PRODID:-//Neighborhood Friends Church - ECPv6.15.20//NONSGML v1.0//EN
CALSCALE:GREGORIAN
METHOD:PUBLISH
X-WR-CALNAME:Neighborhood Friends Church
X-ORIGINAL-URL:https://neighborhoodfriends.org
X-WR-CALDESC:Events for Neighborhood Friends Church
REFRESH-INTERVAL;VALUE=DURATION:PT1H
X-Robots-Tag:noindex
X-PUBLISHED-TTL:PT1H
BEGIN:VTIMEZONE
TZID:America/Denver
BEGIN:DAYLIGHT
TZOFFSETFROM:-0700
TZOFFSETTO:-0600
TZNAME:MDT
DTSTART:20240310T090000
END:DAYLIGHT
BEGIN:STANDARD
TZOFFSETFROM:-0600
TZOFFSETTO:-0700
TZNAME:MST
DTSTART:20241103T080000
END:STANDARD
BEGIN:DAYLIGHT
TZOFFSETFROM:-0700
TZOFFSETTO:-0600
TZNAME:MDT
DTSTART:20250309T090000
END:DAYLIGHT
BEGIN:STANDARD
TZOFFSETFROM:-0600
TZOFFSETTO:-0700
TZNAME:MST
DTSTART:20251102T080000
END:STANDARD
BEGIN:DAYLIGHT
TZOFFSETFROM:-0700
TZOFFSETTO:-0600
TZNAME:MDT
DTSTART:20260308T090000
END:DAYLIGHT
BEGIN:STANDARD
TZOFFSETFROM:-0600
TZOFFSETTO:-0700
TZNAME:MST
DTSTART:20261101T080000
END:STANDARD
END:VTIMEZONE
BEGIN:VEVENT
DTSTART;TZID=America/Denver:20250713T100000
DTEND;TZID=America/Denver:20250713T120000
DTSTAMP:20260425T103644
CREATED:20241130T172035Z
LAST-MODIFIED:20241217T143305Z
UID:4527-1752400800-1752408000@neighborhoodfriends.org
SUMMARY:SUNDAY WORSHIP GATHERING
DESCRIPTION:Sunday Worship GatheringWhen: Sundays at Neighborhood Friends Church \n\n10:00 AM – Coffee and Pastries\n10:30 AM – Worship and Teaching\n\nJoin us for a meaningful Sunday morning filled with worship\, teaching\, and community. Kids from Littles through 5th Grade can enjoy their own engaging teaching and activities following the worship set. We look forward to worshiping with you!  For more information: info@neighborhoodfriends.org
URL:https://neighborhoodfriends.org/event/sunday-worship-gathering-33/
LOCATION:Neighborhood Friends Church\, 9889 W 66th Ave\, Arvada\, CO\, United States
END:VEVENT
BEGIN:VEVENT
DTSTART;TZID=America/Denver:20250713T100000
DTEND;TZID=America/Denver:20250713T113000
DTSTAMP:20260425T103644
CREATED:20250413T161803Z
LAST-MODIFIED:20250713T024041Z
UID:4848-1752400800-1752406200@neighborhoodfriends.org
SUMMARY:SUNDAY WORSHIP GATHERING
DESCRIPTION:Sunday Worship Gathering🗓 Every Sunday☕ 10:00 AM – Coffee & Fellowship⏰ 10:30 AM – Worship Gathering📍 Neighborhood Friends Church\, Arvada\, CO \nCome early at 10:00 AM to connect over coffee and fellowship before we begin worship at 10:30. NKids Church is available for children (toddlers through 5th grade). Check in your kids at the NKids Desk in the lobby before service starts\, and they’ll join us for the first worship set before being dismissed to NKids Church. \nJoin us as we come together to worship\, grow\, and share in Christ’s love. See you there!
URL:https://neighborhoodfriends.org/event/sunday-worship-gathering-152/
LOCATION:Neighborhood Friends Church\, 9889 W 66th Ave\, Arvada\, CO\, United States
END:VEVENT
BEGIN:VEVENT
DTSTART;TZID=America/Denver:20250711T180000
DTEND;TZID=America/Denver:20250711T200000
DTSTAMP:20260425T103644
CREATED:20250614T031111Z
LAST-MODIFIED:20250711T020955Z
UID:5423-1752256800-1752264000@neighborhoodfriends.org
SUMMARY:MENS MEAT NIGHT
DESCRIPTION:Men’s Meat Night\nFriday\, July 11 | 6:00 PM \nBrian Kooser’s Backyard \n6248 Braun Circle Arvada\, CO 80004 United States\nIt’s back! Calling all guys — join us for a chill evening of grilled meat (Bring your favorite cut of meat and we’ll grill it)\, good conversation\, and great company. Whether you’re new or have been around for years\, this is a great way to connect. \nBring a friend — and maybe your favorite cut of meat to throw on the grill! No RSVP needed. Just show up hungry!
URL:https://neighborhoodfriends.org/event/mens-meat-night-2/
LOCATION:6248 Braun Cir\, Arvada\, CO\, United States
END:VEVENT
BEGIN:VEVENT
DTSTART;TZID=America/Denver:20250710T180000
DTEND;TZID=America/Denver:20250710T193000
DTSTAMP:20260425T103644
CREATED:20241130T172034Z
LAST-MODIFIED:20250710T015906Z
UID:4526-1752170400-1752175800@neighborhoodfriends.org
SUMMARY:VINTAGE FRIENDS LIFEGROUP
DESCRIPTION:Vintage Friends LifeGroupWhen: Every Thursday night\, 6:00 PM – 7:30 PMWhere: Online via Zoom \nThis LifeGroup is tailored for seniors (55+) seeking fellowship\, encouragement\, and spiritual growth in a supportive and welcoming environment. Led by Pastor John Hinshaw\, it’s a great opportunity to connect with others and deepen your faith from the comfort of your home. \nContact: Pastor John Hinshaw at jhinshaw@neighborhoodfriends.org for the Zoom link and more information.
URL:https://neighborhoodfriends.org/event/vintage-friends-lifegroup-32/
LOCATION:CO
END:VEVENT
BEGIN:VEVENT
DTSTART;TZID=America/Denver:20250709T183000
DTEND;TZID=America/Denver:20250709T200000
DTSTAMP:20260425T103644
CREATED:20241130T172034Z
LAST-MODIFIED:20250710T015901Z
UID:4525-1752085800-1752091200@neighborhoodfriends.org
SUMMARY:NEIGHBORHOOD YOUTH
DESCRIPTION:Neighborhood YouthWhen: Every Wednesday night\, 6:30 PMWhere: Neighborhood Friends Church \nCalling all students in grades 6–12! Join us for an exciting evening of fun\, connection\, and spiritual growth. Come hang out with friends\, play games\, and explore what it means to follow Jesus in your everyday life. \nContact: Pastor Jake Stooke at jstooke@neighborhoodfriends.org for more details.
URL:https://neighborhoodfriends.org/event/neighborhood-youth-32/
LOCATION:Neighborhood Friends Church\, 9889 W 66th Ave\, Arvada\, CO\, United States
END:VEVENT
BEGIN:VEVENT
DTSTART;TZID=America/Denver:20250708T183000
DTEND;TZID=America/Denver:20250708T200000
DTSTAMP:20260425T103644
CREATED:20241130T172033Z
LAST-MODIFIED:20250709T015458Z
UID:4523-1751999400-1752004800@neighborhoodfriends.org
SUMMARY:YOUNG ADULTS LIFEGROUP
DESCRIPTION:Neighborhood Young AdultsWhen: Every Tuesday night\, 6:30 PM – 8:00 PM  Where: Various homes and locations   \nYoung adults\, this is your space to connect\, grow\, and build meaningful community! Each week\, we gather to share life\, dive into God’s Word\, and encourage one another in our faith journeys.   \nContact: Jordan Nockels at jnockels@neighborhoodfriends.org for this week’s location and more details.
URL:https://neighborhoodfriends.org/event/young-adults-lifegroup-6/
LOCATION:CO
END:VEVENT
BEGIN:VEVENT
DTSTART;TZID=America/Denver:20250708T181500
DTEND;TZID=America/Denver:20250708T193000
DTSTAMP:20260425T103644
CREATED:20241130T172033Z
LAST-MODIFIED:20250708T014035Z
UID:4522-1751998500-1752003000@neighborhoodfriends.org
SUMMARY:MEN'S LIFEGROUP
DESCRIPTION:Men’s LifeGroupWhen: Every Tuesday night\, 6:15 PM – 7:30 PMWhere: Pastor Donnie’s Office\, Neighborhood Friends Church \nJoin us for an engaging time of fellowship\, study\, and discussion as we grow together in our faith. Whether you’re a regular or a first-time visitor\, you’re welcome to dive into God’s Word with us. We look forward to seeing you there! \nContact: dhinshaw@neighborhoodfriends.org
URL:https://neighborhoodfriends.org/event/mens-lifegroup-32/
LOCATION:Neighborhood Friends Church\, 9889 W 66th Ave\, Arvada\, CO\, United States
END:VEVENT
BEGIN:VEVENT
DTSTART;TZID=America/Denver:20250708T180000
DTEND;TZID=America/Denver:20250708T193000
DTSTAMP:20260425T103644
CREATED:20241130T172033Z
LAST-MODIFIED:20250708T014041Z
UID:4524-1751997600-1752003000@neighborhoodfriends.org
SUMMARY:WOMEN'S LIFEGROUP
DESCRIPTION:Women’s LifeGroupWhen: Every Tuesday night\, 6:00 PM – 7:30 PMWhere: Rhonda Hinshaw’s Home \nLadies\, join us for an uplifting time of fellowship and spiritual growth as we dive into God’s Word together. Whether you’re new to the group or a long-time participant\, we’d love to have you! \nContact: Rhonda Hinshaw at rhinshaw@neighborhoodfriends.org for more information and address
URL:https://neighborhoodfriends.org/event/womens-lifegroup-32/
LOCATION:CO
END:VEVENT
BEGIN:VEVENT
DTSTART;TZID=America/Denver:20250707T180000
DTEND;TZID=America/Denver:20250707T190000
DTSTAMP:20260425T103644
CREATED:20250413T161757Z
LAST-MODIFIED:20250707T012522Z
UID:4846-1751911200-1751914800@neighborhoodfriends.org
SUMMARY:SPIRITUAL LIFE MEETING (ONLINE)
DESCRIPTION:A monthly spiritual life board (elders) meeting online to discuss spiritual health\, vision\, needs\, and leadership. Contact: Doug Stooke: dstooke@neighborhoodfriends.org\nJoin with Google Meet: https://meet.google.com/efj-aqzf-imr\nOr dial: (US) +1 417-448-6105 PIN: 254404595#\nMore phone numbers: https://tel.meet/efj-aqzf-imr?pin=6224438130198&hs=7\nLearn more about Meet at: https://support.google.com/a/users/answer/9282720
URL:https://neighborhoodfriends.org/event/spiritual-life-meeting-online-21/
LOCATION:CO
ORGANIZER;CN="Donnie Hinshaw":MAILTO:dhinshaw@neighborhoodfriends.org
END:VEVENT
BEGIN:VEVENT
DTSTART;VALUE=DATE:20250707
DTEND;VALUE=DATE:20250713
DTSTAMP:20260425T103644
CREATED:20250606T025340Z
LAST-MODIFIED:20250712T022548Z
UID:5372-1751846400-1752364799@neighborhoodfriends.org
SUMMARY:FX Camp 2025 at Quaker Ridge
DESCRIPTION:FX Camp 2025 at Quaker Ridge \n📅 July 7–12\, 2025📍 Quaker Ridge Camp\, Woodland Park\, CO💲 $480 (Returning Campers) | $380 (First-Time Campers) \nJoin us for an unforgettable week in the Colorado mountains at FX Camp! Designed for students entering 4th grade through recent high school graduates\, this camp offers a perfect blend of adventure\, community\, and spiritual growth.Enjoy activities like swimming\, archery\, horseback riding\, and hiking\, all while deepening your faith through worship and Bible study.rmym.org+2rmymyouth.com+2allevents.in+2rmymyouth.com \nDon’t miss this opportunity to connect\, grow\, and have a blast! \n👉 Register Now
URL:https://neighborhoodfriends.org/event/fx-camp-2025-at-quaker-ridge/
LOCATION:Quaker Ridge Camp & Conference Center\, 30150 State Hwy 67\, Woodland Park\, CO\, United States
END:VEVENT
BEGIN:VEVENT
DTSTART;TZID=America/Denver:20250706T160000
DTEND;TZID=America/Denver:20250706T200000
DTSTAMP:20260425T103644
CREATED:20250413T161756Z
LAST-MODIFIED:20250707T012532Z
UID:4844-1751817600-1751832000@neighborhoodfriends.org
SUMMARY:Jesu Cristo Rey de Reyes Church (Spanish Worship Service)
DESCRIPTION:
URL:https://neighborhoodfriends.org/event/jesu-cristo-rey-de-reyes-church-spanish-worship-service-14/
LOCATION:CO
END:VEVENT
BEGIN:VEVENT
DTSTART;TZID=America/Denver:20250706T160000
DTEND;TZID=America/Denver:20250706T200000
DTSTAMP:20260425T103644
CREATED:20241217T143303Z
LAST-MODIFIED:20241217T143303Z
UID:4651-1751817600-1751832000@neighborhoodfriends.org
SUMMARY:Jesu cristo Rey de Reyes Service
DESCRIPTION:Join with Google Meet: https://meet.google.com/xmh-xhke-oyg\nOr dial: (US) +1 260-557-1985 PIN: 521074753#\nMore phone numbers: https://tel.meet/xmh-xhke-oyg?pin=8120562656953&hs=7\nLearn more about Meet at: https://support.google.com/a/users/answer/9282720
URL:https://neighborhoodfriends.org/event/jesu-cristo-rey-de-reyes-service-27/
LOCATION:CO
ORGANIZER;CN="mbins@neighborhoodfriends.org":MAILTO:mbins@neighborhoodfriends.org
END:VEVENT
BEGIN:VEVENT
DTSTART;TZID=America/Denver:20250706T103000
DTEND;TZID=America/Denver:20250706T120000
DTSTAMP:20260425T103644
CREATED:20250503T215611Z
LAST-MODIFIED:20250706T011040Z
UID:5215-1751797800-1751803200@neighborhoodfriends.org
SUMMARY:Baptism Sunday
DESCRIPTION:Ready to Take Your Next Step? 💧 Baptism – Sunday\, May 25th \nIf you’ve said “yes” to Jesus but haven’t been baptized\, we’d love to celebrate this important step with you! \nBaptism is more than just a moment—it’s a powerful symbol of your faith in Christ\, your identification with His death and resurrection\, and your new life in Him. It’s a public declaration of an inward transformation—and we believe it’s worth celebrating! \nWhether you’ve been following Jesus for a long time or just recently started your journey\, baptism is a beautiful next step in saying\, “I’m all in.” \n👉 Ready to sign up or learn more?Visit: https://neighborhoodfriends.org/next-steps/ \nLet us walk with you as you take this step of obedience\, joy\, and faith.
URL:https://neighborhoodfriends.org/event/baptism-sunday/
LOCATION:Neighborhood Friends Church\, 9889 W 66th Ave\, Arvada\, CO\, United States
END:VEVENT
BEGIN:VEVENT
DTSTART;TZID=America/Denver:20250706T100000
DTEND;TZID=America/Denver:20250706T120000
DTSTAMP:20260425T103644
CREATED:20241130T172033Z
LAST-MODIFIED:20241217T143303Z
UID:4521-1751796000-1751803200@neighborhoodfriends.org
SUMMARY:SUNDAY WORSHIP GATHERING
DESCRIPTION:Sunday Worship GatheringWhen: Sundays at Neighborhood Friends Church \n\n10:00 AM – Coffee and Pastries\n10:30 AM – Worship and Teaching\n\nJoin us for a meaningful Sunday morning filled with worship\, teaching\, and community. Kids from Littles through 5th Grade can enjoy their own engaging teaching and activities following the worship set. We look forward to worshiping with you!  For more information: info@neighborhoodfriends.org
URL:https://neighborhoodfriends.org/event/sunday-worship-gathering-32/
LOCATION:Neighborhood Friends Church\, 9889 W 66th Ave\, Arvada\, CO\, United States
END:VEVENT
BEGIN:VEVENT
DTSTART;TZID=America/Denver:20250706T100000
DTEND;TZID=America/Denver:20250706T113000
DTSTAMP:20260425T103644
CREATED:20250413T161756Z
LAST-MODIFIED:20250706T011035Z
UID:4843-1751796000-1751801400@neighborhoodfriends.org
SUMMARY:SUNDAY WORSHIP GATHERING
DESCRIPTION:Sunday Worship Gathering🗓 Every Sunday☕ 10:00 AM – Coffee & Fellowship⏰ 10:30 AM – Worship Gathering📍 Neighborhood Friends Church\, Arvada\, CO \nCome early at 10:00 AM to connect over coffee and fellowship before we begin worship at 10:30. NKids Church is available for children (toddlers through 5th grade). Check in your kids at the NKids Desk in the lobby before service starts\, and they’ll join us for the first worship set before being dismissed to NKids Church. \nJoin us as we come together to worship\, grow\, and share in Christ’s love. See you there!
URL:https://neighborhoodfriends.org/event/sunday-worship-gathering-151/
LOCATION:Neighborhood Friends Church\, 9889 W 66th Ave\, Arvada\, CO\, United States
END:VEVENT
BEGIN:VEVENT
DTSTART;TZID=America/Denver:20250703T180000
DTEND;TZID=America/Denver:20250703T193000
DTSTAMP:20260425T103644
CREATED:20241130T172032Z
LAST-MODIFIED:20250704T005359Z
UID:4520-1751565600-1751571000@neighborhoodfriends.org
SUMMARY:VINTAGE FRIENDS LIFEGROUP
DESCRIPTION:Vintage Friends LifeGroupWhen: Every Thursday night\, 6:00 PM – 7:30 PMWhere: Online via Zoom \nThis LifeGroup is tailored for seniors (55+) seeking fellowship\, encouragement\, and spiritual growth in a supportive and welcoming environment. Led by Pastor John Hinshaw\, it’s a great opportunity to connect with others and deepen your faith from the comfort of your home. \nContact: Pastor John Hinshaw at jhinshaw@neighborhoodfriends.org for the Zoom link and more information.
URL:https://neighborhoodfriends.org/event/vintage-friends-lifegroup-31/
LOCATION:CO
END:VEVENT
BEGIN:VEVENT
DTSTART;TZID=America/Denver:20250702T183000
DTEND;TZID=America/Denver:20250702T200000
DTSTAMP:20260425T103644
CREATED:20241130T172032Z
LAST-MODIFIED:20250703T004159Z
UID:4519-1751481000-1751486400@neighborhoodfriends.org
SUMMARY:NEIGHBORHOOD YOUTH
DESCRIPTION:Neighborhood YouthWhen: Every Wednesday night\, 6:30 PMWhere: Neighborhood Friends Church \nCalling all students in grades 6–12! Join us for an exciting evening of fun\, connection\, and spiritual growth. Come hang out with friends\, play games\, and explore what it means to follow Jesus in your everyday life. \nContact: Pastor Jake Stooke at jstooke@neighborhoodfriends.org for more details.
URL:https://neighborhoodfriends.org/event/neighborhood-youth-31/
LOCATION:Neighborhood Friends Church\, 9889 W 66th Ave\, Arvada\, CO\, United States
END:VEVENT
BEGIN:VEVENT
DTSTART;TZID=America/Denver:20250701T183000
DTEND;TZID=America/Denver:20250701T200000
DTSTAMP:20260425T103644
CREATED:20241130T172031Z
LAST-MODIFIED:20250702T002816Z
UID:4518-1751394600-1751400000@neighborhoodfriends.org
SUMMARY:YOUNG ADULTS LIFEGROUP
DESCRIPTION:Neighborhood Young AdultsWhen: Every Tuesday night\, 6:30 PM – 8:00 PM  Where: Various homes and locations   \nYoung adults\, this is your space to connect\, grow\, and build meaningful community! Each week\, we gather to share life\, dive into God’s Word\, and encourage one another in our faith journeys.   \nContact: Jordan Nockels at jnockels@neighborhoodfriends.org for this week’s location and more details.
URL:https://neighborhoodfriends.org/event/young-adults-lifegroup-5/
LOCATION:CO
END:VEVENT
BEGIN:VEVENT
DTSTART;TZID=America/Denver:20250701T181500
DTEND;TZID=America/Denver:20250701T193000
DTSTAMP:20260425T103644
CREATED:20241130T172031Z
LAST-MODIFIED:20250702T002820Z
UID:4517-1751393700-1751398200@neighborhoodfriends.org
SUMMARY:MEN'S LIFEGROUP
DESCRIPTION:Men’s LifeGroupWhen: Every Tuesday night\, 6:15 PM – 7:30 PMWhere: Pastor Donnie’s Office\, Neighborhood Friends Church \nJoin us for an engaging time of fellowship\, study\, and discussion as we grow together in our faith. Whether you’re a regular or a first-time visitor\, you’re welcome to dive into God’s Word with us. We look forward to seeing you there! \nContact: dhinshaw@neighborhoodfriends.org
URL:https://neighborhoodfriends.org/event/mens-lifegroup-31/
LOCATION:Neighborhood Friends Church\, 9889 W 66th Ave\, Arvada\, CO\, United States
END:VEVENT
BEGIN:VEVENT
DTSTART;TZID=America/Denver:20250701T180000
DTEND;TZID=America/Denver:20250701T193000
DTSTAMP:20260425T103644
CREATED:20241130T172031Z
LAST-MODIFIED:20250702T002820Z
UID:4516-1751392800-1751398200@neighborhoodfriends.org
SUMMARY:WOMEN'S LIFEGROUP
DESCRIPTION:Women’s LifeGroupWhen: Every Tuesday night\, 6:00 PM – 7:30 PMWhere: Rhonda Hinshaw’s Home \nLadies\, join us for an uplifting time of fellowship and spiritual growth as we dive into God’s Word together. Whether you’re new to the group or a long-time participant\, we’d love to have you! \nContact: Rhonda Hinshaw at rhinshaw@neighborhoodfriends.org for more information and address
URL:https://neighborhoodfriends.org/event/womens-lifegroup-31/
LOCATION:CO
END:VEVENT
BEGIN:VEVENT
DTSTART;TZID=America/Denver:20250629T160000
DTEND;TZID=America/Denver:20250629T200000
DTSTAMP:20260425T103644
CREATED:20250413T161748Z
LAST-MODIFIED:20250629T235403Z
UID:4842-1751212800-1751227200@neighborhoodfriends.org
SUMMARY:Jesu Cristo Rey de Reyes Church (Spanish Worship Service)
DESCRIPTION:
URL:https://neighborhoodfriends.org/event/jesu-cristo-rey-de-reyes-church-spanish-worship-service-13/
LOCATION:CO
END:VEVENT
BEGIN:VEVENT
DTSTART;TZID=America/Denver:20250629T160000
DTEND;TZID=America/Denver:20250629T200000
DTSTAMP:20260425T103644
CREATED:20241217T143301Z
LAST-MODIFIED:20241217T143301Z
UID:4650-1751212800-1751227200@neighborhoodfriends.org
SUMMARY:Jesu cristo Rey de Reyes Service
DESCRIPTION:Join with Google Meet: https://meet.google.com/xmh-xhke-oyg\nOr dial: (US) +1 260-557-1985 PIN: 521074753#\nMore phone numbers: https://tel.meet/xmh-xhke-oyg?pin=8120562656953&hs=7\nLearn more about Meet at: https://support.google.com/a/users/answer/9282720
URL:https://neighborhoodfriends.org/event/jesu-cristo-rey-de-reyes-service-26/
LOCATION:CO
ORGANIZER;CN="mbins@neighborhoodfriends.org":MAILTO:mbins@neighborhoodfriends.org
END:VEVENT
BEGIN:VEVENT
DTSTART;TZID=America/Denver:20250629T123000
DTEND;TZID=America/Denver:20250629T143000
DTSTAMP:20260425T103644
CREATED:20250606T025325Z
LAST-MODIFIED:20250628T233954Z
UID:5371-1751200200-1751207400@neighborhoodfriends.org
SUMMARY:NFC Church Business for Worship Meeting & Potluck
DESCRIPTION:🍽️ NFC Church Business for Worship Meeting & Potluck\n📅 Sunday\, June 29🕧 12:30–2:30 PM (Right after service)📍 Neighborhood Friends Church \nLet’s eat together and then meet together as a church family for a time of worship\, updates\, and vision! \nWe’ll start with a potluck lunch—bring a dish to share—then move into our Church Business for Worship Meeting. This will be a time of encouragement and insight as we hear updates from key ministry areas including: \n\n\nMissions (Global & Local) \n\n\nNKids & NYouth \n\n\nLifegroups \n\n\nWomen’s & Men’s Ministries \n\n\nHospitality & Stewards/Facilities \n\n\nFinance & Worship Arts \n\n\n📣 Ministry Leaders: Bring your team and be ready to share what’s happening\, what you’re excited about\, and what you’re envisioning in the months ahead. \nThis gathering is open to anyone who wants to hear what God is doing and how to get involved at NFC. Come with a full plate and an open heart!
URL:https://neighborhoodfriends.org/event/nfc-church-business-for-worship-meeting-potluck/
LOCATION:Neighborhood Friends Church\, 9889 W 66th Ave\, Arvada\, CO\, United States
END:VEVENT
BEGIN:VEVENT
DTSTART;TZID=America/Denver:20250629T100000
DTEND;TZID=America/Denver:20250629T120000
DTSTAMP:20260425T103644
CREATED:20241130T172031Z
LAST-MODIFIED:20241217T143300Z
UID:4515-1751191200-1751198400@neighborhoodfriends.org
SUMMARY:SUNDAY WORSHIP GATHERING
DESCRIPTION:Sunday Worship GatheringWhen: Sundays at Neighborhood Friends Church \n\n10:00 AM – Coffee and Pastries\n10:30 AM – Worship and Teaching\n\nJoin us for a meaningful Sunday morning filled with worship\, teaching\, and community. Kids from Littles through 5th Grade can enjoy their own engaging teaching and activities following the worship set. We look forward to worshiping with you!  For more information: info@neighborhoodfriends.org
URL:https://neighborhoodfriends.org/event/sunday-worship-gathering-31/
LOCATION:Neighborhood Friends Church\, 9889 W 66th Ave\, Arvada\, CO\, United States
END:VEVENT
BEGIN:VEVENT
DTSTART;TZID=America/Denver:20250629T100000
DTEND;TZID=America/Denver:20250629T113000
DTSTAMP:20260425T103644
CREATED:20250413T161747Z
LAST-MODIFIED:20250628T233950Z
UID:4841-1751191200-1751196600@neighborhoodfriends.org
SUMMARY:SUNDAY WORSHIP GATHERING
DESCRIPTION:Sunday Worship Gathering🗓 Every Sunday☕ 10:00 AM – Coffee & Fellowship⏰ 10:30 AM – Worship Gathering📍 Neighborhood Friends Church\, Arvada\, CO \nCome early at 10:00 AM to connect over coffee and fellowship before we begin worship at 10:30. NKids Church is available for children (toddlers through 5th grade). Check in your kids at the NKids Desk in the lobby before service starts\, and they’ll join us for the first worship set before being dismissed to NKids Church. \nJoin us as we come together to worship\, grow\, and share in Christ’s love. See you there!
URL:https://neighborhoodfriends.org/event/sunday-worship-gathering-150/
LOCATION:Neighborhood Friends Church\, 9889 W 66th Ave\, Arvada\, CO\, United States
END:VEVENT
BEGIN:VEVENT
DTSTART;TZID=America/Denver:20250626T180000
DTEND;TZID=America/Denver:20250626T193000
DTSTAMP:20260425T103644
CREATED:20241130T172030Z
LAST-MODIFIED:20250626T230905Z
UID:4514-1750960800-1750966200@neighborhoodfriends.org
SUMMARY:VINTAGE FRIENDS LIFEGROUP
DESCRIPTION:Vintage Friends LifeGroupWhen: Every Thursday night\, 6:00 PM – 7:30 PMWhere: Online via Zoom \nThis LifeGroup is tailored for seniors (55+) seeking fellowship\, encouragement\, and spiritual growth in a supportive and welcoming environment. Led by Pastor John Hinshaw\, it’s a great opportunity to connect with others and deepen your faith from the comfort of your home. \nContact: Pastor John Hinshaw at jhinshaw@neighborhoodfriends.org for the Zoom link and more information.
URL:https://neighborhoodfriends.org/event/vintage-friends-lifegroup-30/
LOCATION:CO
END:VEVENT
BEGIN:VEVENT
DTSTART;TZID=America/Denver:20250625T183000
DTEND;TZID=America/Denver:20250625T200000
DTSTAMP:20260425T103644
CREATED:20241130T172030Z
LAST-MODIFIED:20250625T225643Z
UID:4513-1750876200-1750881600@neighborhoodfriends.org
SUMMARY:NEIGHBORHOOD YOUTH
DESCRIPTION:Neighborhood YouthWhen: Every Wednesday night\, 6:30 PMWhere: Neighborhood Friends Church \nCalling all students in grades 6–12! Join us for an exciting evening of fun\, connection\, and spiritual growth. Come hang out with friends\, play games\, and explore what it means to follow Jesus in your everyday life. \nContact: Pastor Jake Stooke at jstooke@neighborhoodfriends.org for more details.
URL:https://neighborhoodfriends.org/event/neighborhood-youth-30/
LOCATION:Neighborhood Friends Church\, 9889 W 66th Ave\, Arvada\, CO\, United States
END:VEVENT
BEGIN:VEVENT
DTSTART;TZID=America/Denver:20250624T183000
DTEND;TZID=America/Denver:20250624T200000
DTSTAMP:20260425T103644
CREATED:20241130T172029Z
LAST-MODIFIED:20250624T224224Z
UID:4510-1750789800-1750795200@neighborhoodfriends.org
SUMMARY:YOUNG ADULTS LIFEGROUP
DESCRIPTION:Neighborhood Young AdultsWhen: Every Tuesday night\, 6:30 PM – 8:00 PM  Where: Various homes and locations   \nYoung adults\, this is your space to connect\, grow\, and build meaningful community! Each week\, we gather to share life\, dive into God’s Word\, and encourage one another in our faith journeys.   \nContact: Jordan Nockels at jnockels@neighborhoodfriends.org for this week’s location and more details.
URL:https://neighborhoodfriends.org/event/young-adults-lifegroup-4/
LOCATION:CO
END:VEVENT
BEGIN:VEVENT
DTSTART;TZID=America/Denver:20250624T181500
DTEND;TZID=America/Denver:20250624T193000
DTSTAMP:20260425T103644
CREATED:20241130T172030Z
LAST-MODIFIED:20250624T224224Z
UID:4512-1750788900-1750793400@neighborhoodfriends.org
SUMMARY:MEN'S LIFEGROUP
DESCRIPTION:Men’s LifeGroupWhen: Every Tuesday night\, 6:15 PM – 7:30 PMWhere: Pastor Donnie’s Office\, Neighborhood Friends Church \nJoin us for an engaging time of fellowship\, study\, and discussion as we grow together in our faith. Whether you’re a regular or a first-time visitor\, you’re welcome to dive into God’s Word with us. We look forward to seeing you there! \nContact: dhinshaw@neighborhoodfriends.org
URL:https://neighborhoodfriends.org/event/mens-lifegroup-30/
LOCATION:Neighborhood Friends Church\, 9889 W 66th Ave\, Arvada\, CO\, United States
END:VEVENT
BEGIN:VEVENT
DTSTART;TZID=America/Denver:20250624T180000
DTEND;TZID=America/Denver:20250624T193000
DTSTAMP:20260425T103644
CREATED:20241130T172029Z
LAST-MODIFIED:20250624T224221Z
UID:4511-1750788000-1750793400@neighborhoodfriends.org
SUMMARY:WOMEN'S LIFEGROUP
DESCRIPTION:Women’s LifeGroupWhen: Every Tuesday night\, 6:00 PM – 7:30 PMWhere: Rhonda Hinshaw’s Home \nLadies\, join us for an uplifting time of fellowship and spiritual growth as we dive into God’s Word together. Whether you’re new to the group or a long-time participant\, we’d love to have you! \nContact: Rhonda Hinshaw at rhinshaw@neighborhoodfriends.org for more information and address
URL:https://neighborhoodfriends.org/event/womens-lifegroup-30/
LOCATION:CO
END:VEVENT
END:VCALENDAR