BEGIN:VCALENDAR
VERSION:2.0
PRODID:-//Neighborhood Friends Church - ECPv6.15.20//NONSGML v1.0//EN
CALSCALE:GREGORIAN
METHOD:PUBLISH
X-WR-CALNAME:Neighborhood Friends Church
X-ORIGINAL-URL:https://neighborhoodfriends.org
X-WR-CALDESC:Events for Neighborhood Friends Church
REFRESH-INTERVAL;VALUE=DURATION:PT1H
X-Robots-Tag:noindex
X-PUBLISHED-TTL:PT1H
BEGIN:VTIMEZONE
TZID:America/Denver
BEGIN:DAYLIGHT
TZOFFSETFROM:-0700
TZOFFSETTO:-0600
TZNAME:MDT
DTSTART:20230312T090000
END:DAYLIGHT
BEGIN:STANDARD
TZOFFSETFROM:-0600
TZOFFSETTO:-0700
TZNAME:MST
DTSTART:20231105T080000
END:STANDARD
BEGIN:DAYLIGHT
TZOFFSETFROM:-0700
TZOFFSETTO:-0600
TZNAME:MDT
DTSTART:20240310T090000
END:DAYLIGHT
BEGIN:STANDARD
TZOFFSETFROM:-0600
TZOFFSETTO:-0700
TZNAME:MST
DTSTART:20241103T080000
END:STANDARD
BEGIN:DAYLIGHT
TZOFFSETFROM:-0700
TZOFFSETTO:-0600
TZNAME:MDT
DTSTART:20250309T090000
END:DAYLIGHT
BEGIN:STANDARD
TZOFFSETFROM:-0600
TZOFFSETTO:-0700
TZNAME:MST
DTSTART:20251102T080000
END:STANDARD
BEGIN:DAYLIGHT
TZOFFSETFROM:-0700
TZOFFSETTO:-0600
TZNAME:MDT
DTSTART:20260308T090000
END:DAYLIGHT
BEGIN:STANDARD
TZOFFSETFROM:-0600
TZOFFSETTO:-0700
TZNAME:MST
DTSTART:20261101T080000
END:STANDARD
END:VTIMEZONE
BEGIN:VEVENT
DTSTART;TZID=America/Denver:20250102T180000
DTEND;TZID=America/Denver:20250102T193000
DTSTAMP:20260424T105848
CREATED:20241130T170453Z
LAST-MODIFIED:20241217T143236Z
UID:4181-1735840800-1735846200@neighborhoodfriends.org
SUMMARY:VINTAGE FRIENDS LIFEGROUP
DESCRIPTION:Vintage Friends LifeGroupWhen: Every Thursday night\, 6:00 PM – 7:30 PMWhere: Online via Zoom \nThis LifeGroup is tailored for seniors (55+) seeking fellowship\, encouragement\, and spiritual growth in a supportive and welcoming environment. Led by Pastor John Hinshaw\, it’s a great opportunity to connect with others and deepen your faith from the comfort of your home. \nContact: Pastor John Hinshaw at jhinshaw@neighborhoodfriends.org for the Zoom link and more information.
URL:https://neighborhoodfriends.org/event/vintage-friends-lifegroup-5/
END:VEVENT
BEGIN:VEVENT
DTSTART;TZID=America/Denver:20250101T183000
DTEND;TZID=America/Denver:20250101T200000
DTSTAMP:20260424T105848
CREATED:20241130T170453Z
LAST-MODIFIED:20241217T143236Z
UID:4180-1735756200-1735761600@neighborhoodfriends.org
SUMMARY:NEIGHBORHOOD YOUTH
DESCRIPTION:Neighborhood YouthWhen: Every Wednesday night\, 6:30 PMWhere: Neighborhood Friends Church \nCalling all students in grades 6–12! Join us for an exciting evening of fun\, connection\, and spiritual growth. Come hang out with friends\, play games\, and explore what it means to follow Jesus in your everyday life. \nContact: Pastor Jake Stooke at jstooke@neighborhoodfriends.org for more details.
URL:https://neighborhoodfriends.org/event/neighborhood-youth-5/
LOCATION:Neighborhood Friends Church\, 9889 W 66th Ave\, Arvada\, CO\, United States
END:VEVENT
BEGIN:VEVENT
DTSTART;TZID=America/Denver:20241231T183000
DTEND;TZID=America/Denver:20241231T200000
DTSTAMP:20260424T105848
CREATED:20241130T170452Z
LAST-MODIFIED:20241217T143235Z
UID:4177-1735669800-1735675200@neighborhoodfriends.org
SUMMARY:YOUNG ADULTS LIFEGROUP
DESCRIPTION:Neighborhood Young AdultsWhen: Every Tuesday night\, 6:30 PM – 8:00 PM  Where: Various homes and locations   \nYoung adults\, this is your space to connect\, grow\, and build meaningful community! Each week\, we gather to share life\, dive into God’s Word\, and encourage one another in our faith journeys.   \nContact: Jordan Nockels at jnockels@neighborhoodfriends.org for this week’s location and more details.
URL:https://neighborhoodfriends.org/event/neighborhood-young-adults-5/
END:VEVENT
BEGIN:VEVENT
DTSTART;TZID=America/Denver:20241231T181500
DTEND;TZID=America/Denver:20241231T193000
DTSTAMP:20260424T105848
CREATED:20241130T170453Z
LAST-MODIFIED:20241217T143235Z
UID:4178-1735668900-1735673400@neighborhoodfriends.org
SUMMARY:NO MEN'S LIFEGROUP!
DESCRIPTION:Men’s LifeGroupWhen: Every Tuesday night\, 6:15 PM – 7:30 PMWhere: Pastor Donnie’s Office\, Neighborhood Friends Church \nJoin us for an engaging time of fellowship\, study\, and discussion as we grow together in our faith. Whether you’re a regular or a first-time visitor\, you’re welcome to dive into God’s Word with us. We look forward to seeing you there! \nContact: dhinshaw@neighborhoodfriends.org
URL:https://neighborhoodfriends.org/event/mens-lifegroup-5/
LOCATION:Neighborhood Friends Church\, 9889 W 66th Ave\, Arvada\, CO\, United States
END:VEVENT
BEGIN:VEVENT
DTSTART;TZID=America/Denver:20241231T180000
DTEND;TZID=America/Denver:20241231T193000
DTSTAMP:20260424T105848
CREATED:20241130T170453Z
LAST-MODIFIED:20241217T143235Z
UID:4179-1735668000-1735673400@neighborhoodfriends.org
SUMMARY:NO WOMEN'S LIFEGROUP!
DESCRIPTION:Women’s LifeGroupWhen: Every Tuesday night\, 6:00 PM – 7:30 PMWhere: Rhonda Hinshaw’s Home \nLadies\, join us for an uplifting time of fellowship and spiritual growth as we dive into God’s Word together. Whether you’re new to the group or a long-time participant\, we’d love to have you! \nContact: Rhonda Hinshaw at rhinshaw@neighborhoodfriends.org for more information and address
URL:https://neighborhoodfriends.org/event/womens-lifegroup-5/
END:VEVENT
BEGIN:VEVENT
DTSTART;TZID=America/Denver:20241229T100000
DTEND;TZID=America/Denver:20241229T120000
DTSTAMP:20260424T105848
CREATED:20241130T170452Z
LAST-MODIFIED:20241217T143235Z
UID:4175-1735466400-1735473600@neighborhoodfriends.org
SUMMARY:SUNDAY WORSHIP GATHERING
DESCRIPTION:Sunday Worship GatheringWhen: Sundays at Neighborhood Friends Church \n\n10:00 AM – Coffee and Pastries\n10:30 AM – Worship and Teaching\n\nJoin us for a meaningful Sunday morning filled with worship\, teaching\, and community. Kids from Littles through 5th Grade can enjoy their own engaging teaching and activities following the worship set. We look forward to worshiping with you!  For more information: info@neighborhoodfriends.org
URL:https://neighborhoodfriends.org/event/sunday-worship-gathering-5/
LOCATION:Neighborhood Friends Church\, 9889 W 66th Ave\, Arvada\, CO\, United States
END:VEVENT
BEGIN:VEVENT
DTSTART;TZID=America/Denver:20241228T070000
DTEND;TZID=America/Denver:20241228T083000
DTSTAMP:20260424T105848
CREATED:20241130T170452Z
LAST-MODIFIED:20241130T170539Z
UID:4176-1735369200-1735374600@neighborhoodfriends.org
SUMMARY:MEN'S COFFEE LIFEGROUP
DESCRIPTION:Men’s CoffeeWhen: Every Saturday morning\, 7:00 AMWhere: Red Silo Coffee\, Arvada \nStart your weekend with a cup of coffee and great conversation about life and Jesus. This is a casual\, welcoming space for men to connect\, share\, and grow together. \nContact: dstooke@neighborhoodfriends.org for more details.
URL:https://neighborhoodfriends.org/event/mens-coffee-lifegroup-73/
LOCATION:Red Silo Coffee Roasters\, 6590 Holman St\, Arvada\, CO\, United States
END:VEVENT
BEGIN:VEVENT
DTSTART;TZID=America/Denver:20241224T163000
DTEND;TZID=America/Denver:20241224T180000
DTSTAMP:20260424T105848
CREATED:20241130T170451Z
LAST-MODIFIED:20241217T143223Z
UID:4169-1735057800-1735063200@neighborhoodfriends.org
SUMMARY:CHRISTMAS EVE CANDLELIGHT GATHERING
DESCRIPTION:Christmas Eve Candlelight GatheringWhen: December 24th at 4:30 PMWhere: Neighborhood Friends Church \nJoin us for a beautiful and traditional Christmas Eve celebration! This special candlelight gathering will feature timeless hymns\, the story of Jesus’ birth\, and heartfelt worship as we prepare our hearts to celebrate the true meaning of Christmas. \nBring your family and friends—we look forward to celebrating with you!
URL:https://neighborhoodfriends.org/event/christmas-eve-candlelight-gathering/
LOCATION:Neighborhood Friends Church\, 9889 W 66th Ave\, Arvada\, CO\, United States
END:VEVENT
BEGIN:VEVENT
DTSTART;TZID=America/Denver:20241222T180000
DTEND;TZID=America/Denver:20241222T210000
DTSTAMP:20260424T105848
CREATED:20241130T170450Z
LAST-MODIFIED:20241217T143223Z
UID:4168-1734890400-1734901200@neighborhoodfriends.org
SUMMARY:NIGHT OF WORSHIP AND PRAYER - Hosted by YWAM Arvada
DESCRIPTION:Prayer and Worship NightWhen: \, 6:00 PM – 9:00 PMWhere: Hosted by Youth With A Mission (YWAM) Arvada \nCome experience an evening of heartfelt prayer and worship with our community. This is a time to seek God together through music and prayer in a welcoming atmosphere. Snacks and drinks will be provided\, so bring a friend and join us for this special night of connection and worship! \nWe hope to see you there! \nContact: Hannah-Grace 
URL:https://neighborhoodfriends.org/event/night-of-worship-and-prayer-hosted-by-ywam-arvada/
END:VEVENT
BEGIN:VEVENT
DTSTART;TZID=America/Denver:20241222T103000
DTEND;TZID=America/Denver:20241222T120000
DTSTAMP:20260424T105848
CREATED:20241217T143222Z
LAST-MODIFIED:20241217T143222Z
UID:4620-1734863400-1734868800@neighborhoodfriends.org
SUMMARY:Neighborhood Kids (NKids) Christmas Production
DESCRIPTION:Neighborhood Kids (NKids) Christmas ProductionWhen: Sunday\, December 22nd\, during the main worship gathering (10:30 AM)Where: Neighborhood Friends Church \nCelebrate the joy of the season as our NKids present their Christmas production! During the main worship gathering\, our talented kids will share the story of Jesus’ birth through a heartwarming and creative performance. \nYou won’t want to miss this special event—it’s a perfect opportunity to invite family and friends to experience the wonder of Christmas. Join us as we celebrate the greatest gift of all!
URL:https://neighborhoodfriends.org/event/neighborhood-kids-nkids-christmas-production/
END:VEVENT
BEGIN:VEVENT
DTSTART;TZID=America/Denver:20241222T100000
DTEND;TZID=America/Denver:20241222T120000
DTSTAMP:20260424T105848
CREATED:20241130T170450Z
LAST-MODIFIED:20241217T143223Z
UID:4167-1734861600-1734868800@neighborhoodfriends.org
SUMMARY:SUNDAY WORSHIP GATHERING
DESCRIPTION:Sunday Worship GatheringWhen: Sundays at Neighborhood Friends Church \n\n10:00 AM – Coffee and Pastries\n10:30 AM – Worship and Teaching\n\nJoin us for a meaningful Sunday morning filled with worship\, teaching\, and community. Kids from Littles through 5th Grade can enjoy their own engaging teaching and activities following the worship set. We look forward to worshiping with you!  For more information: info@neighborhoodfriends.org
URL:https://neighborhoodfriends.org/event/sunday-worship-gathering-4/
LOCATION:Neighborhood Friends Church\, 9889 W 66th Ave\, Arvada\, CO\, United States
END:VEVENT
BEGIN:VEVENT
DTSTART;TZID=America/Denver:20241221T070000
DTEND;TZID=America/Denver:20241221T083000
DTSTAMP:20260424T105848
CREATED:20241130T170450Z
LAST-MODIFIED:20241130T170520Z
UID:4166-1734764400-1734769800@neighborhoodfriends.org
SUMMARY:MEN'S COFFEE LIFEGROUP
DESCRIPTION:Men’s CoffeeWhen: Every Saturday morning\, 7:00 AMWhere: Red Silo Coffee\, Arvada \nStart your weekend with a cup of coffee and great conversation about life and Jesus. This is a casual\, welcoming space for men to connect\, share\, and grow together. \nContact: dstooke@neighborhoodfriends.org for more details.
URL:https://neighborhoodfriends.org/event/mens-coffee-lifegroup-72/
LOCATION:Red Silo Coffee Roasters\, 6590 Holman St\, Arvada\, CO\, United States
END:VEVENT
BEGIN:VEVENT
DTSTART;TZID=America/Denver:20241219T180000
DTEND;TZID=America/Denver:20241219T193000
DTSTAMP:20260424T105848
CREATED:20241130T170450Z
LAST-MODIFIED:20241217T143222Z
UID:4165-1734631200-1734636600@neighborhoodfriends.org
SUMMARY:VINTAGE FRIENDS LIFEGROUP
DESCRIPTION:Vintage Friends LifeGroupWhen: Every Thursday night\, 6:00 PM – 7:30 PMWhere: Online via Zoom \nThis LifeGroup is tailored for seniors (55+) seeking fellowship\, encouragement\, and spiritual growth in a supportive and welcoming environment. Led by Pastor John Hinshaw\, it’s a great opportunity to connect with others and deepen your faith from the comfort of your home. \nContact: Pastor John Hinshaw at jhinshaw@neighborhoodfriends.org for the Zoom link and more information.
URL:https://neighborhoodfriends.org/event/vintage-friends-lifegroup-3/
END:VEVENT
BEGIN:VEVENT
DTSTART;TZID=America/Denver:20241217T183000
DTEND;TZID=America/Denver:20241217T200000
DTSTAMP:20260424T105848
CREATED:20241130T170450Z
LAST-MODIFIED:20241217T143222Z
UID:4164-1734460200-1734465600@neighborhoodfriends.org
SUMMARY:NEIGHBORHOOD YOUTH - MALL MANHUNT
DESCRIPTION:Neighborhood Youth – MALL MANHUNTWhen: TUESDAY NIGHT\, 6:30 PMWhere: FLATIRONS MALL – FOOD COURT \nThis is a special event with Christ Community Covenant Church Youth. Join us for an amazing man hunt for our leaders in the mall at Flatirons. \nContact: Pastor Jake Stooke at jstooke@neighborhoodfriends.org for more details.
URL:https://neighborhoodfriends.org/event/neighborhood-youth-3/
LOCATION:Neighborhood Friends Church\, 9889 W 66th Ave\, Arvada\, CO\, United States
END:VEVENT
BEGIN:VEVENT
DTSTART;TZID=America/Denver:20241217T183000
DTEND;TZID=America/Denver:20241217T200000
DTSTAMP:20260424T105848
CREATED:20241130T170449Z
LAST-MODIFIED:20241217T143222Z
UID:4163-1734460200-1734465600@neighborhoodfriends.org
SUMMARY:YOUNG ADULTS LIFEGROUP
DESCRIPTION:Neighborhood Young AdultsWhen: Every Tuesday night\, 6:30 PM – 8:00 PM  Where: Various homes and locations   \nYoung adults\, this is your space to connect\, grow\, and build meaningful community! Each week\, we gather to share life\, dive into God’s Word\, and encourage one another in our faith journeys.   \nContact: Jordan Nockels at jnockels@neighborhoodfriends.org for this week’s location and more details.
URL:https://neighborhoodfriends.org/event/neighborhood-young-adults-3/
END:VEVENT
BEGIN:VEVENT
DTSTART;TZID=America/Denver:20241217T181500
DTEND;TZID=America/Denver:20241217T193000
DTSTAMP:20260424T105848
CREATED:20241130T170449Z
LAST-MODIFIED:20241217T143222Z
UID:4161-1734459300-1734463800@neighborhoodfriends.org
SUMMARY:MEN'S LIFEGROUP
DESCRIPTION:Men’s LifeGroupWhen: Every Tuesday night\, 6:15 PM – 7:30 PMWhere: Pastor Donnie’s Office\, Neighborhood Friends Church \nJoin us for an engaging time of fellowship\, study\, and discussion as we grow together in our faith. Whether you’re a regular or a first-time visitor\, you’re welcome to dive into God’s Word with us. We look forward to seeing you there! \nContact: dhinshaw@neighborhoodfriends.org
URL:https://neighborhoodfriends.org/event/mens-lifegroup-3/
LOCATION:Neighborhood Friends Church\, 9889 W 66th Ave\, Arvada\, CO\, United States
END:VEVENT
BEGIN:VEVENT
DTSTART;TZID=America/Denver:20241217T180000
DTEND;TZID=America/Denver:20241217T193000
DTSTAMP:20260424T105848
CREATED:20241130T170449Z
LAST-MODIFIED:20241217T143222Z
UID:4162-1734458400-1734463800@neighborhoodfriends.org
SUMMARY:WOMEN'S LIFEGROUP
DESCRIPTION:Women’s LifeGroupWhen: Every Tuesday night\, 6:00 PM – 7:30 PMWhere: Rhonda Hinshaw’s Home \nLadies\, join us for an uplifting time of fellowship and spiritual growth as we dive into God’s Word together. Whether you’re new to the group or a long-time participant\, we’d love to have you! \nContact: Rhonda Hinshaw at rhinshaw@neighborhoodfriends.org for more information and address
URL:https://neighborhoodfriends.org/event/womens-lifegroup-3/
END:VEVENT
BEGIN:VEVENT
DTSTART;TZID=America/Denver:20241215T100000
DTEND;TZID=America/Denver:20241215T120000
DTSTAMP:20260424T105848
CREATED:20241130T170448Z
LAST-MODIFIED:20241130T173046Z
UID:4160-1734256800-1734264000@neighborhoodfriends.org
SUMMARY:SUNDAY WORSHIP GATHERING
DESCRIPTION:Sunday Worship GatheringWhen: Sundays at Neighborhood Friends Church \n\n10:00 AM – Coffee and Pastries\n10:30 AM – Worship and Teaching\n\nJoin us for a meaningful Sunday morning filled with worship\, teaching\, and community. Kids from Littles through 5th Grade can enjoy their own engaging teaching and activities following the worship set. We look forward to worshiping with you!  For more information: info@neighborhoodfriends.org
URL:https://neighborhoodfriends.org/event/sunday-worship-gathering-3/
LOCATION:Neighborhood Friends Church\, 9889 W 66th Ave\, Arvada\, CO\, United States
END:VEVENT
BEGIN:VEVENT
DTSTART;TZID=America/Denver:20241214T070000
DTEND;TZID=America/Denver:20241214T083000
DTSTAMP:20260424T105848
CREATED:20241130T170448Z
LAST-MODIFIED:20241130T170502Z
UID:4159-1734159600-1734165000@neighborhoodfriends.org
SUMMARY:MEN'S COFFEE LIFEGROUP
DESCRIPTION:Men’s CoffeeWhen: Every Saturday morning\, 7:00 AMWhere: Red Silo Coffee\, Arvada \nStart your weekend with a cup of coffee and great conversation about life and Jesus. This is a casual\, welcoming space for men to connect\, share\, and grow together. \nContact: dstooke@neighborhoodfriends.org for more details.
URL:https://neighborhoodfriends.org/event/mens-coffee-lifegroup-71/
LOCATION:Red Silo Coffee Roasters\, 6590 Holman St\, Arvada\, CO\, United States
END:VEVENT
BEGIN:VEVENT
DTSTART;TZID=America/Denver:20241212T180000
DTEND;TZID=America/Denver:20241212T193000
DTSTAMP:20260424T105848
CREATED:20241130T170448Z
LAST-MODIFIED:20241130T173046Z
UID:4158-1734026400-1734031800@neighborhoodfriends.org
SUMMARY:VINTAGE FRIENDS LIFEGROUP
DESCRIPTION:Vintage Friends LifeGroupWhen: Every Thursday night\, 6:00 PM – 7:30 PMWhere: Online via Zoom \nThis LifeGroup is tailored for seniors (55+) seeking fellowship\, encouragement\, and spiritual growth in a supportive and welcoming environment. Led by Pastor John Hinshaw\, it’s a great opportunity to connect with others and deepen your faith from the comfort of your home. \nContact: Pastor John Hinshaw at jhinshaw@neighborhoodfriends.org for the Zoom link and more information.
URL:https://neighborhoodfriends.org/event/vintage-friends-lifegroup-2/
END:VEVENT
BEGIN:VEVENT
DTSTART;TZID=America/Denver:20241211T183000
DTEND;TZID=America/Denver:20241211T200000
DTSTAMP:20260424T105848
CREATED:20241130T170448Z
LAST-MODIFIED:20241130T173046Z
UID:4157-1733941800-1733947200@neighborhoodfriends.org
SUMMARY:NEIGHBORHOOD YOUTH
DESCRIPTION:Neighborhood YouthWhen: Every Wednesday night\, 6:30 PMWhere: Neighborhood Friends Church \nCalling all students in grades 6–12! Join us for an exciting evening of fun\, connection\, and spiritual growth. Come hang out with friends\, play games\, and explore what it means to follow Jesus in your everyday life. \nContact: Pastor Jake Stooke at jstooke@neighborhoodfriends.org for more details.
URL:https://neighborhoodfriends.org/event/neighborhood-youth-2/
LOCATION:Neighborhood Friends Church\, 9889 W 66th Ave\, Arvada\, CO\, United States
END:VEVENT
BEGIN:VEVENT
DTSTART;TZID=America/Denver:20241210T183000
DTEND;TZID=America/Denver:20241210T200000
DTSTAMP:20260424T105848
CREATED:20241130T170448Z
LAST-MODIFIED:20241130T173045Z
UID:4156-1733855400-1733860800@neighborhoodfriends.org
SUMMARY:YOUNG ADULTS LIFEGROUP
DESCRIPTION:Neighborhood Young AdultsWhen: Every Tuesday night\, 6:30 PM – 8:00 PM  Where: Various homes and locations   \nYoung adults\, this is your space to connect\, grow\, and build meaningful community! Each week\, we gather to share life\, dive into God’s Word\, and encourage one another in our faith journeys.   \nContact: Jordan Nockels at jnockels@neighborhoodfriends.org for this week’s location and more details.
URL:https://neighborhoodfriends.org/event/neighborhood-young-adults-2/
END:VEVENT
BEGIN:VEVENT
DTSTART;TZID=America/Denver:20241210T181500
DTEND;TZID=America/Denver:20241210T193000
DTSTAMP:20260424T105848
CREATED:20241130T170447Z
LAST-MODIFIED:20241130T173046Z
UID:4155-1733854500-1733859000@neighborhoodfriends.org
SUMMARY:MEN'S LIFEGROUP
DESCRIPTION:Men’s LifeGroupWhen: Every Tuesday night\, 6:15 PM – 7:30 PMWhere: Pastor Donnie’s Office\, Neighborhood Friends Church \nJoin us for an engaging time of fellowship\, study\, and discussion as we grow together in our faith. Whether you’re a regular or a first-time visitor\, you’re welcome to dive into God’s Word with us. We look forward to seeing you there! \nContact: dhinshaw@neighborhoodfriends.org
URL:https://neighborhoodfriends.org/event/mens-lifegroup-2/
LOCATION:Neighborhood Friends Church\, 9889 W 66th Ave\, Arvada\, CO\, United States
END:VEVENT
BEGIN:VEVENT
DTSTART;TZID=America/Denver:20241210T180000
DTEND;TZID=America/Denver:20241210T193000
DTSTAMP:20260424T105848
CREATED:20241130T170447Z
LAST-MODIFIED:20241130T173045Z
UID:4154-1733853600-1733859000@neighborhoodfriends.org
SUMMARY:WOMEN'S LIFEGROUP
DESCRIPTION:Women’s LifeGroupWhen: Every Tuesday night\, 6:00 PM – 7:30 PMWhere: Rhonda Hinshaw’s Home \nLadies\, join us for an uplifting time of fellowship and spiritual growth as we dive into God’s Word together. Whether you’re new to the group or a long-time participant\, we’d love to have you! \nContact: Rhonda Hinshaw at rhinshaw@neighborhoodfriends.org for more information and address
URL:https://neighborhoodfriends.org/event/womens-lifegroup-2/
END:VEVENT
BEGIN:VEVENT
DTSTART;TZID=America/Denver:20241208T100000
DTEND;TZID=America/Denver:20241208T120000
DTSTAMP:20260424T105848
CREATED:20241130T170445Z
LAST-MODIFIED:20241130T173045Z
UID:4145-1733652000-1733659200@neighborhoodfriends.org
SUMMARY:SUNDAY WORSHIP GATHERING
DESCRIPTION:Sunday Worship GatheringWhen: Sundays at Neighborhood Friends Church \n\n10:00 AM – Coffee and Pastries\n10:30 AM – Worship and Teaching\n\nJoin us for a meaningful Sunday morning filled with worship\, teaching\, and community. Kids from Littles through 5th Grade can enjoy their own engaging teaching and activities following the worship set. We look forward to worshiping with you!  For more information: info@neighborhoodfriends.org
URL:https://neighborhoodfriends.org/event/sunday-worship-gathering-2/
LOCATION:Neighborhood Friends Church\, 9889 W 66th Ave\, Arvada\, CO\, United States
END:VEVENT
BEGIN:VEVENT
DTSTART;TZID=America/Denver:20241207T100000
DTEND;TZID=America/Denver:20241207T120000
DTSTAMP:20260424T105848
CREATED:20241130T173026Z
LAST-MODIFIED:20241130T173045Z
UID:4579-1733565600-1733572800@neighborhoodfriends.org
SUMMARY:LADIES CHRISTMAS BRUNCH
DESCRIPTION:Join us for our Annual Ladies’ Christmas Brunch on Saturday\, December 7th\, from 10 AM to 12 PM! Bring your favorite brunch dish to share—drinks will be provided. \nThis year\, we’re spreading extra holiday cheer by blessing the residents of The Oberon House. Please consider donating a plate of cookies and a few blank Christmas cards to help make their season bright. \nWe can’t wait to celebrate this special time of year with you!
URL:https://neighborhoodfriends.org/event/ladies-christmas-brunch/
END:VEVENT
BEGIN:VEVENT
DTSTART;TZID=America/Denver:20241207T070000
DTEND;TZID=America/Denver:20241207T083000
DTSTAMP:20260424T105848
CREATED:20241130T170445Z
LAST-MODIFIED:20241130T170446Z
UID:4144-1733554800-1733560200@neighborhoodfriends.org
SUMMARY:MEN'S COFFEE LIFEGROUP
DESCRIPTION:Men’s CoffeeWhen: Every Saturday morning\, 7:00 AMWhere: Red Silo Coffee\, Arvada \nStart your weekend with a cup of coffee and great conversation about life and Jesus. This is a casual\, welcoming space for men to connect\, share\, and grow together. \nContact: dstooke@neighborhoodfriends.org for more details.
URL:https://neighborhoodfriends.org/event/mens-coffee-lifegroup-70/
LOCATION:Red Silo Coffee Roasters\, 6590 Holman St\, Arvada\, CO\, United States
END:VEVENT
BEGIN:VEVENT
DTSTART;TZID=America/Denver:20241205T180000
DTEND;TZID=America/Denver:20241205T193000
DTSTAMP:20260424T105848
CREATED:20241130T170445Z
LAST-MODIFIED:20241130T173045Z
UID:4143-1733421600-1733427000@neighborhoodfriends.org
SUMMARY:VINTAGE FRIENDS LIFEGROUP
DESCRIPTION:Vintage Friends LifeGroupWhen: Every Thursday night\, 6:00 PM – 7:30 PMWhere: Online via Zoom \nThis LifeGroup is tailored for seniors (55+) seeking fellowship\, encouragement\, and spiritual growth in a supportive and welcoming environment. Led by Pastor John Hinshaw\, it’s a great opportunity to connect with others and deepen your faith from the comfort of your home. \nContact: Pastor John Hinshaw at jhinshaw@neighborhoodfriends.org for the Zoom link and more information.
URL:https://neighborhoodfriends.org/event/vintage-friends-lifegroup/
END:VEVENT
BEGIN:VEVENT
DTSTART;TZID=America/Denver:20241204T183000
DTEND;TZID=America/Denver:20241204T200000
DTSTAMP:20260424T105848
CREATED:20241130T170444Z
LAST-MODIFIED:20241130T173045Z
UID:4142-1733337000-1733342400@neighborhoodfriends.org
SUMMARY:NEIGHBORHOOD YOUTH
DESCRIPTION:Neighborhood YouthWhen: Every Wednesday night\, 6:30 PMWhere: Neighborhood Friends Church \nCalling all students in grades 6–12! Join us for an exciting evening of fun\, connection\, and spiritual growth. Come hang out with friends\, play games\, and explore what it means to follow Jesus in your everyday life. \nContact: Pastor Jake Stooke at jstooke@neighborhoodfriends.org for more details.
URL:https://neighborhoodfriends.org/event/neighborhood-youth/
LOCATION:Neighborhood Friends Church\, 9889 W 66th Ave\, Arvada\, CO\, United States
END:VEVENT
BEGIN:VEVENT
DTSTART;TZID=America/Denver:20241203T183000
DTEND;TZID=America/Denver:20241203T200000
DTSTAMP:20260424T105848
CREATED:20241130T170444Z
LAST-MODIFIED:20241130T173045Z
UID:4140-1733250600-1733256000@neighborhoodfriends.org
SUMMARY:YOUNG ADULTS LIFEGROUP
DESCRIPTION:Neighborhood Young AdultsWhen: Every Tuesday night\, 6:30 PM – 8:00 PM  Where: Various homes and locations   \nYoung adults\, this is your space to connect\, grow\, and build meaningful community! Each week\, we gather to share life\, dive into God’s Word\, and encourage one another in our faith journeys.   \nContact: Jordan Nockels at jnockels@neighborhoodfriends.org for this week’s location and more details.
URL:https://neighborhoodfriends.org/event/neighborhood-young-adults/
END:VEVENT
END:VCALENDAR