BEGIN:VCALENDAR
VERSION:2.0
PRODID:-//Neighborhood Friends Church - ECPv6.15.20//NONSGML v1.0//EN
CALSCALE:GREGORIAN
METHOD:PUBLISH
X-WR-CALNAME:Neighborhood Friends Church
X-ORIGINAL-URL:https://neighborhoodfriends.org
X-WR-CALDESC:Events for Neighborhood Friends Church
REFRESH-INTERVAL;VALUE=DURATION:PT1H
X-Robots-Tag:noindex
X-PUBLISHED-TTL:PT1H
BEGIN:VTIMEZONE
TZID:America/Denver
BEGIN:DAYLIGHT
TZOFFSETFROM:-0700
TZOFFSETTO:-0600
TZNAME:MDT
DTSTART:20250309T090000
END:DAYLIGHT
BEGIN:STANDARD
TZOFFSETFROM:-0600
TZOFFSETTO:-0700
TZNAME:MST
DTSTART:20251102T080000
END:STANDARD
BEGIN:DAYLIGHT
TZOFFSETFROM:-0700
TZOFFSETTO:-0600
TZNAME:MDT
DTSTART:20260308T090000
END:DAYLIGHT
BEGIN:STANDARD
TZOFFSETFROM:-0600
TZOFFSETTO:-0700
TZNAME:MST
DTSTART:20261101T080000
END:STANDARD
BEGIN:DAYLIGHT
TZOFFSETFROM:-0700
TZOFFSETTO:-0600
TZNAME:MDT
DTSTART:20270314T090000
END:DAYLIGHT
BEGIN:STANDARD
TZOFFSETFROM:-0600
TZOFFSETTO:-0700
TZNAME:MST
DTSTART:20271107T080000
END:STANDARD
END:VTIMEZONE
BEGIN:VEVENT
DTSTART;TZID=America/Denver:20260215T100000
DTEND;TZID=America/Denver:20260215T113000
DTSTAMP:20260423T180358
CREATED:20250711T021450Z
LAST-MODIFIED:20260212T182059Z
UID:5697-1771149600-1771155000@neighborhoodfriends.org
SUMMARY:SUNDAY WORSHIP GATHERING
DESCRIPTION:Sunday Worship Gathering🗓 Every Sunday☕ 10:00 AM – Coffee & Fellowship⏰ 10:30 AM – Worship Gathering📍 Neighborhood Friends Church\, Arvada\, CO \nCome early at 10:00 AM to connect over coffee and fellowship before we begin worship at 10:30. NKids Church is available for children (toddlers through 5th grade). Check in your kids at the NKids Desk in the lobby before service starts\, and they’ll join us for the first worship set before being dismissed to NKids Church. \nJoin us as we come together to worship\, grow\, and share in Christ’s love. See you there!
URL:https://neighborhoodfriends.org/event/sunday-worship-gathering-183/
LOCATION:Neighborhood Friends Church\, 9889 W 66th Ave\, Arvada\, CO\, United States
END:VEVENT
BEGIN:VEVENT
DTSTART;TZID=America/Denver:20260215T160000
DTEND;TZID=America/Denver:20260215T200000
DTSTAMP:20260423T180358
CREATED:20250711T021451Z
LAST-MODIFIED:20260212T182100Z
UID:5698-1771171200-1771185600@neighborhoodfriends.org
SUMMARY:Jesu Cristo Rey de Reyes Church (Spanish Worship Service)
DESCRIPTION:
URL:https://neighborhoodfriends.org/event/jesu-cristo-rey-de-reyes-church-spanish-worship-service-46/
END:VEVENT
BEGIN:VEVENT
DTSTART;TZID=America/Denver:20260217T180000
DTEND;TZID=America/Denver:20260217T193000
DTSTAMP:20260423T180358
CREATED:20250713T024557Z
LAST-MODIFIED:20260212T182101Z
UID:5705-1771351200-1771356600@neighborhoodfriends.org
SUMMARY:WOMEN'S LIFEGROUP
DESCRIPTION:Women’s LifeGroupWhen: Every Tuesday night\, 6:00 PM – 7:30 PMWhere: Rhonda Hinshaw’s Home \nLadies\, join us for an uplifting time of fellowship and spiritual growth as we dive into God’s Word together. Whether you’re new to the group or a long-time participant\, we’d love to have you! \nContact: Rhonda Hinshaw at rhinshaw@neighborhoodfriends.org for more information and address
URL:https://neighborhoodfriends.org/event/womens-lifegroup-64/
END:VEVENT
BEGIN:VEVENT
DTSTART;TZID=America/Denver:20260217T181500
DTEND;TZID=America/Denver:20260217T193000
DTSTAMP:20260423T180358
CREATED:20250713T024556Z
LAST-MODIFIED:20260212T182101Z
UID:5704-1771352100-1771356600@neighborhoodfriends.org
SUMMARY:MEN'S LIFEGROUP
DESCRIPTION:Men’s LifeGroupWhen: Every Tuesday night\, 6:15 PM – 7:30 PMWhere: Pastor Donnie’s Office\, Neighborhood Friends Church \nJoin us for an engaging time of fellowship\, study\, and discussion as we grow together in our faith. Whether you’re a regular or a first-time visitor\, you’re welcome to dive into God’s Word with us. We look forward to seeing you there! \nContact: dhinshaw@neighborhoodfriends.org
URL:https://neighborhoodfriends.org/event/mens-lifegroup-64/
LOCATION:Neighborhood Friends Church\, 9889 W 66th Ave\, Arvada\, CO\, United States
END:VEVENT
BEGIN:VEVENT
DTSTART;TZID=America/Denver:20260217T183000
DTEND;TZID=America/Denver:20260217T200000
DTSTAMP:20260423T180358
CREATED:20250712T023059Z
LAST-MODIFIED:20260212T182100Z
UID:5702-1771353000-1771358400@neighborhoodfriends.org
SUMMARY:YOUNG ADULTS LIFEGROUP
DESCRIPTION:Neighborhood Young AdultsWhen: Every Tuesday night\, 6:30 PM – 8:00 PM  Where: Various homes and locations   \nYoung adults\, this is your space to connect\, grow\, and build meaningful community! Each week\, we gather to share life\, dive into God’s Word\, and encourage one another in our faith journeys.   \nContact: Jordan Nockels at jnockels@neighborhoodfriends.org for this week’s location and more details.
URL:https://neighborhoodfriends.org/event/young-adults-lifegroup-38/
END:VEVENT
BEGIN:VEVENT
DTSTART;TZID=America/Denver:20260218T183000
DTEND;TZID=America/Denver:20260218T200000
DTSTAMP:20260423T180358
CREATED:20250716T042010Z
LAST-MODIFIED:20251108T153339Z
UID:5819-1771439400-1771444800@neighborhoodfriends.org
SUMMARY:NEIGHBORHOOD YOUTH
DESCRIPTION:Neighborhood YouthWhen: Every Wednesday night\, 6:30 PMWhere: Neighborhood Friends Church \nCalling all students in grades 6–12! Join us for an exciting evening of fun\, connection\, and spiritual growth. Come hang out with friends\, play games\, and explore what it means to follow Jesus in your everyday life. \nContact: Pastor Jake Stooke at jstooke@neighborhoodfriends.org for more details.
URL:https://neighborhoodfriends.org/event/neighborhood-youth-64/
LOCATION:Neighborhood Friends Church\, 9889 W 66th Ave\, Arvada\, CO\, United States
END:VEVENT
BEGIN:VEVENT
DTSTART;TZID=America/Denver:20260219T180000
DTEND;TZID=America/Denver:20260219T193000
DTSTAMP:20260423T180358
CREATED:20250716T042015Z
LAST-MODIFIED:20260212T182101Z
UID:5820-1771524000-1771529400@neighborhoodfriends.org
SUMMARY:VINTAGE FRIENDS LIFEGROUP
DESCRIPTION:Vintage Friends LifeGroupWhen: Every Thursday night\, 6:00 PM – 7:30 PMWhere: Online via Zoom \nThis LifeGroup is tailored for seniors (55+) seeking fellowship\, encouragement\, and spiritual growth in a supportive and welcoming environment. Led by Pastor John Hinshaw\, it’s a great opportunity to connect with others and deepen your faith from the comfort of your home. \nContact: Pastor John Hinshaw at jhinshaw@neighborhoodfriends.org for the Zoom link and more information.
URL:https://neighborhoodfriends.org/event/vintage-friends-lifegroup-64/
END:VEVENT
BEGIN:VEVENT
DTSTART;VALUE=DATE:20260220
DTEND;VALUE=DATE:20260223
DTSTAMP:20260423T180358
CREATED:20260212T182102Z
LAST-MODIFIED:20260212T182102Z
UID:6631-1771545600-1771804799@neighborhoodfriends.org
SUMMARY:Neighborhood Youth Powderburn Winter Retreat
DESCRIPTION:
URL:https://neighborhoodfriends.org/event/neighborhood-youth-powderburn-winter-retreat/
LOCATION:Quaker Ridge Camp & Conference Center\, 30150 State Hwy 67\, Woodland Park\, CO\, United States
END:VEVENT
BEGIN:VEVENT
DTSTART;TZID=America/Denver:20260222T100000
DTEND;TZID=America/Denver:20260222T113000
DTSTAMP:20260423T180358
CREATED:20250813T225704Z
LAST-MODIFIED:20260212T182102Z
UID:5843-1771754400-1771759800@neighborhoodfriends.org
SUMMARY:SUNDAY WORSHIP GATHERING
DESCRIPTION:Sunday Worship Gathering🗓 Every Sunday☕ 10:00 AM – Coffee & Fellowship⏰ 10:30 AM – Worship Gathering📍 Neighborhood Friends Church\, Arvada\, CO \nCome early at 10:00 AM to connect over coffee and fellowship before we begin worship at 10:30. NKids Church is available for children (toddlers through 5th grade). Check in your kids at the NKids Desk in the lobby before service starts\, and they’ll join us for the first worship set before being dismissed to NKids Church. \nJoin us as we come together to worship\, grow\, and share in Christ’s love. See you there!
URL:https://neighborhoodfriends.org/event/sunday-worship-gathering-184/
LOCATION:Neighborhood Friends Church\, 9889 W 66th Ave\, Arvada\, CO\, United States
END:VEVENT
BEGIN:VEVENT
DTSTART;TZID=America/Denver:20260222T120000
DTEND;TZID=America/Denver:20260222T140000
DTSTAMP:20260423T180358
CREATED:20260212T182103Z
LAST-MODIFIED:20260212T182103Z
UID:6632-1771761600-1771768800@neighborhoodfriends.org
SUMMARY:All-Church Planning & Business Meeting
DESCRIPTION:All-Church Planning & Business Meeting\nWhen: Sunday\, February 22ndWhere: Neighborhood Friends Church (following Sunday Worship)\nYou’re invited to an All-Church Planning and Business Meeting as we look ahead and plan together for Spring 2026! This will be a church-wide potluck lunch immediately following worship\, followed by a time of business updates\, ministry reports\, and collaborative planning.\nWhat to Expect:\n\n\nShared potluck lunch and fellowship\n\n\nBusiness meeting and vision alignment\n\n\nMinistry reports from:\n\n\nHospitality\n\n\nYouth\n\n\nNKids\n\n\nMen’s & Women’s Ministries\n\n\nOutreach & Missions\n\n\nStewards & Finance\n\n\n\n\nOpen planning and calendaring for the upcoming season\n\n\nWhat to Bring:\n\n\nA main dish and a side or dessert to share\n\n\nYour creativity\, optimism\, and heart for the church\n\n\nThis gathering is for everyone in the church—whether you serve in a ministry or simply call Neighborhood Friends home. Your voice\, ideas\, and presence matter as we discern and plan the next season together.\nWe’re looking forward to dreaming\, planning\, and moving forward—together.
URL:https://neighborhoodfriends.org/event/all-church-planning-business-meeting/
END:VEVENT
BEGIN:VEVENT
DTSTART;TZID=America/Denver:20260222T160000
DTEND;TZID=America/Denver:20260222T200000
DTSTAMP:20260423T180358
CREATED:20250813T225705Z
LAST-MODIFIED:20260212T182103Z
UID:5844-1771776000-1771790400@neighborhoodfriends.org
SUMMARY:Jesu Cristo Rey de Reyes Church (Spanish Worship Service)
DESCRIPTION:
URL:https://neighborhoodfriends.org/event/jesu-cristo-rey-de-reyes-church-spanish-worship-service-47/
END:VEVENT
BEGIN:VEVENT
DTSTART;TZID=America/Denver:20260224T180000
DTEND;TZID=America/Denver:20260224T193000
DTSTAMP:20260423T180358
CREATED:20250813T225709Z
LAST-MODIFIED:20260212T182103Z
UID:5846-1771956000-1771961400@neighborhoodfriends.org
SUMMARY:WOMEN'S LIFEGROUP
DESCRIPTION:Women’s LifeGroupWhen: Every Tuesday night\, 6:00 PM – 7:30 PMWhere: Rhonda Hinshaw’s Home \nLadies\, join us for an uplifting time of fellowship and spiritual growth as we dive into God’s Word together. Whether you’re new to the group or a long-time participant\, we’d love to have you! \nContact: Rhonda Hinshaw at rhinshaw@neighborhoodfriends.org for more information and address
URL:https://neighborhoodfriends.org/event/womens-lifegroup-65/
END:VEVENT
BEGIN:VEVENT
DTSTART;TZID=America/Denver:20260224T181500
DTEND;TZID=America/Denver:20260224T193000
DTSTAMP:20260423T180358
CREATED:20250813T225708Z
LAST-MODIFIED:20260212T182103Z
UID:5845-1771956900-1771961400@neighborhoodfriends.org
SUMMARY:MEN'S LIFEGROUP
DESCRIPTION:Men’s LifeGroupWhen: Every Tuesday night\, 6:15 PM – 7:30 PMWhere: Pastor Donnie’s Office\, Neighborhood Friends Church \nJoin us for an engaging time of fellowship\, study\, and discussion as we grow together in our faith. Whether you’re a regular or a first-time visitor\, you’re welcome to dive into God’s Word with us. We look forward to seeing you there! \nContact: dhinshaw@neighborhoodfriends.org
URL:https://neighborhoodfriends.org/event/mens-lifegroup-65/
LOCATION:Neighborhood Friends Church\, 9889 W 66th Ave\, Arvada\, CO\, United States
END:VEVENT
BEGIN:VEVENT
DTSTART;TZID=America/Denver:20260224T183000
DTEND;TZID=America/Denver:20260224T200000
DTSTAMP:20260423T180358
CREATED:20250813T225709Z
LAST-MODIFIED:20260212T182104Z
UID:5847-1771957800-1771963200@neighborhoodfriends.org
SUMMARY:YOUNG ADULTS LIFEGROUP
DESCRIPTION:Neighborhood Young AdultsWhen: Every Tuesday night\, 6:30 PM – 8:00 PM  Where: Various homes and locations   \nYoung adults\, this is your space to connect\, grow\, and build meaningful community! Each week\, we gather to share life\, dive into God’s Word\, and encourage one another in our faith journeys.   \nContact: Jordan Nockels at jnockels@neighborhoodfriends.org for this week’s location and more details.
URL:https://neighborhoodfriends.org/event/young-adults-lifegroup-39/
END:VEVENT
BEGIN:VEVENT
DTSTART;TZID=America/Denver:20260225T183000
DTEND;TZID=America/Denver:20260225T200000
DTSTAMP:20260423T180358
CREATED:20250813T225710Z
LAST-MODIFIED:20260212T182104Z
UID:5848-1772044200-1772049600@neighborhoodfriends.org
SUMMARY:Neighborhood Youth Weekly Gathering
DESCRIPTION:🌟 **Neighborhood Youth Weekly Gathering** 🌟  \nWednesdays | 6:30pm – 8:00pm  \nGet ready for an evening filled with friends\, fun\, and faith! Each week\, we gather to connect\, worship\, and dive into meaningful conversations about life and God’s purpose for us. Whether you’re a first-timer or a regular\, there’s always something new to experience! Don’t miss out on games\, laughter\, and the chance to make great memories together. Bring a friend\, and let’s make each Wednesday a highlight of the week!
URL:https://neighborhoodfriends.org/event/neighborhood-youth-weekly-gathering/
LOCATION:Neighborhood Friends Church\, 9889 W 66th Ave\, Arvada\, CO\, United States
END:VEVENT
BEGIN:VEVENT
DTSTART;TZID=America/Denver:20260225T183000
DTEND;TZID=America/Denver:20260225T200000
DTSTAMP:20260423T180358
CREATED:20250813T225711Z
LAST-MODIFIED:20251108T153341Z
UID:5849-1772044200-1772049600@neighborhoodfriends.org
SUMMARY:NEIGHBORHOOD YOUTH
DESCRIPTION:Neighborhood YouthWhen: Every Wednesday night\, 6:30 PMWhere: Neighborhood Friends Church \nCalling all students in grades 6–12! Join us for an exciting evening of fun\, connection\, and spiritual growth. Come hang out with friends\, play games\, and explore what it means to follow Jesus in your everyday life. \nContact: Pastor Jake Stooke at jstooke@neighborhoodfriends.org for more details.
URL:https://neighborhoodfriends.org/event/neighborhood-youth-65/
LOCATION:Neighborhood Friends Church\, 9889 W 66th Ave\, Arvada\, CO\, United States
END:VEVENT
BEGIN:VEVENT
DTSTART;TZID=America/Denver:20260226T180000
DTEND;TZID=America/Denver:20260226T193000
DTSTAMP:20260423T180358
CREATED:20250813T225711Z
LAST-MODIFIED:20260212T182104Z
UID:5850-1772128800-1772134200@neighborhoodfriends.org
SUMMARY:VINTAGE FRIENDS LIFEGROUP
DESCRIPTION:Vintage Friends LifeGroupWhen: Every Thursday night\, 6:00 PM – 7:30 PMWhere: Online via Zoom \nThis LifeGroup is tailored for seniors (55+) seeking fellowship\, encouragement\, and spiritual growth in a supportive and welcoming environment. Led by Pastor John Hinshaw\, it’s a great opportunity to connect with others and deepen your faith from the comfort of your home. \nContact: Pastor John Hinshaw at jhinshaw@neighborhoodfriends.org for the Zoom link and more information.
URL:https://neighborhoodfriends.org/event/vintage-friends-lifegroup-65/
END:VEVENT
BEGIN:VEVENT
DTSTART;TZID=America/Denver:20260228T070000
DTEND;TZID=America/Denver:20260228T083000
DTSTAMP:20260423T180358
CREATED:20250813T225712Z
LAST-MODIFIED:20260212T182105Z
UID:5851-1772262000-1772267400@neighborhoodfriends.org
SUMMARY:MEN'S COFFEE LIFEGROUP
DESCRIPTION:Men’s LifegroupSaturday Mornings | 7:00am | Red Silo CoffeeLeader: Doug Stooke (dstooke@neighborhoodfriends.org) \nLooking for a place to talk about life\, family\, church\, and culture—all over a good cup of coffee? Join us every Saturday morning at Red Silo Coffee for meaningful conversations and connection with other men. Grab a coffee and bring a friend—everyone’s welcome!
URL:https://neighborhoodfriends.org/event/mens-coffee-lifegroup-95/
LOCATION:Red Silo Coffee Roasters\, 6590 Holman St\, Arvada\, CO\, United States
END:VEVENT
BEGIN:VEVENT
DTSTART;TZID=America/Denver:20260301T100000
DTEND;TZID=America/Denver:20260301T113000
DTSTAMP:20260423T180358
CREATED:20250813T225713Z
LAST-MODIFIED:20260212T182105Z
UID:5852-1772359200-1772364600@neighborhoodfriends.org
SUMMARY:SUNDAY WORSHIP GATHERING
DESCRIPTION:Sunday Worship Gathering🗓 Every Sunday☕ 10:00 AM – Coffee & Fellowship⏰ 10:30 AM – Worship Gathering📍 Neighborhood Friends Church\, Arvada\, CO \nCome early at 10:00 AM to connect over coffee and fellowship before we begin worship at 10:30. NKids Church is available for children (toddlers through 5th grade). Check in your kids at the NKids Desk in the lobby before service starts\, and they’ll join us for the first worship set before being dismissed to NKids Church. \nJoin us as we come together to worship\, grow\, and share in Christ’s love. See you there!
URL:https://neighborhoodfriends.org/event/sunday-worship-gathering-185/
LOCATION:Neighborhood Friends Church\, 9889 W 66th Ave\, Arvada\, CO\, United States
END:VEVENT
BEGIN:VEVENT
DTSTART;TZID=America/Denver:20260301T103000
DTEND;TZID=America/Denver:20260301T120000
DTSTAMP:20260423T180358
CREATED:20260212T182105Z
LAST-MODIFIED:20260212T182513Z
UID:6633-1772361000-1772366400@neighborhoodfriends.org
SUMMARY:Baptism Sunday
DESCRIPTION:Baptism Sunday — March 1\, 2026\nBaptism is a beautiful step of obedience and a public declaration of faith in Jesus Christ. It is an outward expression of an inward transformation — a testimony of new life in Him. \nWe will be offering Baptism during our worship service on Sunday\, March 1\, 2026. \nIf you have placed your trust in Christ and have not yet been baptized\, we invite you to prayerfully consider taking this next step. If you have questions about baptism or would like to talk with a pastor\, we would love to connect with you. \nYou can learn more and register here:\nhttps://neighborhoodfriends.org/next-steps/ \nWe look forward to celebrating together as God continues to transform lives.
URL:https://neighborhoodfriends.org/event/baptim-sunday/
END:VEVENT
BEGIN:VEVENT
DTSTART;TZID=America/Denver:20260301T120000
DTEND;TZID=America/Denver:20260301T130000
DTSTAMP:20260423T180358
CREATED:20260212T182106Z
LAST-MODIFIED:20260212T182106Z
UID:6634-1772366400-1772370000@neighborhoodfriends.org
SUMMARY:FREE: Planning for Peace: Medical Power of Attorney Setup & Workshop
DESCRIPTION:Planning for Peace: Medical Power of Attorney Setup & Workshop\nSunday\, March 1st | 12pm following the Worship Gathering (Lower Level Fellowship Hall) \nDo you have a Medical Power of Attorney? Every adult over the age of 18 should have one.\nA Medical Power of Attorney (MDPOA) is a vital document that ensures your healthcare wishes are honored if you become unable to make medical decisions due to illness or accident. By appointing a trusted agent\, you give someone the legal authority to make medical decisions on your behalf—helping prevent confusion\, family conflict\, and court-ordered guardianship.\nWhat to Expect:\n\nMDPOA forms will be provided\nForms can be completed\, signed\, witnessed\, and notarized on-site\nGuidance on choosing a primary and secondary medical decision-maker\n\nBefore attending\, please consider who you would trust to serve in this role and confirm they are willing to carry out your wishes.\nThis workshop is led by Debra Kooser\, MA\, a trusted member of our church community and an Elder Care Clinician and Specialist\, offering compassionate guidance for life planning.\n📞 Contact: 303-902-8747📧 Email: debra.eldersolutions@gmail.com🌐 Website: www.northstareldersolutions.com\nPlease reach out with any questions. This is a meaningful step toward peace of mind for you and your loved ones.
URL:https://neighborhoodfriends.org/event/free-planning-for-peace-medical-power-of-attorney-setup-workshop/
END:VEVENT
BEGIN:VEVENT
DTSTART;TZID=America/Denver:20260301T160000
DTEND;TZID=America/Denver:20260301T200000
DTSTAMP:20260423T180358
CREATED:20250813T225713Z
LAST-MODIFIED:20260212T182106Z
UID:5853-1772380800-1772395200@neighborhoodfriends.org
SUMMARY:Jesu Cristo Rey de Reyes Church (Spanish Worship Service)
DESCRIPTION:
URL:https://neighborhoodfriends.org/event/jesu-cristo-rey-de-reyes-church-spanish-worship-service-48/
END:VEVENT
BEGIN:VEVENT
DTSTART;TZID=America/Denver:20260302T180000
DTEND;TZID=America/Denver:20260302T190000
DTSTAMP:20260423T180358
CREATED:20250813T225714Z
LAST-MODIFIED:20250816T231626Z
UID:5854-1772474400-1772478000@neighborhoodfriends.org
SUMMARY:SPIRITUAL LIFE MEETING (ONLINE)
DESCRIPTION:A monthly spiritual life board (elders) meeting online to discuss spiritual health\, vision\, needs\, and leadership. Contact: Doug Stooke: dstooke@neighborhoodfriends.org\nJoin with Google Meet: https://meet.google.com/efj-aqzf-imr\nOr dial: (US) +1 417-448-6105 PIN: 254404595#\nMore phone numbers: https://tel.meet/efj-aqzf-imr?pin=6224438130198&hs=7\nLearn more about Meet at: https://support.google.com/a/users/answer/9282720
URL:https://neighborhoodfriends.org/event/spiritual-life-meeting-online-29/
ORGANIZER;CN="Donnie Hinshaw":MAILTO:dhinshaw@neighborhoodfriends.org
END:VEVENT
BEGIN:VEVENT
DTSTART;TZID=America/Denver:20260303T180000
DTEND;TZID=America/Denver:20260303T193000
DTSTAMP:20260423T180358
CREATED:20250813T225715Z
LAST-MODIFIED:20260212T182106Z
UID:5856-1772560800-1772566200@neighborhoodfriends.org
SUMMARY:WOMEN'S LIFEGROUP
DESCRIPTION:Women’s LifeGroupWhen: Every Tuesday night\, 6:00 PM – 7:30 PMWhere: Rhonda Hinshaw’s Home \nLadies\, join us for an uplifting time of fellowship and spiritual growth as we dive into God’s Word together. Whether you’re new to the group or a long-time participant\, we’d love to have you! \nContact: Rhonda Hinshaw at rhinshaw@neighborhoodfriends.org for more information and address
URL:https://neighborhoodfriends.org/event/womens-lifegroup-66/
END:VEVENT
BEGIN:VEVENT
DTSTART;TZID=America/Denver:20260303T181500
DTEND;TZID=America/Denver:20260303T193000
DTSTAMP:20260423T180358
CREATED:20250813T225716Z
LAST-MODIFIED:20260212T182107Z
UID:5857-1772561700-1772566200@neighborhoodfriends.org
SUMMARY:MEN'S LIFEGROUP
DESCRIPTION:Men’s LifeGroupWhen: Every Tuesday night\, 6:15 PM – 7:30 PMWhere: Pastor Donnie’s Office\, Neighborhood Friends Church \nJoin us for an engaging time of fellowship\, study\, and discussion as we grow together in our faith. Whether you’re a regular or a first-time visitor\, you’re welcome to dive into God’s Word with us. We look forward to seeing you there! \nContact: dhinshaw@neighborhoodfriends.org
URL:https://neighborhoodfriends.org/event/mens-lifegroup-66/
LOCATION:Neighborhood Friends Church\, 9889 W 66th Ave\, Arvada\, CO\, United States
END:VEVENT
BEGIN:VEVENT
DTSTART;TZID=America/Denver:20260303T183000
DTEND;TZID=America/Denver:20260303T200000
DTSTAMP:20260423T180358
CREATED:20250813T225715Z
LAST-MODIFIED:20260212T182107Z
UID:5855-1772562600-1772568000@neighborhoodfriends.org
SUMMARY:YOUNG ADULTS LIFEGROUP
DESCRIPTION:Neighborhood Young AdultsWhen: Every Tuesday night\, 6:30 PM – 8:00 PM  Where: Various homes and locations   \nYoung adults\, this is your space to connect\, grow\, and build meaningful community! Each week\, we gather to share life\, dive into God’s Word\, and encourage one another in our faith journeys.   \nContact: Jordan Nockels at jnockels@neighborhoodfriends.org for this week’s location and more details.
URL:https://neighborhoodfriends.org/event/young-adults-lifegroup-40/
END:VEVENT
BEGIN:VEVENT
DTSTART;TZID=America/Denver:20260304T183000
DTEND;TZID=America/Denver:20260304T200000
DTSTAMP:20260423T180358
CREATED:20250813T225717Z
LAST-MODIFIED:20260212T182107Z
UID:5858-1772649000-1772654400@neighborhoodfriends.org
SUMMARY:Neighborhood Youth Weekly Gathering
DESCRIPTION:🌟 **Neighborhood Youth Weekly Gathering** 🌟  \nWednesdays | 6:30pm – 8:00pm  \nGet ready for an evening filled with friends\, fun\, and faith! Each week\, we gather to connect\, worship\, and dive into meaningful conversations about life and God’s purpose for us. Whether you’re a first-timer or a regular\, there’s always something new to experience! Don’t miss out on games\, laughter\, and the chance to make great memories together. Bring a friend\, and let’s make each Wednesday a highlight of the week!
URL:https://neighborhoodfriends.org/event/neighborhood-youth-weekly-gathering-2/
LOCATION:Neighborhood Friends Church\, 9889 W 66th Ave\, Arvada\, CO\, United States
END:VEVENT
BEGIN:VEVENT
DTSTART;TZID=America/Denver:20260304T183000
DTEND;TZID=America/Denver:20260304T200000
DTSTAMP:20260423T180358
CREATED:20250813T225717Z
LAST-MODIFIED:20251108T153346Z
UID:5859-1772649000-1772654400@neighborhoodfriends.org
SUMMARY:NEIGHBORHOOD YOUTH
DESCRIPTION:Neighborhood YouthWhen: Every Wednesday night\, 6:30 PMWhere: Neighborhood Friends Church \nCalling all students in grades 6–12! Join us for an exciting evening of fun\, connection\, and spiritual growth. Come hang out with friends\, play games\, and explore what it means to follow Jesus in your everyday life. \nContact: Pastor Jake Stooke at jstooke@neighborhoodfriends.org for more details.
URL:https://neighborhoodfriends.org/event/neighborhood-youth-66/
LOCATION:Neighborhood Friends Church\, 9889 W 66th Ave\, Arvada\, CO\, United States
END:VEVENT
BEGIN:VEVENT
DTSTART;TZID=America/Denver:20260305T180000
DTEND;TZID=America/Denver:20260305T193000
DTSTAMP:20260423T180358
CREATED:20250813T225718Z
LAST-MODIFIED:20260212T182108Z
UID:5860-1772733600-1772739000@neighborhoodfriends.org
SUMMARY:VINTAGE FRIENDS LIFEGROUP
DESCRIPTION:Vintage Friends LifeGroupWhen: Every Thursday night\, 6:00 PM – 7:30 PMWhere: Online via Zoom \nThis LifeGroup is tailored for seniors (55+) seeking fellowship\, encouragement\, and spiritual growth in a supportive and welcoming environment. Led by Pastor John Hinshaw\, it’s a great opportunity to connect with others and deepen your faith from the comfort of your home. \nContact: Pastor John Hinshaw at jhinshaw@neighborhoodfriends.org for the Zoom link and more information.
URL:https://neighborhoodfriends.org/event/vintage-friends-lifegroup-66/
END:VEVENT
BEGIN:VEVENT
DTSTART;VALUE=DATE:20260306
DTEND;VALUE=DATE:20260309
DTSTAMP:20260423T180358
CREATED:20260212T182109Z
LAST-MODIFIED:20260212T182109Z
UID:6635-1772755200-1773014399@neighborhoodfriends.org
SUMMARY:Men’s Retreat at Quaker Ridge Camp
DESCRIPTION:Men’s Retreat at Quaker Ridge Camp\n\nRocky Mountain Yearly Meeting Friends Churches \n📅 March 6–8📍 Quaker Ridge Camp & Conference Center(Colorado Rockies) \nMen from across Rocky Mountain Yearly Meeting are invited to step away from everyday life and gather for a weekend of renewal\, brotherhood\, and spiritual formation in the mountains. \n\nRetreat Theme: AUTHENTIC\n\nScripture Focus: Romans 12:9–13 \nThis retreat will center on what it means to live an authentic Christian life—marked by real faith\, real struggle\, and real transformation. Together\, we’ll explore what it looks like to live honestly and Christlike in every area of life. \n\nGuest Speaker\n\nDavid GardaPastor | Chicago\, IL \nDavid will lead four interactive sessions\, helping us engage Scripture\, reflect deeply\, and learn from one another.The final session will draw everything together as we embrace The Disciplemaker’s Prayer\, calling us to live out authentic faith beyond the retreat. \n\nWhat to Expect\n\n\n\nWorship\, teaching\, and prayer \n\n\nSpace for reflection\, solitude\, and conversation \n\n\nOutdoor activities such as hiking\, trail running\, fishing\, archery\, and time in God’s creation \n\n\nMeaningful connection and brotherhood \n\n\n\nRegistration & Cost\n\n\n\n$195 per man \n\n\nScholarship Option:A limited number of $70 scholarships are available for men ages 20–40\, reducing the cost to $125 (while supplies last). \n\n\n\nRegistration Details\n\n\n\nRegister through the RMYM website \n\n\nPayments and scholarships are handled at the local church level \n\n\nAt Neighborhood Friends Church\, men may: \n\n\nPay the full $195 registration fee \n\n\nDonate toward the scholarship fund \n\n\nPay the $125 discounted rate with an approved scholarship \n\n\nPayments accepted by check or PushPay. \nMore details will be shared as the retreat approaches. \n👉 Save the date and plan to join us for a powerful weekend of authentic faith and brotherhood.
URL:https://neighborhoodfriends.org/event/mens-retreat-at-quaker-ridge-camp/
LOCATION:Quaker Ridge Camp & Conference Center\, 30150 State Hwy 67\, Woodland Park\, CO\, United States
END:VEVENT
END:VCALENDAR