BEGIN:VCALENDAR
VERSION:2.0
PRODID:-//Neighborhood Friends Church - ECPv6.15.20//NONSGML v1.0//EN
CALSCALE:GREGORIAN
METHOD:PUBLISH
X-WR-CALNAME:Neighborhood Friends Church
X-ORIGINAL-URL:https://neighborhoodfriends.org
X-WR-CALDESC:Events for Neighborhood Friends Church
REFRESH-INTERVAL;VALUE=DURATION:PT1H
X-Robots-Tag:noindex
X-PUBLISHED-TTL:PT1H
BEGIN:VTIMEZONE
TZID:America/Denver
BEGIN:DAYLIGHT
TZOFFSETFROM:-0700
TZOFFSETTO:-0600
TZNAME:MDT
DTSTART:20250309T090000
END:DAYLIGHT
BEGIN:STANDARD
TZOFFSETFROM:-0600
TZOFFSETTO:-0700
TZNAME:MST
DTSTART:20251102T080000
END:STANDARD
BEGIN:DAYLIGHT
TZOFFSETFROM:-0700
TZOFFSETTO:-0600
TZNAME:MDT
DTSTART:20260308T090000
END:DAYLIGHT
BEGIN:STANDARD
TZOFFSETFROM:-0600
TZOFFSETTO:-0700
TZNAME:MST
DTSTART:20261101T080000
END:STANDARD
BEGIN:DAYLIGHT
TZOFFSETFROM:-0700
TZOFFSETTO:-0600
TZNAME:MDT
DTSTART:20270314T090000
END:DAYLIGHT
BEGIN:STANDARD
TZOFFSETFROM:-0600
TZOFFSETTO:-0700
TZNAME:MST
DTSTART:20271107T080000
END:STANDARD
END:VTIMEZONE
BEGIN:VEVENT
DTSTART;TZID=America/Denver:20260602T183000
DTEND;TZID=America/Denver:20260602T200000
DTSTAMP:20260423T160524
CREATED:20251101T164313Z
LAST-MODIFIED:20260212T182145Z
UID:6256-1780425000-1780430400@neighborhoodfriends.org
SUMMARY:YOUNG ADULTS LIFEGROUP
DESCRIPTION:Neighborhood Young AdultsWhen: Every Tuesday night\, 6:30 PM – 8:00 PM  Where: Various homes and locations   \nYoung adults\, this is your space to connect\, grow\, and build meaningful community! Each week\, we gather to share life\, dive into God’s Word\, and encourage one another in our faith journeys.   \nContact: Jordan Nockels at jnockels@neighborhoodfriends.org for this week’s location and more details.
URL:https://neighborhoodfriends.org/event/young-adults-lifegroup-53/
END:VEVENT
BEGIN:VEVENT
DTSTART;TZID=America/Denver:20260603T183000
DTEND;TZID=America/Denver:20260603T200000
DTSTAMP:20260423T160524
CREATED:20251101T164313Z
LAST-MODIFIED:20260212T182146Z
UID:6258-1780511400-1780516800@neighborhoodfriends.org
SUMMARY:Neighborhood Youth Weekly Gathering
DESCRIPTION:🌟 **Neighborhood Youth Weekly Gathering** 🌟  \nWednesdays | 6:30pm – 8:00pm  \nGet ready for an evening filled with friends\, fun\, and faith! Each week\, we gather to connect\, worship\, and dive into meaningful conversations about life and God’s purpose for us. Whether you’re a first-timer or a regular\, there’s always something new to experience! Don’t miss out on games\, laughter\, and the chance to make great memories together. Bring a friend\, and let’s make each Wednesday a highlight of the week!
URL:https://neighborhoodfriends.org/event/neighborhood-youth-weekly-gathering-176/
LOCATION:Neighborhood Friends Church\, 9889 W 66th Ave\, Arvada\, CO\, United States
END:VEVENT
BEGIN:VEVENT
DTSTART;TZID=America/Denver:20260603T183000
DTEND;TZID=America/Denver:20260603T200000
DTSTAMP:20260423T160524
CREATED:20251101T164313Z
LAST-MODIFIED:20251108T153427Z
UID:6259-1780511400-1780516800@neighborhoodfriends.org
SUMMARY:NEIGHBORHOOD YOUTH
DESCRIPTION:Neighborhood YouthWhen: Every Wednesday night\, 6:30 PMWhere: Neighborhood Friends Church \nCalling all students in grades 6–12! Join us for an exciting evening of fun\, connection\, and spiritual growth. Come hang out with friends\, play games\, and explore what it means to follow Jesus in your everyday life. \nContact: Pastor Jake Stooke at jstooke@neighborhoodfriends.org for more details.
URL:https://neighborhoodfriends.org/event/neighborhood-youth-79/
LOCATION:Neighborhood Friends Church\, 9889 W 66th Ave\, Arvada\, CO\, United States
END:VEVENT
BEGIN:VEVENT
DTSTART;TZID=America/Denver:20260604T180000
DTEND;TZID=America/Denver:20260604T193000
DTSTAMP:20260423T160524
CREATED:20251101T164314Z
LAST-MODIFIED:20260212T182146Z
UID:6260-1780596000-1780601400@neighborhoodfriends.org
SUMMARY:VINTAGE FRIENDS LIFEGROUP
DESCRIPTION:Vintage Friends LifeGroupWhen: Every Thursday night\, 6:00 PM – 7:30 PMWhere: Online via Zoom \nThis LifeGroup is tailored for seniors (55+) seeking fellowship\, encouragement\, and spiritual growth in a supportive and welcoming environment. Led by Pastor John Hinshaw\, it’s a great opportunity to connect with others and deepen your faith from the comfort of your home. \nContact: Pastor John Hinshaw at jhinshaw@neighborhoodfriends.org for the Zoom link and more information.
URL:https://neighborhoodfriends.org/event/vintage-friends-lifegroup-79/
END:VEVENT
BEGIN:VEVENT
DTSTART;TZID=America/Denver:20260606T070000
DTEND;TZID=America/Denver:20260606T083000
DTSTAMP:20260423T160524
CREATED:20251101T164314Z
LAST-MODIFIED:20260212T182147Z
UID:6261-1780729200-1780734600@neighborhoodfriends.org
SUMMARY:MEN'S COFFEE LIFEGROUP
DESCRIPTION:Men’s LifegroupSaturday Mornings | 7:00am | Red Silo CoffeeLeader: Doug Stooke (dstooke@neighborhoodfriends.org) \nLooking for a place to talk about life\, family\, church\, and culture—all over a good cup of coffee? Join us every Saturday morning at Red Silo Coffee for meaningful conversations and connection with other men. Grab a coffee and bring a friend—everyone’s welcome!
URL:https://neighborhoodfriends.org/event/mens-coffee-lifegroup-109/
LOCATION:Red Silo Coffee Roasters\, 6590 Holman St\, Arvada\, CO\, United States
END:VEVENT
BEGIN:VEVENT
DTSTART;TZID=America/Denver:20260607T100000
DTEND;TZID=America/Denver:20260607T113000
DTSTAMP:20260423T160524
CREATED:20251101T164314Z
LAST-MODIFIED:20260212T182147Z
UID:6262-1780826400-1780831800@neighborhoodfriends.org
SUMMARY:SUNDAY WORSHIP GATHERING
DESCRIPTION:Sunday Worship Gathering🗓 Every Sunday☕ 10:00 AM – Coffee & Fellowship⏰ 10:30 AM – Worship Gathering📍 Neighborhood Friends Church\, Arvada\, CO \nCome early at 10:00 AM to connect over coffee and fellowship before we begin worship at 10:30. NKids Church is available for children (toddlers through 5th grade). Check in your kids at the NKids Desk in the lobby before service starts\, and they’ll join us for the first worship set before being dismissed to NKids Church. \nJoin us as we come together to worship\, grow\, and share in Christ’s love. See you there!
URL:https://neighborhoodfriends.org/event/sunday-worship-gathering-199/
LOCATION:Neighborhood Friends Church\, 9889 W 66th Ave\, Arvada\, CO\, United States
END:VEVENT
BEGIN:VEVENT
DTSTART;TZID=America/Denver:20260607T160000
DTEND;TZID=America/Denver:20260607T200000
DTSTAMP:20260423T160524
CREATED:20251101T164314Z
LAST-MODIFIED:20260212T182147Z
UID:6263-1780848000-1780862400@neighborhoodfriends.org
SUMMARY:Jesu Cristo Rey de Reyes Church (Spanish Worship Service)
DESCRIPTION:
URL:https://neighborhoodfriends.org/event/jesu-cristo-rey-de-reyes-church-spanish-worship-service-62/
END:VEVENT
BEGIN:VEVENT
DTSTART;TZID=America/Denver:20260608T180000
DTEND;TZID=America/Denver:20260608T190000
DTSTAMP:20260423T160524
CREATED:20251101T164315Z
LAST-MODIFIED:20260212T182148Z
UID:6264-1780941600-1780945200@neighborhoodfriends.org
SUMMARY:SPIRITUAL LIFE MEETING (ONLINE)
DESCRIPTION:A monthly spiritual life board (elders) meeting online to discuss spiritual health\, vision\, needs\, and leadership. Contact: Doug Stooke: dstooke@neighborhoodfriends.org\nJoin with Google Meet: https://meet.google.com/efj-aqzf-imr\nOr dial: (US) +1 417-448-6105 PIN: 254404595#\nMore phone numbers: https://tel.meet/efj-aqzf-imr?pin=6224438130198&hs=7\nLearn more about Meet at: https://support.google.com/a/users/answer/9282720
URL:https://neighborhoodfriends.org/event/spiritual-life-meeting-online-39/
ORGANIZER;CN="Donnie Hinshaw":MAILTO:dhinshaw@neighborhoodfriends.org
END:VEVENT
BEGIN:VEVENT
DTSTART;TZID=America/Denver:20260609T180000
DTEND;TZID=America/Denver:20260609T193000
DTSTAMP:20260423T160524
CREATED:20251101T164315Z
LAST-MODIFIED:20260212T182148Z
UID:6267-1781028000-1781033400@neighborhoodfriends.org
SUMMARY:WOMEN'S LIFEGROUP
DESCRIPTION:Women’s LifeGroupWhen: Every Tuesday night\, 6:00 PM – 7:30 PMWhere: Rhonda Hinshaw’s Home \nLadies\, join us for an uplifting time of fellowship and spiritual growth as we dive into God’s Word together. Whether you’re new to the group or a long-time participant\, we’d love to have you! \nContact: Rhonda Hinshaw at rhinshaw@neighborhoodfriends.org for more information and address
URL:https://neighborhoodfriends.org/event/womens-lifegroup-80/
END:VEVENT
BEGIN:VEVENT
DTSTART;TZID=America/Denver:20260609T181500
DTEND;TZID=America/Denver:20260609T193000
DTSTAMP:20260423T160524
CREATED:20251101T164315Z
LAST-MODIFIED:20260212T182149Z
UID:6265-1781028900-1781033400@neighborhoodfriends.org
SUMMARY:MEN'S LIFEGROUP
DESCRIPTION:Men’s LifeGroupWhen: Every Tuesday night\, 6:15 PM – 7:30 PMWhere: Pastor Donnie’s Office\, Neighborhood Friends Church \nJoin us for an engaging time of fellowship\, study\, and discussion as we grow together in our faith. Whether you’re a regular or a first-time visitor\, you’re welcome to dive into God’s Word with us. We look forward to seeing you there! \nContact: dhinshaw@neighborhoodfriends.org
URL:https://neighborhoodfriends.org/event/mens-lifegroup-80/
LOCATION:Neighborhood Friends Church\, 9889 W 66th Ave\, Arvada\, CO\, United States
END:VEVENT
BEGIN:VEVENT
DTSTART;TZID=America/Denver:20260609T183000
DTEND;TZID=America/Denver:20260609T200000
DTSTAMP:20260423T160524
CREATED:20251101T164315Z
LAST-MODIFIED:20260212T182148Z
UID:6266-1781029800-1781035200@neighborhoodfriends.org
SUMMARY:YOUNG ADULTS LIFEGROUP
DESCRIPTION:Neighborhood Young AdultsWhen: Every Tuesday night\, 6:30 PM – 8:00 PM  Where: Various homes and locations   \nYoung adults\, this is your space to connect\, grow\, and build meaningful community! Each week\, we gather to share life\, dive into God’s Word\, and encourage one another in our faith journeys.   \nContact: Jordan Nockels at jnockels@neighborhoodfriends.org for this week’s location and more details.
URL:https://neighborhoodfriends.org/event/young-adults-lifegroup-54/
END:VEVENT
BEGIN:VEVENT
DTSTART;TZID=America/Denver:20260610T183000
DTEND;TZID=America/Denver:20260610T200000
DTSTAMP:20260423T160524
CREATED:20251101T164317Z
LAST-MODIFIED:20251108T153430Z
UID:6268-1781116200-1781121600@neighborhoodfriends.org
SUMMARY:NEIGHBORHOOD YOUTH
DESCRIPTION:Neighborhood YouthWhen: Every Wednesday night\, 6:30 PMWhere: Neighborhood Friends Church \nCalling all students in grades 6–12! Join us for an exciting evening of fun\, connection\, and spiritual growth. Come hang out with friends\, play games\, and explore what it means to follow Jesus in your everyday life. \nContact: Pastor Jake Stooke at jstooke@neighborhoodfriends.org for more details.
URL:https://neighborhoodfriends.org/event/neighborhood-youth-80/
LOCATION:Neighborhood Friends Church\, 9889 W 66th Ave\, Arvada\, CO\, United States
END:VEVENT
BEGIN:VEVENT
DTSTART;TZID=America/Denver:20260610T183000
DTEND;TZID=America/Denver:20260610T200000
DTSTAMP:20260423T160524
CREATED:20251101T164317Z
LAST-MODIFIED:20260212T182149Z
UID:6269-1781116200-1781121600@neighborhoodfriends.org
SUMMARY:Neighborhood Youth Weekly Gathering
DESCRIPTION:🌟 **Neighborhood Youth Weekly Gathering** 🌟  \nWednesdays | 6:30pm – 8:00pm  \nGet ready for an evening filled with friends\, fun\, and faith! Each week\, we gather to connect\, worship\, and dive into meaningful conversations about life and God’s purpose for us. Whether you’re a first-timer or a regular\, there’s always something new to experience! Don’t miss out on games\, laughter\, and the chance to make great memories together. Bring a friend\, and let’s make each Wednesday a highlight of the week!
URL:https://neighborhoodfriends.org/event/neighborhood-youth-weekly-gathering-177/
LOCATION:Neighborhood Friends Church\, 9889 W 66th Ave\, Arvada\, CO\, United States
END:VEVENT
BEGIN:VEVENT
DTSTART;TZID=America/Denver:20260611T180000
DTEND;TZID=America/Denver:20260611T193000
DTSTAMP:20260423T160524
CREATED:20251101T164317Z
LAST-MODIFIED:20260212T182149Z
UID:6270-1781200800-1781206200@neighborhoodfriends.org
SUMMARY:VINTAGE FRIENDS LIFEGROUP
DESCRIPTION:Vintage Friends LifeGroupWhen: Every Thursday night\, 6:00 PM – 7:30 PMWhere: Online via Zoom \nThis LifeGroup is tailored for seniors (55+) seeking fellowship\, encouragement\, and spiritual growth in a supportive and welcoming environment. Led by Pastor John Hinshaw\, it’s a great opportunity to connect with others and deepen your faith from the comfort of your home. \nContact: Pastor John Hinshaw at jhinshaw@neighborhoodfriends.org for the Zoom link and more information.
URL:https://neighborhoodfriends.org/event/vintage-friends-lifegroup-80/
END:VEVENT
BEGIN:VEVENT
DTSTART;TZID=America/Denver:20260613T070000
DTEND;TZID=America/Denver:20260613T083000
DTSTAMP:20260423T160524
CREATED:20251101T164317Z
LAST-MODIFIED:20260212T182150Z
UID:6271-1781334000-1781339400@neighborhoodfriends.org
SUMMARY:MEN'S COFFEE LIFEGROUP
DESCRIPTION:Men’s LifegroupSaturday Mornings | 7:00am | Red Silo CoffeeLeader: Doug Stooke (dstooke@neighborhoodfriends.org) \nLooking for a place to talk about life\, family\, church\, and culture—all over a good cup of coffee? Join us every Saturday morning at Red Silo Coffee for meaningful conversations and connection with other men. Grab a coffee and bring a friend—everyone’s welcome!
URL:https://neighborhoodfriends.org/event/mens-coffee-lifegroup-110/
LOCATION:Red Silo Coffee Roasters\, 6590 Holman St\, Arvada\, CO\, United States
END:VEVENT
BEGIN:VEVENT
DTSTART;TZID=America/Denver:20260614T100000
DTEND;TZID=America/Denver:20260614T113000
DTSTAMP:20260423T160524
CREATED:20251108T153431Z
LAST-MODIFIED:20260212T182150Z
UID:6341-1781431200-1781436600@neighborhoodfriends.org
SUMMARY:SUNDAY WORSHIP GATHERING
DESCRIPTION:Sunday Worship Gathering🗓 Every Sunday☕ 10:00 AM – Coffee & Fellowship⏰ 10:30 AM – Worship Gathering📍 Neighborhood Friends Church\, Arvada\, CO \nCome early at 10:00 AM to connect over coffee and fellowship before we begin worship at 10:30. NKids Church is available for children (toddlers through 5th grade). Check in your kids at the NKids Desk in the lobby before service starts\, and they’ll join us for the first worship set before being dismissed to NKids Church. \nJoin us as we come together to worship\, grow\, and share in Christ’s love. See you there!
URL:https://neighborhoodfriends.org/event/sunday-worship-gathering-200/
LOCATION:Neighborhood Friends Church\, 9889 W 66th Ave\, Arvada\, CO\, United States
END:VEVENT
BEGIN:VEVENT
DTSTART;TZID=America/Denver:20260614T160000
DTEND;TZID=America/Denver:20260614T200000
DTSTAMP:20260423T160524
CREATED:20251108T153431Z
LAST-MODIFIED:20260212T182150Z
UID:6342-1781452800-1781467200@neighborhoodfriends.org
SUMMARY:Jesu Cristo Rey de Reyes Church (Spanish Worship Service)
DESCRIPTION:
URL:https://neighborhoodfriends.org/event/jesu-cristo-rey-de-reyes-church-spanish-worship-service-64/
END:VEVENT
BEGIN:VEVENT
DTSTART;TZID=America/Denver:20260616T180000
DTEND;TZID=America/Denver:20260616T193000
DTSTAMP:20260423T160524
CREATED:20251108T153431Z
LAST-MODIFIED:20260212T182151Z
UID:6343-1781632800-1781638200@neighborhoodfriends.org
SUMMARY:WOMEN'S LIFEGROUP
DESCRIPTION:Women’s LifeGroupWhen: Every Tuesday night\, 6:00 PM – 7:30 PMWhere: Rhonda Hinshaw’s Home \nLadies\, join us for an uplifting time of fellowship and spiritual growth as we dive into God’s Word together. Whether you’re new to the group or a long-time participant\, we’d love to have you! \nContact: Rhonda Hinshaw at rhinshaw@neighborhoodfriends.org for more information and address
URL:https://neighborhoodfriends.org/event/womens-lifegroup-83/
END:VEVENT
BEGIN:VEVENT
DTSTART;TZID=America/Denver:20260616T181500
DTEND;TZID=America/Denver:20260616T193000
DTSTAMP:20260423T160524
CREATED:20251108T153431Z
LAST-MODIFIED:20260212T182151Z
UID:6344-1781633700-1781638200@neighborhoodfriends.org
SUMMARY:MEN'S LIFEGROUP
DESCRIPTION:Men’s LifeGroupWhen: Every Tuesday night\, 6:15 PM – 7:30 PMWhere: Pastor Donnie’s Office\, Neighborhood Friends Church \nJoin us for an engaging time of fellowship\, study\, and discussion as we grow together in our faith. Whether you’re a regular or a first-time visitor\, you’re welcome to dive into God’s Word with us. We look forward to seeing you there! \nContact: dhinshaw@neighborhoodfriends.org
URL:https://neighborhoodfriends.org/event/mens-lifegroup-82/
LOCATION:Neighborhood Friends Church\, 9889 W 66th Ave\, Arvada\, CO\, United States
END:VEVENT
BEGIN:VEVENT
DTSTART;TZID=America/Denver:20260616T183000
DTEND;TZID=America/Denver:20260616T200000
DTSTAMP:20260423T160524
CREATED:20251108T153432Z
LAST-MODIFIED:20260212T182151Z
UID:6345-1781634600-1781640000@neighborhoodfriends.org
SUMMARY:YOUNG ADULTS LIFEGROUP
DESCRIPTION:Neighborhood Young AdultsWhen: Every Tuesday night\, 6:30 PM – 8:00 PM  Where: Various homes and locations   \nYoung adults\, this is your space to connect\, grow\, and build meaningful community! Each week\, we gather to share life\, dive into God’s Word\, and encourage one another in our faith journeys.   \nContact: Jordan Nockels at jnockels@neighborhoodfriends.org for this week’s location and more details.
URL:https://neighborhoodfriends.org/event/young-adults-lifegroup-56/
END:VEVENT
BEGIN:VEVENT
DTSTART;TZID=America/Denver:20260617T183000
DTEND;TZID=America/Denver:20260617T200000
DTSTAMP:20260423T160524
CREATED:20251108T153432Z
LAST-MODIFIED:20260212T182153Z
UID:6346-1781721000-1781726400@neighborhoodfriends.org
SUMMARY:Neighborhood Youth Weekly Gathering
DESCRIPTION:🌟 **Neighborhood Youth Weekly Gathering** 🌟  \nWednesdays | 6:30pm – 8:00pm  \nGet ready for an evening filled with friends\, fun\, and faith! Each week\, we gather to connect\, worship\, and dive into meaningful conversations about life and God’s purpose for us. Whether you’re a first-timer or a regular\, there’s always something new to experience! Don’t miss out on games\, laughter\, and the chance to make great memories together. Bring a friend\, and let’s make each Wednesday a highlight of the week!
URL:https://neighborhoodfriends.org/event/neighborhood-youth-weekly-gathering-179/
LOCATION:Neighborhood Friends Church\, 9889 W 66th Ave\, Arvada\, CO\, United States
END:VEVENT
BEGIN:VEVENT
DTSTART;TZID=America/Denver:20260617T183000
DTEND;TZID=America/Denver:20260617T200000
DTSTAMP:20260423T160524
CREATED:20251108T153432Z
LAST-MODIFIED:20251108T153432Z
UID:6347-1781721000-1781726400@neighborhoodfriends.org
SUMMARY:NEIGHBORHOOD YOUTH
DESCRIPTION:Neighborhood YouthWhen: Every Wednesday night\, 6:30 PMWhere: Neighborhood Friends Church \nCalling all students in grades 6–12! Join us for an exciting evening of fun\, connection\, and spiritual growth. Come hang out with friends\, play games\, and explore what it means to follow Jesus in your everyday life. \nContact: Pastor Jake Stooke at jstooke@neighborhoodfriends.org for more details.
URL:https://neighborhoodfriends.org/event/neighborhood-youth-82/
LOCATION:Neighborhood Friends Church\, 9889 W 66th Ave\, Arvada\, CO\, United States
END:VEVENT
BEGIN:VEVENT
DTSTART;TZID=America/Denver:20260618T180000
DTEND;TZID=America/Denver:20260618T193000
DTSTAMP:20260423T160524
CREATED:20251204T163336Z
LAST-MODIFIED:20260212T182153Z
UID:6413-1781805600-1781811000@neighborhoodfriends.org
SUMMARY:VINTAGE FRIENDS LIFEGROUP
DESCRIPTION:Vintage Friends LifeGroupWhen: Every Thursday night\, 6:00 PM – 7:30 PMWhere: Online via Zoom \nThis LifeGroup is tailored for seniors (55+) seeking fellowship\, encouragement\, and spiritual growth in a supportive and welcoming environment. Led by Pastor John Hinshaw\, it’s a great opportunity to connect with others and deepen your faith from the comfort of your home. \nContact: Pastor John Hinshaw at jhinshaw@neighborhoodfriends.org for the Zoom link and more information.
URL:https://neighborhoodfriends.org/event/vintage-friends-lifegroup-82/
END:VEVENT
BEGIN:VEVENT
DTSTART;TZID=America/Denver:20260620T070000
DTEND;TZID=America/Denver:20260620T083000
DTSTAMP:20260423T160524
CREATED:20251204T163336Z
LAST-MODIFIED:20260212T182153Z
UID:6414-1781938800-1781944200@neighborhoodfriends.org
SUMMARY:MEN'S COFFEE LIFEGROUP
DESCRIPTION:Men’s LifegroupSaturday Mornings | 7:00am | Red Silo CoffeeLeader: Doug Stooke (dstooke@neighborhoodfriends.org) \nLooking for a place to talk about life\, family\, church\, and culture—all over a good cup of coffee? Join us every Saturday morning at Red Silo Coffee for meaningful conversations and connection with other men. Grab a coffee and bring a friend—everyone’s welcome!
URL:https://neighborhoodfriends.org/event/mens-coffee-lifegroup-112/
LOCATION:Red Silo Coffee Roasters\, 6590 Holman St\, Arvada\, CO\, United States
END:VEVENT
BEGIN:VEVENT
DTSTART;TZID=America/Denver:20260621T100000
DTEND;TZID=America/Denver:20260621T113000
DTSTAMP:20260423T160524
CREATED:20251204T163336Z
LAST-MODIFIED:20260212T182154Z
UID:6415-1782036000-1782041400@neighborhoodfriends.org
SUMMARY:SUNDAY WORSHIP GATHERING
DESCRIPTION:Sunday Worship Gathering🗓 Every Sunday☕ 10:00 AM – Coffee & Fellowship⏰ 10:30 AM – Worship Gathering📍 Neighborhood Friends Church\, Arvada\, CO \nCome early at 10:00 AM to connect over coffee and fellowship before we begin worship at 10:30. NKids Church is available for children (toddlers through 5th grade). Check in your kids at the NKids Desk in the lobby before service starts\, and they’ll join us for the first worship set before being dismissed to NKids Church. \nJoin us as we come together to worship\, grow\, and share in Christ’s love. See you there!
URL:https://neighborhoodfriends.org/event/sunday-worship-gathering-201/
LOCATION:Neighborhood Friends Church\, 9889 W 66th Ave\, Arvada\, CO\, United States
END:VEVENT
BEGIN:VEVENT
DTSTART;TZID=America/Denver:20260621T160000
DTEND;TZID=America/Denver:20260621T200000
DTSTAMP:20260423T160524
CREATED:20251204T163336Z
LAST-MODIFIED:20260212T182154Z
UID:6416-1782057600-1782072000@neighborhoodfriends.org
SUMMARY:Jesu Cristo Rey de Reyes Church (Spanish Worship Service)
DESCRIPTION:
URL:https://neighborhoodfriends.org/event/jesu-cristo-rey-de-reyes-church-spanish-worship-service-65/
END:VEVENT
BEGIN:VEVENT
DTSTART;TZID=America/Denver:20260623T180000
DTEND;TZID=America/Denver:20260623T193000
DTSTAMP:20260423T160524
CREATED:20251204T163337Z
LAST-MODIFIED:20260212T182155Z
UID:6418-1782237600-1782243000@neighborhoodfriends.org
SUMMARY:WOMEN'S LIFEGROUP
DESCRIPTION:Women’s LifeGroupWhen: Every Tuesday night\, 6:00 PM – 7:30 PMWhere: Rhonda Hinshaw’s Home \nLadies\, join us for an uplifting time of fellowship and spiritual growth as we dive into God’s Word together. Whether you’re new to the group or a long-time participant\, we’d love to have you! \nContact: Rhonda Hinshaw at rhinshaw@neighborhoodfriends.org for more information and address
URL:https://neighborhoodfriends.org/event/womens-lifegroup-84/
END:VEVENT
BEGIN:VEVENT
DTSTART;TZID=America/Denver:20260623T181500
DTEND;TZID=America/Denver:20260623T193000
DTSTAMP:20260423T160524
CREATED:20251204T163337Z
LAST-MODIFIED:20260212T182155Z
UID:6417-1782238500-1782243000@neighborhoodfriends.org
SUMMARY:MEN'S LIFEGROUP
DESCRIPTION:Men’s LifeGroupWhen: Every Tuesday night\, 6:15 PM – 7:30 PMWhere: Pastor Donnie’s Office\, Neighborhood Friends Church \nJoin us for an engaging time of fellowship\, study\, and discussion as we grow together in our faith. Whether you’re a regular or a first-time visitor\, you’re welcome to dive into God’s Word with us. We look forward to seeing you there! \nContact: dhinshaw@neighborhoodfriends.org
URL:https://neighborhoodfriends.org/event/mens-lifegroup-83/
LOCATION:Neighborhood Friends Church\, 9889 W 66th Ave\, Arvada\, CO\, United States
END:VEVENT
BEGIN:VEVENT
DTSTART;TZID=America/Denver:20260623T183000
DTEND;TZID=America/Denver:20260623T200000
DTSTAMP:20260423T160524
CREATED:20251204T163337Z
LAST-MODIFIED:20260212T182154Z
UID:6419-1782239400-1782244800@neighborhoodfriends.org
SUMMARY:YOUNG ADULTS LIFEGROUP
DESCRIPTION:Neighborhood Young AdultsWhen: Every Tuesday night\, 6:30 PM – 8:00 PM  Where: Various homes and locations   \nYoung adults\, this is your space to connect\, grow\, and build meaningful community! Each week\, we gather to share life\, dive into God’s Word\, and encourage one another in our faith journeys.   \nContact: Jordan Nockels at jnockels@neighborhoodfriends.org for this week’s location and more details.
URL:https://neighborhoodfriends.org/event/young-adults-lifegroup-57/
END:VEVENT
BEGIN:VEVENT
DTSTART;TZID=America/Denver:20260624T183000
DTEND;TZID=America/Denver:20260624T200000
DTSTAMP:20260423T160524
CREATED:20251204T163338Z
LAST-MODIFIED:20260212T182155Z
UID:6420-1782325800-1782331200@neighborhoodfriends.org
SUMMARY:Neighborhood Youth Weekly Gathering
DESCRIPTION:🌟 **Neighborhood Youth Weekly Gathering** 🌟  \nWednesdays | 6:30pm – 8:00pm  \nGet ready for an evening filled with friends\, fun\, and faith! Each week\, we gather to connect\, worship\, and dive into meaningful conversations about life and God’s purpose for us. Whether you’re a first-timer or a regular\, there’s always something new to experience! Don’t miss out on games\, laughter\, and the chance to make great memories together. Bring a friend\, and let’s make each Wednesday a highlight of the week!
URL:https://neighborhoodfriends.org/event/neighborhood-youth-weekly-gathering-180/
LOCATION:Neighborhood Friends Church\, 9889 W 66th Ave\, Arvada\, CO\, United States
END:VEVENT
END:VCALENDAR