BEGIN:VCALENDAR
VERSION:2.0
PRODID:-//Neighborhood Friends Church - ECPv6.15.20//NONSGML v1.0//EN
CALSCALE:GREGORIAN
METHOD:PUBLISH
X-ORIGINAL-URL:https://neighborhoodfriends.org
X-WR-CALDESC:Events for Neighborhood Friends Church
REFRESH-INTERVAL;VALUE=DURATION:PT1H
X-Robots-Tag:noindex
X-PUBLISHED-TTL:PT1H
BEGIN:VTIMEZONE
TZID:America/Denver
BEGIN:DAYLIGHT
TZOFFSETFROM:-0700
TZOFFSETTO:-0600
TZNAME:MDT
DTSTART:20240310T090000
END:DAYLIGHT
BEGIN:STANDARD
TZOFFSETFROM:-0600
TZOFFSETTO:-0700
TZNAME:MST
DTSTART:20241103T080000
END:STANDARD
BEGIN:DAYLIGHT
TZOFFSETFROM:-0700
TZOFFSETTO:-0600
TZNAME:MDT
DTSTART:20250309T090000
END:DAYLIGHT
BEGIN:STANDARD
TZOFFSETFROM:-0600
TZOFFSETTO:-0700
TZNAME:MST
DTSTART:20251102T080000
END:STANDARD
BEGIN:DAYLIGHT
TZOFFSETFROM:-0700
TZOFFSETTO:-0600
TZNAME:MDT
DTSTART:20260308T090000
END:DAYLIGHT
BEGIN:STANDARD
TZOFFSETFROM:-0600
TZOFFSETTO:-0700
TZNAME:MST
DTSTART:20261101T080000
END:STANDARD
END:VTIMEZONE
BEGIN:VEVENT
DTSTART;TZID=America/Denver:20250402T183000
DTEND;TZID=America/Denver:20250402T200000
DTSTAMP:20260424T064625
CREATED:20241130T170524Z
LAST-MODIFIED:20241217T143242Z
UID:4289-1743618600-1743624000@neighborhoodfriends.org
SUMMARY:NEIGHBORHOOD YOUTH
DESCRIPTION:Neighborhood YouthWhen: Every Wednesday night\, 6:30 PMWhere: Neighborhood Friends Church \nCalling all students in grades 6–12! Join us for an exciting evening of fun\, connection\, and spiritual growth. Come hang out with friends\, play games\, and explore what it means to follow Jesus in your everyday life. \nContact: Pastor Jake Stooke at jstooke@neighborhoodfriends.org for more details.
URL:https://neighborhoodfriends.org/event/neighborhood-youth-18/
LOCATION:Neighborhood Friends Church\, 9889 W 66th Ave\, Arvada\, CO\, United States
END:VEVENT
BEGIN:VEVENT
DTSTART;TZID=America/Denver:20250403T180000
DTEND;TZID=America/Denver:20250403T193000
DTSTAMP:20260424T064625
CREATED:20241130T170524Z
LAST-MODIFIED:20241217T143242Z
UID:4290-1743703200-1743708600@neighborhoodfriends.org
SUMMARY:VINTAGE FRIENDS LIFEGROUP
DESCRIPTION:Vintage Friends LifeGroupWhen: Every Thursday night\, 6:00 PM – 7:30 PMWhere: Online via Zoom \nThis LifeGroup is tailored for seniors (55+) seeking fellowship\, encouragement\, and spiritual growth in a supportive and welcoming environment. Led by Pastor John Hinshaw\, it’s a great opportunity to connect with others and deepen your faith from the comfort of your home. \nContact: Pastor John Hinshaw at jhinshaw@neighborhoodfriends.org for the Zoom link and more information.
URL:https://neighborhoodfriends.org/event/vintage-friends-lifegroup-18/
END:VEVENT
BEGIN:VEVENT
DTSTART;TZID=America/Denver:20250405T070000
DTEND;TZID=America/Denver:20250405T083000
DTSTAMP:20260424T064625
CREATED:20241130T170525Z
LAST-MODIFIED:20241130T170525Z
UID:4291-1743836400-1743841800@neighborhoodfriends.org
SUMMARY:MEN'S COFFEE LIFEGROUP
DESCRIPTION:Men’s CoffeeWhen: Every Saturday morning\, 7:00 AMWhere: Red Silo Coffee\, Arvada \nStart your weekend with a cup of coffee and great conversation about life and Jesus. This is a casual\, welcoming space for men to connect\, share\, and grow together. \nContact: dstooke@neighborhoodfriends.org for more details.
URL:https://neighborhoodfriends.org/event/mens-coffee-lifegroup-87/
LOCATION:Red Silo Coffee Roasters\, 6590 Holman St\, Arvada\, CO\, United States
END:VEVENT
BEGIN:VEVENT
DTSTART;TZID=America/Denver:20250406T100000
DTEND;TZID=America/Denver:20250406T120000
DTSTAMP:20260424T064625
CREATED:20241130T170525Z
LAST-MODIFIED:20241217T143243Z
UID:4292-1743933600-1743940800@neighborhoodfriends.org
SUMMARY:SUNDAY WORSHIP GATHERING
DESCRIPTION:Sunday Worship GatheringWhen: Sundays at Neighborhood Friends Church \n\n10:00 AM – Coffee and Pastries\n10:30 AM – Worship and Teaching\n\nJoin us for a meaningful Sunday morning filled with worship\, teaching\, and community. Kids from Littles through 5th Grade can enjoy their own engaging teaching and activities following the worship set. We look forward to worshiping with you!  For more information: info@neighborhoodfriends.org
URL:https://neighborhoodfriends.org/event/sunday-worship-gathering-19/
LOCATION:Neighborhood Friends Church\, 9889 W 66th Ave\, Arvada\, CO\, United States
END:VEVENT
BEGIN:VEVENT
DTSTART;TZID=America/Denver:20250406T160000
DTEND;TZID=America/Denver:20250406T200000
DTSTAMP:20260424T064625
CREATED:20241217T143243Z
LAST-MODIFIED:20241217T143243Z
UID:4637-1743955200-1743969600@neighborhoodfriends.org
SUMMARY:Jesu cristo Rey de Reyes Service
DESCRIPTION:Join with Google Meet: https://meet.google.com/xmh-xhke-oyg\nOr dial: (US) +1 260-557-1985 PIN: 521074753#\nMore phone numbers: https://tel.meet/xmh-xhke-oyg?pin=8120562656953&hs=7\nLearn more about Meet at: https://support.google.com/a/users/answer/9282720
URL:https://neighborhoodfriends.org/event/jesu-cristo-rey-de-reyes-service-14/
ORGANIZER;CN="mbins@neighborhoodfriends.org":MAILTO:mbins@neighborhoodfriends.org
END:VEVENT
BEGIN:VEVENT
DTSTART;TZID=America/Denver:20250408T180000
DTEND;TZID=America/Denver:20250408T193000
DTSTAMP:20260424T064625
CREATED:20241130T170526Z
LAST-MODIFIED:20241217T143243Z
UID:4294-1744135200-1744140600@neighborhoodfriends.org
SUMMARY:WOMEN'S LIFEGROUP
DESCRIPTION:Women’s LifeGroupWhen: Every Tuesday night\, 6:00 PM – 7:30 PMWhere: Rhonda Hinshaw’s Home \nLadies\, join us for an uplifting time of fellowship and spiritual growth as we dive into God’s Word together. Whether you’re new to the group or a long-time participant\, we’d love to have you! \nContact: Rhonda Hinshaw at rhinshaw@neighborhoodfriends.org for more information and address
URL:https://neighborhoodfriends.org/event/womens-lifegroup-19/
END:VEVENT
BEGIN:VEVENT
DTSTART;TZID=America/Denver:20250408T181500
DTEND;TZID=America/Denver:20250408T193000
DTSTAMP:20260424T064625
CREATED:20241130T170526Z
LAST-MODIFIED:20241217T143244Z
UID:4295-1744136100-1744140600@neighborhoodfriends.org
SUMMARY:MEN'S LIFEGROUP
DESCRIPTION:Men’s LifeGroupWhen: Every Tuesday night\, 6:15 PM – 7:30 PMWhere: Pastor Donnie’s Office\, Neighborhood Friends Church \nJoin us for an engaging time of fellowship\, study\, and discussion as we grow together in our faith. Whether you’re a regular or a first-time visitor\, you’re welcome to dive into God’s Word with us. We look forward to seeing you there! \nContact: dhinshaw@neighborhoodfriends.org
URL:https://neighborhoodfriends.org/event/mens-lifegroup-19/
LOCATION:Neighborhood Friends Church\, 9889 W 66th Ave\, Arvada\, CO\, United States
END:VEVENT
BEGIN:VEVENT
DTSTART;TZID=America/Denver:20250408T183000
DTEND;TZID=America/Denver:20250408T200000
DTSTAMP:20260424T064625
CREATED:20241130T170526Z
LAST-MODIFIED:20241217T143243Z
UID:4293-1744137000-1744142400@neighborhoodfriends.org
SUMMARY:YOUNG ADULTS LIFEGROUP
DESCRIPTION:Neighborhood Young AdultsWhen: Every Tuesday night\, 6:30 PM – 8:00 PM  Where: Various homes and locations   \nYoung adults\, this is your space to connect\, grow\, and build meaningful community! Each week\, we gather to share life\, dive into God’s Word\, and encourage one another in our faith journeys.   \nContact: Jordan Nockels at jnockels@neighborhoodfriends.org for this week’s location and more details.
URL:https://neighborhoodfriends.org/event/neighborhood-young-adults-19/
END:VEVENT
BEGIN:VEVENT
DTSTART;TZID=America/Denver:20250409T183000
DTEND;TZID=America/Denver:20250409T200000
DTSTAMP:20260424T064625
CREATED:20241130T170527Z
LAST-MODIFIED:20241217T143244Z
UID:4296-1744223400-1744228800@neighborhoodfriends.org
SUMMARY:NEIGHBORHOOD YOUTH
DESCRIPTION:Neighborhood YouthWhen: Every Wednesday night\, 6:30 PMWhere: Neighborhood Friends Church \nCalling all students in grades 6–12! Join us for an exciting evening of fun\, connection\, and spiritual growth. Come hang out with friends\, play games\, and explore what it means to follow Jesus in your everyday life. \nContact: Pastor Jake Stooke at jstooke@neighborhoodfriends.org for more details.
URL:https://neighborhoodfriends.org/event/neighborhood-youth-19/
LOCATION:Neighborhood Friends Church\, 9889 W 66th Ave\, Arvada\, CO\, United States
END:VEVENT
BEGIN:VEVENT
DTSTART;TZID=America/Denver:20250410T180000
DTEND;TZID=America/Denver:20250410T193000
DTSTAMP:20260424T064625
CREATED:20241130T170527Z
LAST-MODIFIED:20241217T143244Z
UID:4297-1744308000-1744313400@neighborhoodfriends.org
SUMMARY:VINTAGE FRIENDS LIFEGROUP
DESCRIPTION:Vintage Friends LifeGroupWhen: Every Thursday night\, 6:00 PM – 7:30 PMWhere: Online via Zoom \nThis LifeGroup is tailored for seniors (55+) seeking fellowship\, encouragement\, and spiritual growth in a supportive and welcoming environment. Led by Pastor John Hinshaw\, it’s a great opportunity to connect with others and deepen your faith from the comfort of your home. \nContact: Pastor John Hinshaw at jhinshaw@neighborhoodfriends.org for the Zoom link and more information.
URL:https://neighborhoodfriends.org/event/vintage-friends-lifegroup-19/
END:VEVENT
BEGIN:VEVENT
DTSTART;TZID=America/Denver:20250412T070000
DTEND;TZID=America/Denver:20250412T083000
DTSTAMP:20260424T064625
CREATED:20241130T170527Z
LAST-MODIFIED:20241130T170527Z
UID:4298-1744441200-1744446600@neighborhoodfriends.org
SUMMARY:MEN'S COFFEE LIFEGROUP
DESCRIPTION:Men’s CoffeeWhen: Every Saturday morning\, 7:00 AMWhere: Red Silo Coffee\, Arvada \nStart your weekend with a cup of coffee and great conversation about life and Jesus. This is a casual\, welcoming space for men to connect\, share\, and grow together. \nContact: dstooke@neighborhoodfriends.org for more details.
URL:https://neighborhoodfriends.org/event/mens-coffee-lifegroup-88/
LOCATION:Red Silo Coffee Roasters\, 6590 Holman St\, Arvada\, CO\, United States
END:VEVENT
BEGIN:VEVENT
DTSTART;TZID=America/Denver:20250413T100000
DTEND;TZID=America/Denver:20250413T113000
DTSTAMP:20260424T064625
CREATED:20250413T161606Z
LAST-MODIFIED:20250413T161606Z
UID:4798-1744538400-1744543800@neighborhoodfriends.org
SUMMARY:SUNDAY WORSHIP GATHERING
DESCRIPTION:Sunday Worship Gathering🗓 Every Sunday☕ 10:00 AM – Coffee & Fellowship⏰ 10:30 AM – Worship Gathering📍 Neighborhood Friends Church\, Arvada\, CO \nCome early at 10:00 AM to connect over coffee and fellowship before we begin worship at 10:30. NKids Church is available for children (toddlers through 5th grade). Check in your kids at the NKids Desk in the lobby before service starts\, and they’ll join us for the first worship set before being dismissed to NKids Church. \nJoin us as we come together to worship\, grow\, and share in Christ’s love. See you there!
URL:https://neighborhoodfriends.org/event/sunday-worship-gathering-35/
LOCATION:Neighborhood Friends Church\, 9889 W 66th Ave\, Arvada\, CO\, United States
END:VEVENT
BEGIN:VEVENT
DTSTART;TZID=America/Denver:20250413T100000
DTEND;TZID=America/Denver:20250413T113000
DTSTAMP:20260424T064625
CREATED:20250413T161608Z
LAST-MODIFIED:20250413T161608Z
UID:4799-1744538400-1744543800@neighborhoodfriends.org
SUMMARY:SUNDAY WORSHIP GATHERING
DESCRIPTION:Sunday Worship Gathering🗓 Every Sunday☕ 10:00 AM – Coffee & Fellowship⏰ 10:30 AM – Worship Gathering📍 Neighborhood Friends Church\, Arvada\, CO \nCome early at 10:00 AM to connect over coffee and fellowship before we begin worship at 10:30. NKids Church is available for children (toddlers through 5th grade). Check in your kids at the NKids Desk in the lobby before service starts\, and they’ll join us for the first worship set before being dismissed to NKids Church. \nJoin us as we come together to worship\, grow\, and share in Christ’s love. See you there!
URL:https://neighborhoodfriends.org/event/sunday-worship-gathering-36/
LOCATION:Neighborhood Friends Church\, 9889 W 66th Ave\, Arvada\, CO\, United States
END:VEVENT
BEGIN:VEVENT
DTSTART;TZID=America/Denver:20250413T100000
DTEND;TZID=America/Denver:20250413T120000
DTSTAMP:20260424T064625
CREATED:20241130T170528Z
LAST-MODIFIED:20241217T143244Z
UID:4299-1744538400-1744545600@neighborhoodfriends.org
SUMMARY:SUNDAY WORSHIP GATHERING
DESCRIPTION:Sunday Worship GatheringWhen: Sundays at Neighborhood Friends Church \n\n10:00 AM – Coffee and Pastries\n10:30 AM – Worship and Teaching\n\nJoin us for a meaningful Sunday morning filled with worship\, teaching\, and community. Kids from Littles through 5th Grade can enjoy their own engaging teaching and activities following the worship set. We look forward to worshiping with you!  For more information: info@neighborhoodfriends.org
URL:https://neighborhoodfriends.org/event/sunday-worship-gathering-20/
LOCATION:Neighborhood Friends Church\, 9889 W 66th Ave\, Arvada\, CO\, United States
END:VEVENT
BEGIN:VEVENT
DTSTART;TZID=America/Denver:20250413T160000
DTEND;TZID=America/Denver:20250413T200000
DTSTAMP:20260424T064625
CREATED:20241217T143245Z
LAST-MODIFIED:20241217T143245Z
UID:4638-1744560000-1744574400@neighborhoodfriends.org
SUMMARY:Jesu cristo Rey de Reyes Service
DESCRIPTION:Join with Google Meet: https://meet.google.com/xmh-xhke-oyg\nOr dial: (US) +1 260-557-1985 PIN: 521074753#\nMore phone numbers: https://tel.meet/xmh-xhke-oyg?pin=8120562656953&hs=7\nLearn more about Meet at: https://support.google.com/a/users/answer/9282720
URL:https://neighborhoodfriends.org/event/jesu-cristo-rey-de-reyes-service-15/
ORGANIZER;CN="mbins@neighborhoodfriends.org":MAILTO:mbins@neighborhoodfriends.org
END:VEVENT
BEGIN:VEVENT
DTSTART;TZID=America/Denver:20250413T160000
DTEND;TZID=America/Denver:20250413T200000
DTSTAMP:20260424T064625
CREATED:20250413T161610Z
LAST-MODIFIED:20250413T161610Z
UID:4800-1744560000-1744574400@neighborhoodfriends.org
SUMMARY:Jesu Cristo Rey de Reyes Church (Spanish Worship Service)
DESCRIPTION:
URL:https://neighborhoodfriends.org/event/jesu-cristo-rey-de-reyes-church-spanish-worship-service/
END:VEVENT
BEGIN:VEVENT
DTSTART;TZID=America/Denver:20250413T160000
DTEND;TZID=America/Denver:20250413T200000
DTSTAMP:20260424T064625
CREATED:20250413T161613Z
LAST-MODIFIED:20250413T161613Z
UID:4802-1744560000-1744574400@neighborhoodfriends.org
SUMMARY:Jesu Cristo Rey de Reyes Church (Spanish Worship Service)
DESCRIPTION:
URL:https://neighborhoodfriends.org/event/jesu-cristo-rey-de-reyes-church-spanish-worship-service-2/
END:VEVENT
BEGIN:VEVENT
DTSTART;TZID=America/Denver:20250414T180000
DTEND;TZID=America/Denver:20250414T190000
DTSTAMP:20260424T064625
CREATED:20250413T161611Z
LAST-MODIFIED:20250413T161611Z
UID:4801-1744653600-1744657200@neighborhoodfriends.org
SUMMARY:SPIRITUAL LIFE MEETING (ONLINE)
DESCRIPTION:A monthly spiritual life board (elders) meeting online to discuss spiritual health\, vision\, needs\, and leadership. Contact: Doug Stooke: dstooke@neighborhoodfriends.org\nJoin with Google Meet: https://meet.google.com/efj-aqzf-imr\nOr dial: (US) +1 417-448-6105 PIN: 254404595#\nMore phone numbers: https://tel.meet/efj-aqzf-imr?pin=6224438130198&hs=7\nLearn more about Meet at: https://support.google.com/a/users/answer/9282720
URL:https://neighborhoodfriends.org/event/spiritual-life-meeting-online-17/
ORGANIZER;CN="Donnie Hinshaw":MAILTO:dhinshaw@neighborhoodfriends.org
END:VEVENT
BEGIN:VEVENT
DTSTART;TZID=America/Denver:20250414T180000
DTEND;TZID=America/Denver:20250414T190000
DTSTAMP:20260424T064625
CREATED:20250413T161614Z
LAST-MODIFIED:20250413T161614Z
UID:4803-1744653600-1744657200@neighborhoodfriends.org
SUMMARY:SPIRITUAL LIFE MEETING (ONLINE)
DESCRIPTION:A monthly spiritual life board (elders) meeting online to discuss spiritual health\, vision\, needs\, and leadership. Contact: Doug Stooke: dstooke@neighborhoodfriends.org\nJoin with Google Meet: https://meet.google.com/efj-aqzf-imr\nOr dial: (US) +1 417-448-6105 PIN: 254404595#\nMore phone numbers: https://tel.meet/efj-aqzf-imr?pin=6224438130198&hs=7\nLearn more about Meet at: https://support.google.com/a/users/answer/9282720
URL:https://neighborhoodfriends.org/event/spiritual-life-meeting-online-18/
ORGANIZER;CN="Donnie Hinshaw":MAILTO:dhinshaw@neighborhoodfriends.org
END:VEVENT
BEGIN:VEVENT
DTSTART;TZID=America/Denver:20250415T180000
DTEND;TZID=America/Denver:20250415T193000
DTSTAMP:20260424T064625
CREATED:20241130T170528Z
LAST-MODIFIED:20250413T161616Z
UID:4300-1744740000-1744745400@neighborhoodfriends.org
SUMMARY:WOMEN'S LIFEGROUP
DESCRIPTION:Women’s LifeGroupWhen: Every Tuesday night\, 6:00 PM – 7:30 PMWhere: Rhonda Hinshaw’s Home \nLadies\, join us for an uplifting time of fellowship and spiritual growth as we dive into God’s Word together. Whether you’re new to the group or a long-time participant\, we’d love to have you! \nContact: Rhonda Hinshaw at rhinshaw@neighborhoodfriends.org for more information and address
URL:https://neighborhoodfriends.org/event/womens-lifegroup-20/
END:VEVENT
BEGIN:VEVENT
DTSTART;TZID=America/Denver:20250415T180000
DTEND;TZID=America/Denver:20250415T200000
DTSTAMP:20260424T064625
CREATED:20250413T161616Z
LAST-MODIFIED:20250413T161616Z
UID:4804-1744740000-1744747200@neighborhoodfriends.org
SUMMARY:
DESCRIPTION:Journey Through the Passover Dinner\nTuesday\, April 15th | 6:00 PMNeighborhood Friends Church$22/person or $80/table of 4\nJoin us for a unique and interactive Passover Dinner experience! Hosted by Alex Kraft\, this evening will take you on a hands-on journey through the Passover\, exploring over 24 connections to Jesus within this sacred meal.\nWhat to Expect:A full meal including lamb\, matzo ball soup\, chicken\, potatoes\, and saladA new journey experience through the Passover storyInteractive learning and activities for all ages (kids included!)\nThis year’s dinner is more affordable\, and if cost is a concern\, don’t let that stop you—we’ll cover your seat.\nReserve your spot today! You won’t want to miss this powerful and memorable night of food\, fellowship\, and faith.\nFor more info or to RSVP\, contact Alex Kraft: akraft@neighborhoodfriends.org\nSAVE YOUR SEATS:https://www.eventbrite.com/e/2025-nfc-passover-seder-dinner-registration-1281240778659?aff=oddtdtcreator
URL:https://neighborhoodfriends.org/event/4804/
END:VEVENT
BEGIN:VEVENT
DTSTART;TZID=America/Denver:20250415T180000
DTEND;TZID=America/Denver:20250415T200000
DTSTAMP:20260424T064625
CREATED:20250413T161618Z
LAST-MODIFIED:20250413T161618Z
UID:4805-1744740000-1744747200@neighborhoodfriends.org
SUMMARY:
DESCRIPTION:Journey Through the Passover Dinner\nTuesday\, April 15th | 6:00 PMNeighborhood Friends Church$22/person or $80/table of 4\nJoin us for a unique and interactive Passover Dinner experience! Hosted by Alex Kraft\, this evening will take you on a hands-on journey through the Passover\, exploring over 24 connections to Jesus within this sacred meal.\nWhat to Expect:A full meal including lamb\, matzo ball soup\, chicken\, potatoes\, and saladA new journey experience through the Passover storyInteractive learning and activities for all ages (kids included!)\nThis year’s dinner is more affordable\, and if cost is a concern\, don’t let that stop you—we’ll cover your seat.\nReserve your spot today! You won’t want to miss this powerful and memorable night of food\, fellowship\, and faith.\nFor more info or to RSVP\, contact Alex Kraft: akraft@neighborhoodfriends.org\nSAVE YOUR SEATS:https://www.eventbrite.com/e/2025-nfc-passover-seder-dinner-registration-1281240778659?aff=oddtdtcreator
URL:https://neighborhoodfriends.org/event/4805/
END:VEVENT
BEGIN:VEVENT
DTSTART;TZID=America/Denver:20250415T181500
DTEND;TZID=America/Denver:20250415T193000
DTSTAMP:20260424T064625
CREATED:20241130T170529Z
LAST-MODIFIED:20250413T161614Z
UID:4302-1744740900-1744745400@neighborhoodfriends.org
SUMMARY:MEN'S LIFEGROUP
DESCRIPTION:Men’s LifeGroupWhen: Every Tuesday night\, 6:15 PM – 7:30 PMWhere: Pastor Donnie’s Office\, Neighborhood Friends Church \nJoin us for an engaging time of fellowship\, study\, and discussion as we grow together in our faith. Whether you’re a regular or a first-time visitor\, you’re welcome to dive into God’s Word with us. We look forward to seeing you there! \nContact: dhinshaw@neighborhoodfriends.org
URL:https://neighborhoodfriends.org/event/mens-lifegroup-20/
LOCATION:Neighborhood Friends Church\, 9889 W 66th Ave\, Arvada\, CO\, United States
END:VEVENT
BEGIN:VEVENT
DTSTART;TZID=America/Denver:20250415T183000
DTEND;TZID=America/Denver:20250415T200000
DTSTAMP:20260424T064625
CREATED:20241130T170528Z
LAST-MODIFIED:20250413T161617Z
UID:4301-1744741800-1744747200@neighborhoodfriends.org
SUMMARY:YOUNG ADULTS LIFEGROUP
DESCRIPTION:Neighborhood Young AdultsWhen: Every Tuesday night\, 6:30 PM – 8:00 PM  Where: Various homes and locations   \nYoung adults\, this is your space to connect\, grow\, and build meaningful community! Each week\, we gather to share life\, dive into God’s Word\, and encourage one another in our faith journeys.   \nContact: Jordan Nockels at jnockels@neighborhoodfriends.org for this week’s location and more details.
URL:https://neighborhoodfriends.org/event/neighborhood-young-adults-20/
END:VEVENT
BEGIN:VEVENT
DTSTART;TZID=America/Denver:20250416T183000
DTEND;TZID=America/Denver:20250416T200000
DTSTAMP:20260424T064625
CREATED:20241130T170529Z
LAST-MODIFIED:20250413T161619Z
UID:4303-1744828200-1744833600@neighborhoodfriends.org
SUMMARY:NEIGHBORHOOD YOUTH
DESCRIPTION:Neighborhood YouthWhen: Every Wednesday night\, 6:30 PMWhere: Neighborhood Friends Church \nCalling all students in grades 6–12! Join us for an exciting evening of fun\, connection\, and spiritual growth. Come hang out with friends\, play games\, and explore what it means to follow Jesus in your everyday life. \nContact: Pastor Jake Stooke at jstooke@neighborhoodfriends.org for more details.
URL:https://neighborhoodfriends.org/event/neighborhood-youth-20/
LOCATION:Neighborhood Friends Church\, 9889 W 66th Ave\, Arvada\, CO\, United States
END:VEVENT
BEGIN:VEVENT
DTSTART;TZID=America/Denver:20250417T180000
DTEND;TZID=America/Denver:20250417T193000
DTSTAMP:20260424T064625
CREATED:20241130T170529Z
LAST-MODIFIED:20250413T161620Z
UID:4304-1744912800-1744918200@neighborhoodfriends.org
SUMMARY:VINTAGE FRIENDS LIFEGROUP
DESCRIPTION:Vintage Friends LifeGroupWhen: Every Thursday night\, 6:00 PM – 7:30 PMWhere: Online via Zoom \nThis LifeGroup is tailored for seniors (55+) seeking fellowship\, encouragement\, and spiritual growth in a supportive and welcoming environment. Led by Pastor John Hinshaw\, it’s a great opportunity to connect with others and deepen your faith from the comfort of your home. \nContact: Pastor John Hinshaw at jhinshaw@neighborhoodfriends.org for the Zoom link and more information.
URL:https://neighborhoodfriends.org/event/vintage-friends-lifegroup-20/
END:VEVENT
BEGIN:VEVENT
DTSTART;TZID=America/Denver:20250418T180000
DTEND;TZID=America/Denver:20250418T193000
DTSTAMP:20260424T064625
CREATED:20250413T161619Z
LAST-MODIFIED:20250413T161637Z
UID:4806-1744999200-1745004600@neighborhoodfriends.org
SUMMARY:Good Friday Worship Gathering
DESCRIPTION:Good Friday Worship & Communion Gathering \nJoin us for one of the most impactful worship gatherings of the year as we solemnly reflect on the sacrifice Jesus made by going to the cross\, paying the penalty for our sins so that we could experience resurrection and a future of hope. \nThis sacred evening will be centered on worship\, communion\, and prayer as we remember His suffering and the depth of His love for us. \n📅 Friday\, April 18th🕕 6:00 PM📍 Neighborhood Friends Church \nCome with a heart ready to reflect and worship as we prepare for the hope of Easter Sunday.
URL:https://neighborhoodfriends.org/event/good-friday-worship-gathering/
END:VEVENT
BEGIN:VEVENT
DTSTART;TZID=America/Denver:20250419T070000
DTEND;TZID=America/Denver:20250419T083000
DTSTAMP:20260424T064625
CREATED:20241130T170530Z
LAST-MODIFIED:20241130T170530Z
UID:4305-1745046000-1745051400@neighborhoodfriends.org
SUMMARY:MEN'S COFFEE LIFEGROUP
DESCRIPTION:Men’s CoffeeWhen: Every Saturday morning\, 7:00 AMWhere: Red Silo Coffee\, Arvada \nStart your weekend with a cup of coffee and great conversation about life and Jesus. This is a casual\, welcoming space for men to connect\, share\, and grow together. \nContact: dstooke@neighborhoodfriends.org for more details.
URL:https://neighborhoodfriends.org/event/mens-coffee-lifegroup-89/
LOCATION:Red Silo Coffee Roasters\, 6590 Holman St\, Arvada\, CO\, United States
END:VEVENT
BEGIN:VEVENT
DTSTART;TZID=America/Denver:20250419T100000
DTEND;TZID=America/Denver:20250419T120000
DTSTAMP:20260424T064625
CREATED:20250413T161620Z
LAST-MODIFIED:20250413T161641Z
UID:4807-1745056800-1745064000@neighborhoodfriends.org
SUMMARY:Neighborhood Friends Annual Easter Egg Hunt
DESCRIPTION:Neighborhood Friends Annual Easter Egg Hunt 🐣🎉 \n📅 Saturday\, April 19th🕙 10:00 AM📍 Neighborhood Friends Church \nJoin us for a crazy fun outreach event for our community! Bring your friends and family for a morning filled with excitement as we give out over 10\,000 eggs and celebrate the true hope of Easter. This isn’t just about eggs and bunnies—it’s about sharing the Good News that lasts beyond the holiday. \nDon’t miss this incredible opportunity to connect\, celebrate\, and spread joy in our community. See you there! 🎊
URL:https://neighborhoodfriends.org/event/neighborhood-friends-annual-easter-egg-hunt/
END:VEVENT
BEGIN:VEVENT
DTSTART;TZID=America/Denver:20250420T100000
DTEND;TZID=America/Denver:20250420T113000
DTSTAMP:20260424T064625
CREATED:20250413T161621Z
LAST-MODIFIED:20250413T161642Z
UID:4808-1745143200-1745148600@neighborhoodfriends.org
SUMMARY:EASTER SUNDAY AT NEIGHBORHOOD FRIENDS
DESCRIPTION:Sunday\, April 20th10:00 AM – Coffee & Pastries10:30 AM – Worship & NKids Ministry \nCome celebrate the greatest story ever told—the resurrection of Jesus! This Easter\, we’ll wrap up our “Too Good to Be Secret” series with a powerful message: “A Story Too Good to Be Secret.” \nExperience joyful worship\, a life-changing message\, and a welcoming community as we celebrate the hope and victory of Easter. \nBring your family and friends—all are welcome! 
URL:https://neighborhoodfriends.org/event/easter-sunday-at-neighborhood-friends/
LOCATION:Neighborhood Friends Church\, 9889 W 66th Ave\, Arvada\, CO\, United States
END:VEVENT
END:VCALENDAR