BEGIN:VCALENDAR
VERSION:2.0
PRODID:-//Neighborhood Friends Church - ECPv6.15.20//NONSGML v1.0//EN
CALSCALE:GREGORIAN
METHOD:PUBLISH
X-WR-CALNAME:Neighborhood Friends Church
X-ORIGINAL-URL:https://neighborhoodfriends.org
X-WR-CALDESC:Events for Neighborhood Friends Church
REFRESH-INTERVAL;VALUE=DURATION:PT1H
X-Robots-Tag:noindex
X-PUBLISHED-TTL:PT1H
BEGIN:VTIMEZONE
TZID:America/Denver
BEGIN:DAYLIGHT
TZOFFSETFROM:-0700
TZOFFSETTO:-0600
TZNAME:MDT
DTSTART:20240310T090000
END:DAYLIGHT
BEGIN:STANDARD
TZOFFSETFROM:-0600
TZOFFSETTO:-0700
TZNAME:MST
DTSTART:20241103T080000
END:STANDARD
BEGIN:DAYLIGHT
TZOFFSETFROM:-0700
TZOFFSETTO:-0600
TZNAME:MDT
DTSTART:20250309T090000
END:DAYLIGHT
BEGIN:STANDARD
TZOFFSETFROM:-0600
TZOFFSETTO:-0700
TZNAME:MST
DTSTART:20251102T080000
END:STANDARD
BEGIN:DAYLIGHT
TZOFFSETFROM:-0700
TZOFFSETTO:-0600
TZNAME:MDT
DTSTART:20260308T090000
END:DAYLIGHT
BEGIN:STANDARD
TZOFFSETFROM:-0600
TZOFFSETTO:-0700
TZNAME:MST
DTSTART:20261101T080000
END:STANDARD
END:VTIMEZONE
BEGIN:VEVENT
DTSTART;TZID=America/Denver:20250506T180000
DTEND;TZID=America/Denver:20250506T193000
DTSTAMP:20260425T091905
CREATED:20241130T170536Z
LAST-MODIFIED:20250506T224616Z
UID:4323-1746554400-1746559800@neighborhoodfriends.org
SUMMARY:WOMEN'S LIFEGROUP
DESCRIPTION:Women’s LifeGroupWhen: Every Tuesday night\, 6:00 PM – 7:30 PMWhere: Rhonda Hinshaw’s Home \nLadies\, join us for an uplifting time of fellowship and spiritual growth as we dive into God’s Word together. Whether you’re new to the group or a long-time participant\, we’d love to have you! \nContact: Rhonda Hinshaw at rhinshaw@neighborhoodfriends.org for more information and address
URL:https://neighborhoodfriends.org/event/womens-lifegroup-23/
LOCATION:CO
END:VEVENT
BEGIN:VEVENT
DTSTART;TZID=America/Denver:20250505T180000
DTEND;TZID=America/Denver:20250505T190000
DTSTAMP:20260425T091905
CREATED:20250413T161640Z
LAST-MODIFIED:20250505T222849Z
UID:4815-1746468000-1746471600@neighborhoodfriends.org
SUMMARY:SPIRITUAL LIFE MEETING (ONLINE)
DESCRIPTION:A monthly spiritual life board (elders) meeting online to discuss spiritual health\, vision\, needs\, and leadership. Contact: Doug Stooke: dstooke@neighborhoodfriends.org\nJoin with Google Meet: https://meet.google.com/efj-aqzf-imr\nOr dial: (US) +1 417-448-6105 PIN: 254404595#\nMore phone numbers: https://tel.meet/efj-aqzf-imr?pin=6224438130198&hs=7\nLearn more about Meet at: https://support.google.com/a/users/answer/9282720
URL:https://neighborhoodfriends.org/event/spiritual-life-meeting-online-19/
LOCATION:CO
ORGANIZER;CN="Donnie Hinshaw":MAILTO:dhinshaw@neighborhoodfriends.org
END:VEVENT
BEGIN:VEVENT
DTSTART;TZID=America/Denver:20250504T160000
DTEND;TZID=America/Denver:20250504T200000
DTSTAMP:20260425T091905
CREATED:20250413T161640Z
LAST-MODIFIED:20250504T220427Z
UID:4814-1746374400-1746388800@neighborhoodfriends.org
SUMMARY:Jesu Cristo Rey de Reyes Church (Spanish Worship Service)
DESCRIPTION:
URL:https://neighborhoodfriends.org/event/jesu-cristo-rey-de-reyes-church-spanish-worship-service-5/
LOCATION:CO
END:VEVENT
BEGIN:VEVENT
DTSTART;TZID=America/Denver:20250504T160000
DTEND;TZID=America/Denver:20250504T200000
DTSTAMP:20260425T091905
CREATED:20241217T143249Z
LAST-MODIFIED:20241217T143249Z
UID:4641-1746374400-1746388800@neighborhoodfriends.org
SUMMARY:Jesu cristo Rey de Reyes Service
DESCRIPTION:Join with Google Meet: https://meet.google.com/xmh-xhke-oyg\nOr dial: (US) +1 260-557-1985 PIN: 521074753#\nMore phone numbers: https://tel.meet/xmh-xhke-oyg?pin=8120562656953&hs=7\nLearn more about Meet at: https://support.google.com/a/users/answer/9282720
URL:https://neighborhoodfriends.org/event/jesu-cristo-rey-de-reyes-service-18/
LOCATION:CO
ORGANIZER;CN="mbins@neighborhoodfriends.org":MAILTO:mbins@neighborhoodfriends.org
END:VEVENT
BEGIN:VEVENT
DTSTART;TZID=America/Denver:20250504T100000
DTEND;TZID=America/Denver:20250504T120000
DTSTAMP:20260425T091905
CREATED:20241130T170535Z
LAST-MODIFIED:20241217T143249Z
UID:4320-1746352800-1746360000@neighborhoodfriends.org
SUMMARY:SUNDAY WORSHIP GATHERING
DESCRIPTION:Sunday Worship GatheringWhen: Sundays at Neighborhood Friends Church \n\n10:00 AM – Coffee and Pastries\n10:30 AM – Worship and Teaching\n\nJoin us for a meaningful Sunday morning filled with worship\, teaching\, and community. Kids from Littles through 5th Grade can enjoy their own engaging teaching and activities following the worship set. We look forward to worshiping with you!  For more information: info@neighborhoodfriends.org
URL:https://neighborhoodfriends.org/event/sunday-worship-gathering-23/
LOCATION:Neighborhood Friends Church\, 9889 W 66th Ave\, Arvada\, CO\, United States
END:VEVENT
BEGIN:VEVENT
DTSTART;TZID=America/Denver:20250504T100000
DTEND;TZID=America/Denver:20250504T113000
DTSTAMP:20260425T091905
CREATED:20250413T161639Z
LAST-MODIFIED:20250503T215545Z
UID:4813-1746352800-1746358200@neighborhoodfriends.org
SUMMARY:SUNDAY WORSHIP GATHERING
DESCRIPTION:Sunday Worship Gathering🗓 Every Sunday☕ 10:00 AM – Coffee & Fellowship⏰ 10:30 AM – Worship Gathering📍 Neighborhood Friends Church\, Arvada\, CO \nCome early at 10:00 AM to connect over coffee and fellowship before we begin worship at 10:30. NKids Church is available for children (toddlers through 5th grade). Check in your kids at the NKids Desk in the lobby before service starts\, and they’ll join us for the first worship set before being dismissed to NKids Church. \nJoin us as we come together to worship\, grow\, and share in Christ’s love. See you there!
URL:https://neighborhoodfriends.org/event/sunday-worship-gathering-38/
LOCATION:Neighborhood Friends Church\, 9889 W 66th Ave\, Arvada\, CO\, United States
END:VEVENT
BEGIN:VEVENT
DTSTART;TZID=America/Denver:20250503T070000
DTEND;TZID=America/Denver:20250503T083000
DTSTAMP:20260425T091905
CREATED:20241130T170534Z
LAST-MODIFIED:20241130T170534Z
UID:4319-1746255600-1746261000@neighborhoodfriends.org
SUMMARY:MEN'S COFFEE LIFEGROUP
DESCRIPTION:Men’s CoffeeWhen: Every Saturday morning\, 7:00 AMWhere: Red Silo Coffee\, Arvada \nStart your weekend with a cup of coffee and great conversation about life and Jesus. This is a casual\, welcoming space for men to connect\, share\, and grow together. \nContact: dstooke@neighborhoodfriends.org for more details.
URL:https://neighborhoodfriends.org/event/mens-coffee-lifegroup-91/
LOCATION:Red Silo Coffee Roasters\, 6590 Holman St\, Arvada\, CO\, United States
END:VEVENT
BEGIN:VEVENT
DTSTART;TZID=America/Denver:20250501T180000
DTEND;TZID=America/Denver:20250501T193000
DTSTAMP:20260425T091905
CREATED:20241130T170534Z
LAST-MODIFIED:20250501T132614Z
UID:4318-1746122400-1746127800@neighborhoodfriends.org
SUMMARY:VINTAGE FRIENDS LIFEGROUP
DESCRIPTION:Vintage Friends LifeGroupWhen: Every Thursday night\, 6:00 PM – 7:30 PMWhere: Online via Zoom \nThis LifeGroup is tailored for seniors (55+) seeking fellowship\, encouragement\, and spiritual growth in a supportive and welcoming environment. Led by Pastor John Hinshaw\, it’s a great opportunity to connect with others and deepen your faith from the comfort of your home. \nContact: Pastor John Hinshaw at jhinshaw@neighborhoodfriends.org for the Zoom link and more information.
URL:https://neighborhoodfriends.org/event/vintage-friends-lifegroup-22/
LOCATION:CO
END:VEVENT
BEGIN:VEVENT
DTSTART;TZID=America/Denver:20250430T183000
DTEND;TZID=America/Denver:20250430T200000
DTSTAMP:20260425T091905
CREATED:20241130T170534Z
LAST-MODIFIED:20250430T131205Z
UID:4317-1746037800-1746043200@neighborhoodfriends.org
SUMMARY:NEIGHBORHOOD YOUTH
DESCRIPTION:Neighborhood YouthWhen: Every Wednesday night\, 6:30 PMWhere: Neighborhood Friends Church \nCalling all students in grades 6–12! Join us for an exciting evening of fun\, connection\, and spiritual growth. Come hang out with friends\, play games\, and explore what it means to follow Jesus in your everyday life. \nContact: Pastor Jake Stooke at jstooke@neighborhoodfriends.org for more details.
URL:https://neighborhoodfriends.org/event/neighborhood-youth-22/
LOCATION:Neighborhood Friends Church\, 9889 W 66th Ave\, Arvada\, CO\, United States
END:VEVENT
BEGIN:VEVENT
DTSTART;TZID=America/Denver:20250429T183000
DTEND;TZID=America/Denver:20250429T200000
DTSTAMP:20260425T091905
CREATED:20241130T170533Z
LAST-MODIFIED:20250429T130547Z
UID:4316-1745951400-1745956800@neighborhoodfriends.org
SUMMARY:YOUNG ADULTS LIFEGROUP
DESCRIPTION:Neighborhood Young AdultsWhen: Every Tuesday night\, 6:30 PM – 8:00 PM  Where: Various homes and locations   \nYoung adults\, this is your space to connect\, grow\, and build meaningful community! Each week\, we gather to share life\, dive into God’s Word\, and encourage one another in our faith journeys.   \nContact: Jordan Nockels at jnockels@neighborhoodfriends.org for this week’s location and more details.
URL:https://neighborhoodfriends.org/event/neighborhood-young-adults-22/
LOCATION:CO
END:VEVENT
BEGIN:VEVENT
DTSTART;TZID=America/Denver:20250429T181500
DTEND;TZID=America/Denver:20250429T193000
DTSTAMP:20260425T091905
CREATED:20241130T170533Z
LAST-MODIFIED:20250429T130553Z
UID:4314-1745950500-1745955000@neighborhoodfriends.org
SUMMARY:MEN'S LIFEGROUP
DESCRIPTION:Men’s LifeGroupWhen: Every Tuesday night\, 6:15 PM – 7:30 PMWhere: Pastor Donnie’s Office\, Neighborhood Friends Church \nJoin us for an engaging time of fellowship\, study\, and discussion as we grow together in our faith. Whether you’re a regular or a first-time visitor\, you’re welcome to dive into God’s Word with us. We look forward to seeing you there! \nContact: dhinshaw@neighborhoodfriends.org
URL:https://neighborhoodfriends.org/event/mens-lifegroup-22/
LOCATION:Neighborhood Friends Church\, 9889 W 66th Ave\, Arvada\, CO\, United States
END:VEVENT
BEGIN:VEVENT
DTSTART;TZID=America/Denver:20250429T180000
DTEND;TZID=America/Denver:20250429T193000
DTSTAMP:20260425T091905
CREATED:20241130T170533Z
LAST-MODIFIED:20250429T130552Z
UID:4315-1745949600-1745955000@neighborhoodfriends.org
SUMMARY:WOMEN'S LIFEGROUP
DESCRIPTION:Women’s LifeGroupWhen: Every Tuesday night\, 6:00 PM – 7:30 PMWhere: Rhonda Hinshaw’s Home \nLadies\, join us for an uplifting time of fellowship and spiritual growth as we dive into God’s Word together. Whether you’re new to the group or a long-time participant\, we’d love to have you! \nContact: Rhonda Hinshaw at rhinshaw@neighborhoodfriends.org for more information and address
URL:https://neighborhoodfriends.org/event/womens-lifegroup-22/
LOCATION:CO
END:VEVENT
BEGIN:VEVENT
DTSTART;TZID=America/Denver:20250427T160000
DTEND;TZID=America/Denver:20250427T200000
DTSTAMP:20260425T091905
CREATED:20250413T161632Z
LAST-MODIFIED:20250413T161709Z
UID:4811-1745769600-1745784000@neighborhoodfriends.org
SUMMARY:Jesu Cristo Rey de Reyes Church (Spanish Worship Service)
DESCRIPTION:
URL:https://neighborhoodfriends.org/event/jesu-cristo-rey-de-reyes-church-spanish-worship-service-4/
LOCATION:CO
END:VEVENT
BEGIN:VEVENT
DTSTART;TZID=America/Denver:20250427T160000
DTEND;TZID=America/Denver:20250427T200000
DTSTAMP:20260425T091905
CREATED:20241217T143248Z
LAST-MODIFIED:20241217T143248Z
UID:4640-1745769600-1745784000@neighborhoodfriends.org
SUMMARY:Jesu cristo Rey de Reyes Service
DESCRIPTION:Join with Google Meet: https://meet.google.com/xmh-xhke-oyg\nOr dial: (US) +1 260-557-1985 PIN: 521074753#\nMore phone numbers: https://tel.meet/xmh-xhke-oyg?pin=8120562656953&hs=7\nLearn more about Meet at: https://support.google.com/a/users/answer/9282720
URL:https://neighborhoodfriends.org/event/jesu-cristo-rey-de-reyes-service-17/
LOCATION:CO
ORGANIZER;CN="mbins@neighborhoodfriends.org":MAILTO:mbins@neighborhoodfriends.org
END:VEVENT
BEGIN:VEVENT
DTSTART;TZID=America/Denver:20250427T100000
DTEND;TZID=America/Denver:20250427T120000
DTSTAMP:20260425T091905
CREATED:20241130T170533Z
LAST-MODIFIED:20241217T143247Z
UID:4313-1745748000-1745755200@neighborhoodfriends.org
SUMMARY:SUNDAY WORSHIP GATHERING
DESCRIPTION:Sunday Worship GatheringWhen: Sundays at Neighborhood Friends Church \n\n10:00 AM – Coffee and Pastries\n10:30 AM – Worship and Teaching\n\nJoin us for a meaningful Sunday morning filled with worship\, teaching\, and community. Kids from Littles through 5th Grade can enjoy their own engaging teaching and activities following the worship set. We look forward to worshiping with you!  For more information: info@neighborhoodfriends.org
URL:https://neighborhoodfriends.org/event/sunday-worship-gathering-22/
LOCATION:Neighborhood Friends Church\, 9889 W 66th Ave\, Arvada\, CO\, United States
END:VEVENT
BEGIN:VEVENT
DTSTART;TZID=America/Denver:20250427T100000
DTEND;TZID=America/Denver:20250427T113000
DTSTAMP:20260425T091905
CREATED:20250413T161630Z
LAST-MODIFIED:20250413T161707Z
UID:4810-1745748000-1745753400@neighborhoodfriends.org
SUMMARY:SUNDAY WORSHIP GATHERING
DESCRIPTION:Sunday Worship Gathering🗓 Every Sunday☕ 10:00 AM – Coffee & Fellowship⏰ 10:30 AM – Worship Gathering📍 Neighborhood Friends Church\, Arvada\, CO \nCome early at 10:00 AM to connect over coffee and fellowship before we begin worship at 10:30. NKids Church is available for children (toddlers through 5th grade). Check in your kids at the NKids Desk in the lobby before service starts\, and they’ll join us for the first worship set before being dismissed to NKids Church. \nJoin us as we come together to worship\, grow\, and share in Christ’s love. See you there!
URL:https://neighborhoodfriends.org/event/sunday-worship-gathering-37/
LOCATION:Neighborhood Friends Church\, 9889 W 66th Ave\, Arvada\, CO\, United States
END:VEVENT
BEGIN:VEVENT
DTSTART;TZID=America/Denver:20250426T070000
DTEND;TZID=America/Denver:20250426T083000
DTSTAMP:20260425T091905
CREATED:20241130T170532Z
LAST-MODIFIED:20241130T170532Z
UID:4312-1745650800-1745656200@neighborhoodfriends.org
SUMMARY:MEN'S COFFEE LIFEGROUP
DESCRIPTION:Men’s CoffeeWhen: Every Saturday morning\, 7:00 AMWhere: Red Silo Coffee\, Arvada \nStart your weekend with a cup of coffee and great conversation about life and Jesus. This is a casual\, welcoming space for men to connect\, share\, and grow together. \nContact: dstooke@neighborhoodfriends.org for more details.
URL:https://neighborhoodfriends.org/event/mens-coffee-lifegroup-90/
LOCATION:Red Silo Coffee Roasters\, 6590 Holman St\, Arvada\, CO\, United States
END:VEVENT
BEGIN:VEVENT
DTSTART;TZID=America/Denver:20250424T180000
DTEND;TZID=America/Denver:20250424T193000
DTSTAMP:20260425T091905
CREATED:20241130T170532Z
LAST-MODIFIED:20250413T161702Z
UID:4311-1745517600-1745523000@neighborhoodfriends.org
SUMMARY:VINTAGE FRIENDS LIFEGROUP
DESCRIPTION:Vintage Friends LifeGroupWhen: Every Thursday night\, 6:00 PM – 7:30 PMWhere: Online via Zoom \nThis LifeGroup is tailored for seniors (55+) seeking fellowship\, encouragement\, and spiritual growth in a supportive and welcoming environment. Led by Pastor John Hinshaw\, it’s a great opportunity to connect with others and deepen your faith from the comfort of your home. \nContact: Pastor John Hinshaw at jhinshaw@neighborhoodfriends.org for the Zoom link and more information.
URL:https://neighborhoodfriends.org/event/vintage-friends-lifegroup-21/
LOCATION:CO
END:VEVENT
BEGIN:VEVENT
DTSTART;TZID=America/Denver:20250423T183000
DTEND;TZID=America/Denver:20250423T200000
DTSTAMP:20260425T091905
CREATED:20241130T170532Z
LAST-MODIFIED:20250413T161648Z
UID:4310-1745433000-1745438400@neighborhoodfriends.org
SUMMARY:NEIGHBORHOOD YOUTH
DESCRIPTION:Neighborhood YouthWhen: Every Wednesday night\, 6:30 PMWhere: Neighborhood Friends Church \nCalling all students in grades 6–12! Join us for an exciting evening of fun\, connection\, and spiritual growth. Come hang out with friends\, play games\, and explore what it means to follow Jesus in your everyday life. \nContact: Pastor Jake Stooke at jstooke@neighborhoodfriends.org for more details.
URL:https://neighborhoodfriends.org/event/neighborhood-youth-21/
LOCATION:Neighborhood Friends Church\, 9889 W 66th Ave\, Arvada\, CO\, United States
END:VEVENT
BEGIN:VEVENT
DTSTART;TZID=America/Denver:20250422T183000
DTEND;TZID=America/Denver:20250422T200000
DTSTAMP:20260425T091905
CREATED:20241130T170531Z
LAST-MODIFIED:20250413T161645Z
UID:4309-1745346600-1745352000@neighborhoodfriends.org
SUMMARY:YOUNG ADULTS LIFEGROUP
DESCRIPTION:Neighborhood Young AdultsWhen: Every Tuesday night\, 6:30 PM – 8:00 PM  Where: Various homes and locations   \nYoung adults\, this is your space to connect\, grow\, and build meaningful community! Each week\, we gather to share life\, dive into God’s Word\, and encourage one another in our faith journeys.   \nContact: Jordan Nockels at jnockels@neighborhoodfriends.org for this week’s location and more details.
URL:https://neighborhoodfriends.org/event/neighborhood-young-adults-21/
LOCATION:CO
END:VEVENT
BEGIN:VEVENT
DTSTART;TZID=America/Denver:20250422T181500
DTEND;TZID=America/Denver:20250422T193000
DTSTAMP:20260425T091905
CREATED:20241130T170531Z
LAST-MODIFIED:20250413T161647Z
UID:4307-1745345700-1745350200@neighborhoodfriends.org
SUMMARY:MEN'S LIFEGROUP
DESCRIPTION:Men’s LifeGroupWhen: Every Tuesday night\, 6:15 PM – 7:30 PMWhere: Pastor Donnie’s Office\, Neighborhood Friends Church \nJoin us for an engaging time of fellowship\, study\, and discussion as we grow together in our faith. Whether you’re a regular or a first-time visitor\, you’re welcome to dive into God’s Word with us. We look forward to seeing you there! \nContact: dhinshaw@neighborhoodfriends.org
URL:https://neighborhoodfriends.org/event/mens-lifegroup-21/
LOCATION:Neighborhood Friends Church\, 9889 W 66th Ave\, Arvada\, CO\, United States
END:VEVENT
BEGIN:VEVENT
DTSTART;TZID=America/Denver:20250422T180000
DTEND;TZID=America/Denver:20250422T193000
DTSTAMP:20260425T091905
CREATED:20241130T170531Z
LAST-MODIFIED:20250413T161644Z
UID:4308-1745344800-1745350200@neighborhoodfriends.org
SUMMARY:WOMEN'S LIFEGROUP
DESCRIPTION:Women’s LifeGroupWhen: Every Tuesday night\, 6:00 PM – 7:30 PMWhere: Rhonda Hinshaw’s Home \nLadies\, join us for an uplifting time of fellowship and spiritual growth as we dive into God’s Word together. Whether you’re new to the group or a long-time participant\, we’d love to have you! \nContact: Rhonda Hinshaw at rhinshaw@neighborhoodfriends.org for more information and address
URL:https://neighborhoodfriends.org/event/womens-lifegroup-21/
LOCATION:CO
END:VEVENT
BEGIN:VEVENT
DTSTART;TZID=America/Denver:20250420T160000
DTEND;TZID=America/Denver:20250420T200000
DTSTAMP:20260425T091905
CREATED:20250413T161622Z
LAST-MODIFIED:20250413T161643Z
UID:4809-1745164800-1745179200@neighborhoodfriends.org
SUMMARY:Jesu Cristo Rey de Reyes Church (Spanish Worship Service)
DESCRIPTION:
URL:https://neighborhoodfriends.org/event/jesu-cristo-rey-de-reyes-church-spanish-worship-service-3/
LOCATION:CO
END:VEVENT
BEGIN:VEVENT
DTSTART;TZID=America/Denver:20250420T160000
DTEND;TZID=America/Denver:20250420T200000
DTSTAMP:20260425T091905
CREATED:20241217T143246Z
LAST-MODIFIED:20241217T143246Z
UID:4639-1745164800-1745179200@neighborhoodfriends.org
SUMMARY:Jesu cristo Rey de Reyes Service
DESCRIPTION:Join with Google Meet: https://meet.google.com/xmh-xhke-oyg\nOr dial: (US) +1 260-557-1985 PIN: 521074753#\nMore phone numbers: https://tel.meet/xmh-xhke-oyg?pin=8120562656953&hs=7\nLearn more about Meet at: https://support.google.com/a/users/answer/9282720
URL:https://neighborhoodfriends.org/event/jesu-cristo-rey-de-reyes-service-16/
LOCATION:CO
ORGANIZER;CN="mbins@neighborhoodfriends.org":MAILTO:mbins@neighborhoodfriends.org
END:VEVENT
BEGIN:VEVENT
DTSTART;TZID=America/Denver:20250420T100000
DTEND;TZID=America/Denver:20250420T120000
DTSTAMP:20260425T091905
CREATED:20241130T170530Z
LAST-MODIFIED:20241217T143246Z
UID:4306-1745143200-1745150400@neighborhoodfriends.org
SUMMARY:SUNDAY WORSHIP GATHERING
DESCRIPTION:Sunday Worship GatheringWhen: Sundays at Neighborhood Friends Church \n\n10:00 AM – Coffee and Pastries\n10:30 AM – Worship and Teaching\n\nJoin us for a meaningful Sunday morning filled with worship\, teaching\, and community. Kids from Littles through 5th Grade can enjoy their own engaging teaching and activities following the worship set. We look forward to worshiping with you!  For more information: info@neighborhoodfriends.org
URL:https://neighborhoodfriends.org/event/sunday-worship-gathering-21/
LOCATION:Neighborhood Friends Church\, 9889 W 66th Ave\, Arvada\, CO\, United States
END:VEVENT
BEGIN:VEVENT
DTSTART;TZID=America/Denver:20250420T100000
DTEND;TZID=America/Denver:20250420T113000
DTSTAMP:20260425T091905
CREATED:20250413T161621Z
LAST-MODIFIED:20250413T161642Z
UID:4808-1745143200-1745148600@neighborhoodfriends.org
SUMMARY:EASTER SUNDAY AT NEIGHBORHOOD FRIENDS
DESCRIPTION:Sunday\, April 20th10:00 AM – Coffee & Pastries10:30 AM – Worship & NKids Ministry \nCome celebrate the greatest story ever told—the resurrection of Jesus! This Easter\, we’ll wrap up our “Too Good to Be Secret” series with a powerful message: “A Story Too Good to Be Secret.” \nExperience joyful worship\, a life-changing message\, and a welcoming community as we celebrate the hope and victory of Easter. \nBring your family and friends—all are welcome! 
URL:https://neighborhoodfriends.org/event/easter-sunday-at-neighborhood-friends/
LOCATION:Neighborhood Friends Church\, 9889 W 66th Ave\, Arvada\, CO\, United States
END:VEVENT
BEGIN:VEVENT
DTSTART;TZID=America/Denver:20250419T100000
DTEND;TZID=America/Denver:20250419T120000
DTSTAMP:20260425T091905
CREATED:20250413T161620Z
LAST-MODIFIED:20250413T161641Z
UID:4807-1745056800-1745064000@neighborhoodfriends.org
SUMMARY:Neighborhood Friends Annual Easter Egg Hunt
DESCRIPTION:Neighborhood Friends Annual Easter Egg Hunt 🐣🎉 \n📅 Saturday\, April 19th🕙 10:00 AM📍 Neighborhood Friends Church \nJoin us for a crazy fun outreach event for our community! Bring your friends and family for a morning filled with excitement as we give out over 10\,000 eggs and celebrate the true hope of Easter. This isn’t just about eggs and bunnies—it’s about sharing the Good News that lasts beyond the holiday. \nDon’t miss this incredible opportunity to connect\, celebrate\, and spread joy in our community. See you there! 🎊
URL:https://neighborhoodfriends.org/event/neighborhood-friends-annual-easter-egg-hunt/
LOCATION:CO
END:VEVENT
BEGIN:VEVENT
DTSTART;TZID=America/Denver:20250419T070000
DTEND;TZID=America/Denver:20250419T083000
DTSTAMP:20260425T091905
CREATED:20241130T170530Z
LAST-MODIFIED:20241130T170530Z
UID:4305-1745046000-1745051400@neighborhoodfriends.org
SUMMARY:MEN'S COFFEE LIFEGROUP
DESCRIPTION:Men’s CoffeeWhen: Every Saturday morning\, 7:00 AMWhere: Red Silo Coffee\, Arvada \nStart your weekend with a cup of coffee and great conversation about life and Jesus. This is a casual\, welcoming space for men to connect\, share\, and grow together. \nContact: dstooke@neighborhoodfriends.org for more details.
URL:https://neighborhoodfriends.org/event/mens-coffee-lifegroup-89/
LOCATION:Red Silo Coffee Roasters\, 6590 Holman St\, Arvada\, CO\, United States
END:VEVENT
BEGIN:VEVENT
DTSTART;TZID=America/Denver:20250418T180000
DTEND;TZID=America/Denver:20250418T193000
DTSTAMP:20260425T091905
CREATED:20250413T161619Z
LAST-MODIFIED:20250413T161637Z
UID:4806-1744999200-1745004600@neighborhoodfriends.org
SUMMARY:Good Friday Worship Gathering
DESCRIPTION:Good Friday Worship & Communion Gathering \nJoin us for one of the most impactful worship gatherings of the year as we solemnly reflect on the sacrifice Jesus made by going to the cross\, paying the penalty for our sins so that we could experience resurrection and a future of hope. \nThis sacred evening will be centered on worship\, communion\, and prayer as we remember His suffering and the depth of His love for us. \n📅 Friday\, April 18th🕕 6:00 PM📍 Neighborhood Friends Church \nCome with a heart ready to reflect and worship as we prepare for the hope of Easter Sunday.
URL:https://neighborhoodfriends.org/event/good-friday-worship-gathering/
LOCATION:CO
END:VEVENT
BEGIN:VEVENT
DTSTART;TZID=America/Denver:20250417T180000
DTEND;TZID=America/Denver:20250417T193000
DTSTAMP:20260425T091905
CREATED:20241130T170529Z
LAST-MODIFIED:20250413T161620Z
UID:4304-1744912800-1744918200@neighborhoodfriends.org
SUMMARY:VINTAGE FRIENDS LIFEGROUP
DESCRIPTION:Vintage Friends LifeGroupWhen: Every Thursday night\, 6:00 PM – 7:30 PMWhere: Online via Zoom \nThis LifeGroup is tailored for seniors (55+) seeking fellowship\, encouragement\, and spiritual growth in a supportive and welcoming environment. Led by Pastor John Hinshaw\, it’s a great opportunity to connect with others and deepen your faith from the comfort of your home. \nContact: Pastor John Hinshaw at jhinshaw@neighborhoodfriends.org for the Zoom link and more information.
URL:https://neighborhoodfriends.org/event/vintage-friends-lifegroup-20/
LOCATION:CO
END:VEVENT
END:VCALENDAR