BEGIN:VCALENDAR
VERSION:2.0
PRODID:-//Neighborhood Friends Church - ECPv6.15.20//NONSGML v1.0//EN
CALSCALE:GREGORIAN
METHOD:PUBLISH
X-ORIGINAL-URL:https://neighborhoodfriends.org
X-WR-CALDESC:Events for Neighborhood Friends Church
REFRESH-INTERVAL;VALUE=DURATION:PT1H
X-Robots-Tag:noindex
X-PUBLISHED-TTL:PT1H
BEGIN:VTIMEZONE
TZID:America/Denver
BEGIN:DAYLIGHT
TZOFFSETFROM:-0700
TZOFFSETTO:-0600
TZNAME:MDT
DTSTART:20240310T090000
END:DAYLIGHT
BEGIN:STANDARD
TZOFFSETFROM:-0600
TZOFFSETTO:-0700
TZNAME:MST
DTSTART:20241103T080000
END:STANDARD
BEGIN:DAYLIGHT
TZOFFSETFROM:-0700
TZOFFSETTO:-0600
TZNAME:MDT
DTSTART:20250309T090000
END:DAYLIGHT
BEGIN:STANDARD
TZOFFSETFROM:-0600
TZOFFSETTO:-0700
TZNAME:MST
DTSTART:20251102T080000
END:STANDARD
BEGIN:DAYLIGHT
TZOFFSETFROM:-0700
TZOFFSETTO:-0600
TZNAME:MDT
DTSTART:20260308T090000
END:DAYLIGHT
BEGIN:STANDARD
TZOFFSETFROM:-0600
TZOFFSETTO:-0700
TZNAME:MST
DTSTART:20261101T080000
END:STANDARD
END:VTIMEZONE
BEGIN:VEVENT
DTSTART;TZID=America/Denver:20250802T080000
DTEND;TZID=America/Denver:20250803T110000
DTSTAMP:20260423T191459
CREATED:20250413T161821Z
LAST-MODIFIED:20250716T041151Z
UID:4866-1754121600-1754218800@neighborhoodfriends.org
SUMMARY:Neighborhood Friends Workday
DESCRIPTION:Join us as we work together to care for our church! Whether inside or outside\, there’s something for everyone\, and your help makes a big difference. Come ready to serve and enjoy fellowship as we take care of God’s house. \nSaturday\, August 2\, 2025 – Outdoor Refresh  \n\nParking lot\, planters\, fertilizing\, and upkeep.\n\nWe appreciate all who can lend a hand—whether for an hour or the whole time. Let’s keep our church a welcoming place for all!   \nStay tuned for more details as each date approaches.
URL:https://neighborhoodfriends.org/event/neighborhood-friends-workday-2/
LOCATION:Neighborhood Friends Church\, 9889 W 66th Ave\, Arvada\, CO\, United States
END:VEVENT
BEGIN:VEVENT
DTSTART;TZID=America/Denver:20250803T100000
DTEND;TZID=America/Denver:20250803T113000
DTSTAMP:20260423T191459
CREATED:20250413T161822Z
LAST-MODIFIED:20250716T041153Z
UID:4867-1754215200-1754220600@neighborhoodfriends.org
SUMMARY:SUNDAY WORSHIP GATHERING
DESCRIPTION:Sunday Worship Gathering🗓 Every Sunday☕ 10:00 AM – Coffee & Fellowship⏰ 10:30 AM – Worship Gathering📍 Neighborhood Friends Church\, Arvada\, CO \nCome early at 10:00 AM to connect over coffee and fellowship before we begin worship at 10:30. NKids Church is available for children (toddlers through 5th grade). Check in your kids at the NKids Desk in the lobby before service starts\, and they’ll join us for the first worship set before being dismissed to NKids Church. \nJoin us as we come together to worship\, grow\, and share in Christ’s love. See you there!
URL:https://neighborhoodfriends.org/event/sunday-worship-gathering-155/
LOCATION:Neighborhood Friends Church\, 9889 W 66th Ave\, Arvada\, CO\, United States
END:VEVENT
BEGIN:VEVENT
DTSTART;TZID=America/Denver:20250803T160000
DTEND;TZID=America/Denver:20250803T200000
DTSTAMP:20260423T191459
CREATED:20250413T161822Z
LAST-MODIFIED:20250716T041155Z
UID:4868-1754236800-1754251200@neighborhoodfriends.org
SUMMARY:Jesu Cristo Rey de Reyes Church (Spanish Worship Service)
DESCRIPTION:
URL:https://neighborhoodfriends.org/event/jesu-cristo-rey-de-reyes-church-spanish-worship-service-18/
END:VEVENT
BEGIN:VEVENT
DTSTART;TZID=America/Denver:20250804T180000
DTEND;TZID=America/Denver:20250804T190000
DTSTAMP:20260423T191459
CREATED:20250413T161824Z
LAST-MODIFIED:20250716T041156Z
UID:4869-1754330400-1754334000@neighborhoodfriends.org
SUMMARY:SPIRITUAL LIFE MEETING (ONLINE)
DESCRIPTION:A monthly spiritual life board (elders) meeting online to discuss spiritual health\, vision\, needs\, and leadership. Contact: Doug Stooke: dstooke@neighborhoodfriends.org\nJoin with Google Meet: https://meet.google.com/efj-aqzf-imr\nOr dial: (US) +1 417-448-6105 PIN: 254404595#\nMore phone numbers: https://tel.meet/efj-aqzf-imr?pin=6224438130198&hs=7\nLearn more about Meet at: https://support.google.com/a/users/answer/9282720
URL:https://neighborhoodfriends.org/event/spiritual-life-meeting-online-22/
ORGANIZER;CN="Donnie Hinshaw":MAILTO:dhinshaw@neighborhoodfriends.org
END:VEVENT
BEGIN:VEVENT
DTSTART;TZID=America/Denver:20250805T180000
DTEND;TZID=America/Denver:20250805T193000
DTSTAMP:20260423T191459
CREATED:20250413T161825Z
LAST-MODIFIED:20250716T041158Z
UID:4871-1754416800-1754422200@neighborhoodfriends.org
SUMMARY:WOMEN'S LIFEGROUP
DESCRIPTION:Women’s LifeGroupWhen: Every Tuesday night\, 6:00 PM – 7:30 PMWhere: Rhonda Hinshaw’s Home \nLadies\, join us for an uplifting time of fellowship and spiritual growth as we dive into God’s Word together. Whether you’re new to the group or a long-time participant\, we’d love to have you! \nContact: Rhonda Hinshaw at rhinshaw@neighborhoodfriends.org for more information and address
URL:https://neighborhoodfriends.org/event/womens-lifegroup-36/
END:VEVENT
BEGIN:VEVENT
DTSTART;TZID=America/Denver:20250805T181500
DTEND;TZID=America/Denver:20250805T193000
DTSTAMP:20260423T191459
CREATED:20250413T161826Z
LAST-MODIFIED:20250716T041159Z
UID:4872-1754417700-1754422200@neighborhoodfriends.org
SUMMARY:MEN'S LIFEGROUP
DESCRIPTION:Men’s LifeGroupWhen: Every Tuesday night\, 6:15 PM – 7:30 PMWhere: Pastor Donnie’s Office\, Neighborhood Friends Church \nJoin us for an engaging time of fellowship\, study\, and discussion as we grow together in our faith. Whether you’re a regular or a first-time visitor\, you’re welcome to dive into God’s Word with us. We look forward to seeing you there! \nContact: dhinshaw@neighborhoodfriends.org
URL:https://neighborhoodfriends.org/event/mens-lifegroup-36/
LOCATION:Neighborhood Friends Church\, 9889 W 66th Ave\, Arvada\, CO\, United States
END:VEVENT
BEGIN:VEVENT
DTSTART;TZID=America/Denver:20250805T183000
DTEND;TZID=America/Denver:20250805T200000
DTSTAMP:20260423T191459
CREATED:20250413T161825Z
LAST-MODIFIED:20250716T041201Z
UID:4870-1754418600-1754424000@neighborhoodfriends.org
SUMMARY:YOUNG ADULTS LIFEGROUP
DESCRIPTION:Neighborhood Young AdultsWhen: Every Tuesday night\, 6:30 PM – 8:00 PM  Where: Various homes and locations   \nYoung adults\, this is your space to connect\, grow\, and build meaningful community! Each week\, we gather to share life\, dive into God’s Word\, and encourage one another in our faith journeys.   \nContact: Jordan Nockels at jnockels@neighborhoodfriends.org for this week’s location and more details.
URL:https://neighborhoodfriends.org/event/young-adults-lifegroup-10/
END:VEVENT
BEGIN:VEVENT
DTSTART;TZID=America/Denver:20250806T183000
DTEND;TZID=America/Denver:20250806T200000
DTSTAMP:20260423T191459
CREATED:20250413T161826Z
LAST-MODIFIED:20250716T041204Z
UID:4873-1754505000-1754510400@neighborhoodfriends.org
SUMMARY:NEIGHBORHOOD YOUTH
DESCRIPTION:Neighborhood YouthWhen: Every Wednesday night\, 6:30 PMWhere: Neighborhood Friends Church \nCalling all students in grades 6–12! Join us for an exciting evening of fun\, connection\, and spiritual growth. Come hang out with friends\, play games\, and explore what it means to follow Jesus in your everyday life. \nContact: Pastor Jake Stooke at jstooke@neighborhoodfriends.org for more details.
URL:https://neighborhoodfriends.org/event/neighborhood-youth-36/
LOCATION:Neighborhood Friends Church\, 9889 W 66th Ave\, Arvada\, CO\, United States
END:VEVENT
BEGIN:VEVENT
DTSTART;TZID=America/Denver:20250807T180000
DTEND;TZID=America/Denver:20250807T193000
DTSTAMP:20260423T191459
CREATED:20250413T161827Z
LAST-MODIFIED:20250716T041211Z
UID:4874-1754589600-1754595000@neighborhoodfriends.org
SUMMARY:VINTAGE FRIENDS LIFEGROUP
DESCRIPTION:Vintage Friends LifeGroupWhen: Every Thursday night\, 6:00 PM – 7:30 PMWhere: Online via Zoom \nThis LifeGroup is tailored for seniors (55+) seeking fellowship\, encouragement\, and spiritual growth in a supportive and welcoming environment. Led by Pastor John Hinshaw\, it’s a great opportunity to connect with others and deepen your faith from the comfort of your home. \nContact: Pastor John Hinshaw at jhinshaw@neighborhoodfriends.org for the Zoom link and more information.
URL:https://neighborhoodfriends.org/event/vintage-friends-lifegroup-36/
END:VEVENT
BEGIN:VEVENT
DTSTART;TZID=America/Denver:20250810T100000
DTEND;TZID=America/Denver:20250810T113000
DTSTAMP:20260423T191459
CREATED:20250413T161828Z
LAST-MODIFIED:20250716T041214Z
UID:4875-1754820000-1754825400@neighborhoodfriends.org
SUMMARY:SUNDAY WORSHIP GATHERING
DESCRIPTION:Sunday Worship Gathering🗓 Every Sunday☕ 10:00 AM – Coffee & Fellowship⏰ 10:30 AM – Worship Gathering📍 Neighborhood Friends Church\, Arvada\, CO \nCome early at 10:00 AM to connect over coffee and fellowship before we begin worship at 10:30. NKids Church is available for children (toddlers through 5th grade). Check in your kids at the NKids Desk in the lobby before service starts\, and they’ll join us for the first worship set before being dismissed to NKids Church. \nJoin us as we come together to worship\, grow\, and share in Christ’s love. See you there!
URL:https://neighborhoodfriends.org/event/sunday-worship-gathering-156/
LOCATION:Neighborhood Friends Church\, 9889 W 66th Ave\, Arvada\, CO\, United States
END:VEVENT
BEGIN:VEVENT
DTSTART;TZID=America/Denver:20250810T160000
DTEND;TZID=America/Denver:20250810T200000
DTSTAMP:20260423T191459
CREATED:20250413T161831Z
LAST-MODIFIED:20250716T041216Z
UID:4876-1754841600-1754856000@neighborhoodfriends.org
SUMMARY:Jesu Cristo Rey de Reyes Church (Spanish Worship Service)
DESCRIPTION:
URL:https://neighborhoodfriends.org/event/jesu-cristo-rey-de-reyes-church-spanish-worship-service-19/
END:VEVENT
BEGIN:VEVENT
DTSTART;TZID=America/Denver:20250812T180000
DTEND;TZID=America/Denver:20250812T193000
DTSTAMP:20260423T191459
CREATED:20250413T161832Z
LAST-MODIFIED:20250716T041224Z
UID:4877-1755021600-1755027000@neighborhoodfriends.org
SUMMARY:WOMEN'S LIFEGROUP
DESCRIPTION:Women’s LifeGroupWhen: Every Tuesday night\, 6:00 PM – 7:30 PMWhere: Rhonda Hinshaw’s Home \nLadies\, join us for an uplifting time of fellowship and spiritual growth as we dive into God’s Word together. Whether you’re new to the group or a long-time participant\, we’d love to have you! \nContact: Rhonda Hinshaw at rhinshaw@neighborhoodfriends.org for more information and address
URL:https://neighborhoodfriends.org/event/womens-lifegroup-37/
END:VEVENT
BEGIN:VEVENT
DTSTART;TZID=America/Denver:20250812T181500
DTEND;TZID=America/Denver:20250812T193000
DTSTAMP:20260423T191459
CREATED:20250413T161832Z
LAST-MODIFIED:20250716T041221Z
UID:4878-1755022500-1755027000@neighborhoodfriends.org
SUMMARY:MEN'S LIFEGROUP
DESCRIPTION:Men’s LifeGroupWhen: Every Tuesday night\, 6:15 PM – 7:30 PMWhere: Pastor Donnie’s Office\, Neighborhood Friends Church \nJoin us for an engaging time of fellowship\, study\, and discussion as we grow together in our faith. Whether you’re a regular or a first-time visitor\, you’re welcome to dive into God’s Word with us. We look forward to seeing you there! \nContact: dhinshaw@neighborhoodfriends.org
URL:https://neighborhoodfriends.org/event/mens-lifegroup-37/
LOCATION:Neighborhood Friends Church\, 9889 W 66th Ave\, Arvada\, CO\, United States
END:VEVENT
BEGIN:VEVENT
DTSTART;TZID=America/Denver:20250812T183000
DTEND;TZID=America/Denver:20250812T200000
DTSTAMP:20260423T191459
CREATED:20250413T161833Z
LAST-MODIFIED:20250716T041218Z
UID:4879-1755023400-1755028800@neighborhoodfriends.org
SUMMARY:YOUNG ADULTS LIFEGROUP
DESCRIPTION:Neighborhood Young AdultsWhen: Every Tuesday night\, 6:30 PM – 8:00 PM  Where: Various homes and locations   \nYoung adults\, this is your space to connect\, grow\, and build meaningful community! Each week\, we gather to share life\, dive into God’s Word\, and encourage one another in our faith journeys.   \nContact: Jordan Nockels at jnockels@neighborhoodfriends.org for this week’s location and more details.
URL:https://neighborhoodfriends.org/event/young-adults-lifegroup-11/
END:VEVENT
BEGIN:VEVENT
DTSTART;TZID=America/Denver:20250813T183000
DTEND;TZID=America/Denver:20250813T200000
DTSTAMP:20260423T191459
CREATED:20250413T161834Z
LAST-MODIFIED:20250813T225239Z
UID:4880-1755109800-1755115200@neighborhoodfriends.org
SUMMARY:NEIGHBORHOOD YOUTH
DESCRIPTION:Neighborhood YouthWhen: Every Wednesday night\, 6:30 PMWhere: Neighborhood Friends Church \nCalling all students in grades 6–12! Join us for an exciting evening of fun\, connection\, and spiritual growth. Come hang out with friends\, play games\, and explore what it means to follow Jesus in your everyday life. \nContact: Pastor Jake Stooke at jstooke@neighborhoodfriends.org for more details.
URL:https://neighborhoodfriends.org/event/neighborhood-youth-37/
LOCATION:Neighborhood Friends Church\, 9889 W 66th Ave\, Arvada\, CO\, United States
END:VEVENT
BEGIN:VEVENT
DTSTART;TZID=America/Denver:20250814T180000
DTEND;TZID=America/Denver:20250814T193000
DTSTAMP:20260423T191459
CREATED:20250413T161835Z
LAST-MODIFIED:20250813T225243Z
UID:4881-1755194400-1755199800@neighborhoodfriends.org
SUMMARY:VINTAGE FRIENDS LIFEGROUP
DESCRIPTION:Vintage Friends LifeGroupWhen: Every Thursday night\, 6:00 PM – 7:30 PMWhere: Online via Zoom \nThis LifeGroup is tailored for seniors (55+) seeking fellowship\, encouragement\, and spiritual growth in a supportive and welcoming environment. Led by Pastor John Hinshaw\, it’s a great opportunity to connect with others and deepen your faith from the comfort of your home. \nContact: Pastor John Hinshaw at jhinshaw@neighborhoodfriends.org for the Zoom link and more information.
URL:https://neighborhoodfriends.org/event/vintage-friends-lifegroup-37/
END:VEVENT
BEGIN:VEVENT
DTSTART;TZID=America/Denver:20250815T180000
DTEND;TZID=America/Denver:20250815T200000
DTSTAMP:20260423T191459
CREATED:20250813T225245Z
LAST-MODIFIED:20250813T225245Z
UID:5838-1755280800-1755288000@neighborhoodfriends.org
SUMMARY:Men’s Meat Night
DESCRIPTION:Men’s Meat Night\nFriday\, July 11 | 6:00 PM \nBrian Kooser’s Backyard \n6248 Braun Circle Arvada\, CO 80004 United States\nIt’s back! Calling all guys — join us for a chill evening of grilled meat (Bring your favorite cut of meat and we’ll grill it)\, good conversation\, and great company. Whether you’re new or have been around for years\, this is a great way to connect. \nBring a friend — and maybe your favorite cut of meat to throw on the grill! No RSVP needed. Just show up hungry!
URL:https://neighborhoodfriends.org/event/mens-meat-night-3/
LOCATION:6248 Braun Cir\, Arvada\, CO\, United States
END:VEVENT
BEGIN:VEVENT
DTSTART;TZID=America/Denver:20250817T100000
DTEND;TZID=America/Denver:20250817T113000
DTSTAMP:20260423T191459
CREATED:20250413T161835Z
LAST-MODIFIED:20250816T231143Z
UID:4882-1755424800-1755430200@neighborhoodfriends.org
SUMMARY:SUNDAY WORSHIP GATHERING
DESCRIPTION:Sunday Worship Gathering🗓 Every Sunday☕ 10:00 AM – Coffee & Fellowship⏰ 10:30 AM – Worship Gathering📍 Neighborhood Friends Church\, Arvada\, CO \nCome early at 10:00 AM to connect over coffee and fellowship before we begin worship at 10:30. NKids Church is available for children (toddlers through 5th grade). Check in your kids at the NKids Desk in the lobby before service starts\, and they’ll join us for the first worship set before being dismissed to NKids Church. \nJoin us as we come together to worship\, grow\, and share in Christ’s love. See you there!
URL:https://neighborhoodfriends.org/event/sunday-worship-gathering-157/
LOCATION:Neighborhood Friends Church\, 9889 W 66th Ave\, Arvada\, CO\, United States
END:VEVENT
BEGIN:VEVENT
DTSTART;TZID=America/Denver:20250817T160000
DTEND;TZID=America/Denver:20250817T200000
DTSTAMP:20260423T191459
CREATED:20250413T161836Z
LAST-MODIFIED:20250816T231147Z
UID:4883-1755446400-1755460800@neighborhoodfriends.org
SUMMARY:Jesu Cristo Rey de Reyes Church (Spanish Worship Service)
DESCRIPTION:
URL:https://neighborhoodfriends.org/event/jesu-cristo-rey-de-reyes-church-spanish-worship-service-20/
END:VEVENT
BEGIN:VEVENT
DTSTART;TZID=America/Denver:20250819T180000
DTEND;TZID=America/Denver:20250819T193000
DTSTAMP:20260423T191459
CREATED:20250413T161837Z
LAST-MODIFIED:20250816T231151Z
UID:4885-1755626400-1755631800@neighborhoodfriends.org
SUMMARY:WOMEN'S LIFEGROUP
DESCRIPTION:Women’s LifeGroupWhen: Every Tuesday night\, 6:00 PM – 7:30 PMWhere: Rhonda Hinshaw’s Home \nLadies\, join us for an uplifting time of fellowship and spiritual growth as we dive into God’s Word together. Whether you’re new to the group or a long-time participant\, we’d love to have you! \nContact: Rhonda Hinshaw at rhinshaw@neighborhoodfriends.org for more information and address
URL:https://neighborhoodfriends.org/event/womens-lifegroup-38/
END:VEVENT
BEGIN:VEVENT
DTSTART;TZID=America/Denver:20250819T181500
DTEND;TZID=America/Denver:20250819T193000
DTSTAMP:20260423T191459
CREATED:20250413T161838Z
LAST-MODIFIED:20250816T231153Z
UID:4887-1755627300-1755631800@neighborhoodfriends.org
SUMMARY:MEN'S LIFEGROUP
DESCRIPTION:Men’s LifeGroupWhen: Every Tuesday night\, 6:15 PM – 7:30 PMWhere: Pastor Donnie’s Office\, Neighborhood Friends Church \nJoin us for an engaging time of fellowship\, study\, and discussion as we grow together in our faith. Whether you’re a regular or a first-time visitor\, you’re welcome to dive into God’s Word with us. We look forward to seeing you there! \nContact: dhinshaw@neighborhoodfriends.org
URL:https://neighborhoodfriends.org/event/mens-lifegroup-38/
LOCATION:Neighborhood Friends Church\, 9889 W 66th Ave\, Arvada\, CO\, United States
END:VEVENT
BEGIN:VEVENT
DTSTART;TZID=America/Denver:20250819T183000
DTEND;TZID=America/Denver:20250819T200000
DTSTAMP:20260423T191459
CREATED:20250413T161837Z
LAST-MODIFIED:20250816T231149Z
UID:4884-1755628200-1755633600@neighborhoodfriends.org
SUMMARY:YOUNG ADULTS LIFEGROUP
DESCRIPTION:Neighborhood Young AdultsWhen: Every Tuesday night\, 6:30 PM – 8:00 PM  Where: Various homes and locations   \nYoung adults\, this is your space to connect\, grow\, and build meaningful community! Each week\, we gather to share life\, dive into God’s Word\, and encourage one another in our faith journeys.   \nContact: Jordan Nockels at jnockels@neighborhoodfriends.org for this week’s location and more details.
URL:https://neighborhoodfriends.org/event/young-adults-lifegroup-12/
END:VEVENT
BEGIN:VEVENT
DTSTART;TZID=America/Denver:20250820T183000
DTEND;TZID=America/Denver:20250820T200000
DTSTAMP:20260423T191459
CREATED:20250413T161839Z
LAST-MODIFIED:20250816T231154Z
UID:4889-1755714600-1755720000@neighborhoodfriends.org
SUMMARY:NEIGHBORHOOD YOUTH
DESCRIPTION:Neighborhood YouthWhen: Every Wednesday night\, 6:30 PMWhere: Neighborhood Friends Church \nCalling all students in grades 6–12! Join us for an exciting evening of fun\, connection\, and spiritual growth. Come hang out with friends\, play games\, and explore what it means to follow Jesus in your everyday life. \nContact: Pastor Jake Stooke at jstooke@neighborhoodfriends.org for more details.
URL:https://neighborhoodfriends.org/event/neighborhood-youth-38/
LOCATION:Neighborhood Friends Church\, 9889 W 66th Ave\, Arvada\, CO\, United States
END:VEVENT
BEGIN:VEVENT
DTSTART;TZID=America/Denver:20250821T180000
DTEND;TZID=America/Denver:20250821T193000
DTSTAMP:20260423T191459
CREATED:20250413T161840Z
LAST-MODIFIED:20250816T231155Z
UID:4890-1755799200-1755804600@neighborhoodfriends.org
SUMMARY:VINTAGE FRIENDS LIFEGROUP
DESCRIPTION:Vintage Friends LifeGroupWhen: Every Thursday night\, 6:00 PM – 7:30 PMWhere: Online via Zoom \nThis LifeGroup is tailored for seniors (55+) seeking fellowship\, encouragement\, and spiritual growth in a supportive and welcoming environment. Led by Pastor John Hinshaw\, it’s a great opportunity to connect with others and deepen your faith from the comfort of your home. \nContact: Pastor John Hinshaw at jhinshaw@neighborhoodfriends.org for the Zoom link and more information.
URL:https://neighborhoodfriends.org/event/vintage-friends-lifegroup-38/
END:VEVENT
BEGIN:VEVENT
DTSTART;VALUE=DATE:20250823
DTEND;VALUE=DATE:20250824
DTSTAMP:20260423T191459
CREATED:20250526T232134Z
LAST-MODIFIED:20250816T231157Z
UID:5330-1755907200-1755993599@neighborhoodfriends.org
SUMMARY:Church Reserved for Wedding Reception (Hinshaw)
DESCRIPTION:
URL:https://neighborhoodfriends.org/event/church-reserved-for-wedding-reception-hinshaw/
END:VEVENT
BEGIN:VEVENT
DTSTART;TZID=America/Denver:20250823T150000
DTEND;TZID=America/Denver:20250823T170000
DTSTAMP:20260423T191459
CREATED:20250526T232135Z
LAST-MODIFIED:20250816T231156Z
UID:5331-1755961200-1755968400@neighborhoodfriends.org
SUMMARY:Wedding Reception Open House for Bryan & Lauren Gager
DESCRIPTION:Wedding Reception Open House for Bryan & Lauren Gager\nDate: Friday\, August 23\, 2025Time: 3:00–5:00 PMLocation: Neighborhood Friends ChurchDetails:Join us for a special open house celebration honoring Bryan & Lauren Gager! Our church family is invited to stop by and share in the joy of their marriage. We’ll have cake\, punch\, and sweet fellowship as we celebrate what God has joined together. \nCome and go as you’re able—let’s show Bryan and Lauren how loved they are by their church family!
URL:https://neighborhoodfriends.org/event/wedding-reception-open-house-for-bryan-lauren-gager/
LOCATION:Neighborhood Friends Church\, 9889 W 66th Ave\, Arvada\, CO\, United States
END:VEVENT
BEGIN:VEVENT
DTSTART;TZID=America/Denver:20250824T100000
DTEND;TZID=America/Denver:20250824T113000
DTSTAMP:20260423T191459
CREATED:20250413T161840Z
LAST-MODIFIED:20250816T231158Z
UID:4891-1756029600-1756035000@neighborhoodfriends.org
SUMMARY:SUNDAY WORSHIP GATHERING
DESCRIPTION:Sunday Worship Gathering🗓 Every Sunday☕ 10:00 AM – Coffee & Fellowship⏰ 10:30 AM – Worship Gathering📍 Neighborhood Friends Church\, Arvada\, CO \nCome early at 10:00 AM to connect over coffee and fellowship before we begin worship at 10:30. NKids Church is available for children (toddlers through 5th grade). Check in your kids at the NKids Desk in the lobby before service starts\, and they’ll join us for the first worship set before being dismissed to NKids Church. \nJoin us as we come together to worship\, grow\, and share in Christ’s love. See you there!
URL:https://neighborhoodfriends.org/event/sunday-worship-gathering-158/
LOCATION:Neighborhood Friends Church\, 9889 W 66th Ave\, Arvada\, CO\, United States
END:VEVENT
BEGIN:VEVENT
DTSTART;TZID=America/Denver:20250824T160000
DTEND;TZID=America/Denver:20250824T200000
DTSTAMP:20260423T191459
CREATED:20250413T161841Z
LAST-MODIFIED:20250816T231159Z
UID:4892-1756051200-1756065600@neighborhoodfriends.org
SUMMARY:Jesu Cristo Rey de Reyes Church (Spanish Worship Service)
DESCRIPTION:
URL:https://neighborhoodfriends.org/event/jesu-cristo-rey-de-reyes-church-spanish-worship-service-21/
END:VEVENT
BEGIN:VEVENT
DTSTART;TZID=America/Denver:20250826T180000
DTEND;TZID=America/Denver:20250826T193000
DTSTAMP:20260423T191459
CREATED:20250413T161842Z
LAST-MODIFIED:20250826T030036Z
UID:4894-1756231200-1756236600@neighborhoodfriends.org
SUMMARY:WOMEN'S LIFEGROUP
DESCRIPTION:Women’s LifeGroupWhen: Every Tuesday night\, 6:00 PM – 7:30 PMWhere: Rhonda Hinshaw’s Home \nLadies\, join us for an uplifting time of fellowship and spiritual growth as we dive into God’s Word together. Whether you’re new to the group or a long-time participant\, we’d love to have you! \nContact: Rhonda Hinshaw at rhinshaw@neighborhoodfriends.org for more information and address
URL:https://neighborhoodfriends.org/event/womens-lifegroup-39/
END:VEVENT
BEGIN:VEVENT
DTSTART;TZID=America/Denver:20250826T181500
DTEND;TZID=America/Denver:20250826T193000
DTSTAMP:20260423T191459
CREATED:20250413T161844Z
LAST-MODIFIED:20250826T030030Z
UID:4896-1756232100-1756236600@neighborhoodfriends.org
SUMMARY:MEN'S LIFEGROUP
DESCRIPTION:Men’s LifeGroupWhen: Every Tuesday night\, 6:15 PM – 7:30 PMWhere: Pastor Donnie’s Office\, Neighborhood Friends Church \nJoin us for an engaging time of fellowship\, study\, and discussion as we grow together in our faith. Whether you’re a regular or a first-time visitor\, you’re welcome to dive into God’s Word with us. We look forward to seeing you there! \nContact: dhinshaw@neighborhoodfriends.org
URL:https://neighborhoodfriends.org/event/mens-lifegroup-39/
LOCATION:Neighborhood Friends Church\, 9889 W 66th Ave\, Arvada\, CO\, United States
END:VEVENT
END:VCALENDAR